BEGIN:VCALENDAR
VERSION:2.0
PRODID:-//Burnett County, Wisconsin - ECPv6.15.20//NONSGML v1.0//EN
CALSCALE:GREGORIAN
METHOD:PUBLISH
X-WR-CALNAME:Burnett County, Wisconsin
X-ORIGINAL-URL:https://burnettcountyfun.com
X-WR-CALDESC:Events for Burnett County, Wisconsin
REFRESH-INTERVAL;VALUE=DURATION:PT1H
X-Robots-Tag:noindex
X-PUBLISHED-TTL:PT1H
BEGIN:VTIMEZONE
TZID:UTC
BEGIN:STANDARD
TZOFFSETFROM:+0000
TZOFFSETTO:+0000
TZNAME:UTC
DTSTART:20250101T000000
END:STANDARD
END:VTIMEZONE
BEGIN:VEVENT
DTSTART;TZID=UTC:20261023T180000
DTEND;TZID=UTC:20261023T190000
DTSTAMP:20260424T110740
CREATED:20230607T004130Z
LAST-MODIFIED:20230731T051425Z
UID:10000751-1792778400-1792782000@burnettcountyfun.com
SUMMARY:Meat Raffle | Hummers Rendezvous
DESCRIPTION:Meat Raffle | Hummer’s Rendezvous Grantsburg\, WI\nProceeds go to the Squirrels Unlimited\nEvery Friday 6:00pm\n115 E Madison Ave\nGrantsburg\, WI\n715-463-2322
URL:https://burnettcountyfun.com/event/meat-raffle-hummers-rendezvous/2026-10-23/
LOCATION:Hummer’s Rendezvous\, 115 W Madison Ave\, Grantsburg\, WI\, 54840\, United States
CATEGORIES:Charity/Fundraiser,Food/Beverage
END:VEVENT
BEGIN:VEVENT
DTSTART;TZID=UTC:20261023T183000
DTEND;TZID=UTC:20261023T200000
DTSTAMP:20260424T110740
CREATED:20260124T064946Z
LAST-MODIFIED:20260124T064946Z
UID:10008631-1792780200-1792785600@burnettcountyfun.com
SUMMARY:MEAT RAFFLE
DESCRIPTION:Friday night meat raffle supports the Lake Country Riders Snowmobile Club!
URL:https://burnettcountyfun.com/event/meat-raffle-3/2026-10-23/
LOCATION:Whiskey Joes\, 6699 State Road 70\, Siren\, WI\, 54872\, United States
CATEGORIES:Charity/Fundraiser
ORGANIZER;CN="lake country riders snowmob":MAILTO:ormanp24@gmail.com
END:VEVENT
BEGIN:VEVENT
DTSTART;TZID=UTC:20261029T180000
DTEND;TZID=UTC:20261029T193000
DTSTAMP:20260424T110740
CREATED:20250221T172146Z
LAST-MODIFIED:20260113T000453Z
UID:10009875-1793296800-1793302200@burnettcountyfun.com
SUMMARY:Siren Lions Meat Raffle
DESCRIPTION:Looking for a fun way to spend your Thursday evening in Siren\, WI? The Siren Lions meat raffle runs every Thursday from 6:00 to 7:30 PM at The Pheasant Inn & Sports Bar\, offering a great chance to support the community and take home some quality cuts while enjoying a fun night out!
URL:https://burnettcountyfun.com/event/siren-lions-meat-raffle/2026-10-29/
LOCATION:The Pheasant Inn & Sports Bar\, 7694 West Main St\, Siren\, WI\, 54872
CATEGORIES:Charity/Fundraiser
ATTACH;FMTTYPE=image/jpeg:https://burnettcountyfun.com/wp-content/uploads/2025/02/inbound6919946331740657901.jpg
END:VEVENT
BEGIN:VEVENT
DTSTART;TZID=UTC:20261030T173000
DTEND;TZID=UTC:20261030T190000
DTSTAMP:20260424T110740
CREATED:20230607T003751Z
LAST-MODIFIED:20230731T050939Z
UID:10000230-1793381400-1793386800@burnettcountyfun.com
SUMMARY:Meat Raffle | Gandy Dancer Saloon
DESCRIPTION:Meat Raffle | Gandy Dancer Saloon\, Webster\, WI\nProceeds go to the Webster Lions Club\nEvery Friday 5:30pm\n7576 County Rd U\nDanbury\, WI\n715-866-9977
URL:https://burnettcountyfun.com/event/meat-raffle-gandy-dancer-saloon/2026-10-30/
LOCATION:Gandy Dancer Saloon\, 7576 County Rd U\, Danbury\, WI\, 54830\, United States
CATEGORIES:Charity/Fundraiser
END:VEVENT
BEGIN:VEVENT
DTSTART;TZID=UTC:20261030T180000
DTEND;TZID=UTC:20261030T190000
DTSTAMP:20260424T110740
CREATED:20230607T004130Z
LAST-MODIFIED:20230731T051425Z
UID:10000752-1793383200-1793386800@burnettcountyfun.com
SUMMARY:Meat Raffle | Hummers Rendezvous
DESCRIPTION:Meat Raffle | Hummer’s Rendezvous Grantsburg\, WI\nProceeds go to the Squirrels Unlimited\nEvery Friday 6:00pm\n115 E Madison Ave\nGrantsburg\, WI\n715-463-2322
URL:https://burnettcountyfun.com/event/meat-raffle-hummers-rendezvous/2026-10-30/
LOCATION:Hummer’s Rendezvous\, 115 W Madison Ave\, Grantsburg\, WI\, 54840\, United States
CATEGORIES:Charity/Fundraiser,Food/Beverage
END:VEVENT
BEGIN:VEVENT
DTSTART;TZID=UTC:20261030T183000
DTEND;TZID=UTC:20261030T200000
DTSTAMP:20260424T110740
CREATED:20260124T064946Z
LAST-MODIFIED:20260124T064946Z
UID:10008633-1793385000-1793390400@burnettcountyfun.com
SUMMARY:MEAT RAFFLE
DESCRIPTION:Friday night meat raffle supports the Lake Country Riders Snowmobile Club!
URL:https://burnettcountyfun.com/event/meat-raffle-3/2026-10-30/
LOCATION:Whiskey Joes\, 6699 State Road 70\, Siren\, WI\, 54872\, United States
CATEGORIES:Charity/Fundraiser
ORGANIZER;CN="lake country riders snowmob":MAILTO:ormanp24@gmail.com
END:VEVENT
BEGIN:VEVENT
DTSTART;TZID=UTC:20261105T180000
DTEND;TZID=UTC:20261105T193000
DTSTAMP:20260424T110740
CREATED:20250221T172146Z
LAST-MODIFIED:20260113T000453Z
UID:10009876-1793901600-1793907000@burnettcountyfun.com
SUMMARY:Siren Lions Meat Raffle
DESCRIPTION:Looking for a fun way to spend your Thursday evening in Siren\, WI? The Siren Lions meat raffle runs every Thursday from 6:00 to 7:30 PM at The Pheasant Inn & Sports Bar\, offering a great chance to support the community and take home some quality cuts while enjoying a fun night out!
URL:https://burnettcountyfun.com/event/siren-lions-meat-raffle/2026-11-05/
LOCATION:The Pheasant Inn & Sports Bar\, 7694 West Main St\, Siren\, WI\, 54872
CATEGORIES:Charity/Fundraiser
ATTACH;FMTTYPE=image/jpeg:https://burnettcountyfun.com/wp-content/uploads/2025/02/inbound6919946331740657901.jpg
END:VEVENT
BEGIN:VEVENT
DTSTART;TZID=UTC:20261106T173000
DTEND;TZID=UTC:20261106T190000
DTSTAMP:20260424T110740
CREATED:20230607T003751Z
LAST-MODIFIED:20230731T050939Z
UID:10000231-1793986200-1793991600@burnettcountyfun.com
SUMMARY:Meat Raffle | Gandy Dancer Saloon
DESCRIPTION:Meat Raffle | Gandy Dancer Saloon\, Webster\, WI\nProceeds go to the Webster Lions Club\nEvery Friday 5:30pm\n7576 County Rd U\nDanbury\, WI\n715-866-9977
URL:https://burnettcountyfun.com/event/meat-raffle-gandy-dancer-saloon/2026-11-06/
LOCATION:Gandy Dancer Saloon\, 7576 County Rd U\, Danbury\, WI\, 54830\, United States
CATEGORIES:Charity/Fundraiser
END:VEVENT
BEGIN:VEVENT
DTSTART;TZID=UTC:20261106T180000
DTEND;TZID=UTC:20261106T190000
DTSTAMP:20260424T110740
CREATED:20230607T004130Z
LAST-MODIFIED:20230731T051425Z
UID:10000753-1793988000-1793991600@burnettcountyfun.com
SUMMARY:Meat Raffle | Hummers Rendezvous
DESCRIPTION:Meat Raffle | Hummer’s Rendezvous Grantsburg\, WI\nProceeds go to the Squirrels Unlimited\nEvery Friday 6:00pm\n115 E Madison Ave\nGrantsburg\, WI\n715-463-2322
URL:https://burnettcountyfun.com/event/meat-raffle-hummers-rendezvous/2026-11-06/
LOCATION:Hummer’s Rendezvous\, 115 W Madison Ave\, Grantsburg\, WI\, 54840\, United States
CATEGORIES:Charity/Fundraiser,Food/Beverage
END:VEVENT
BEGIN:VEVENT
DTSTART;TZID=UTC:20261106T183000
DTEND;TZID=UTC:20261106T200000
DTSTAMP:20260424T110740
CREATED:20260124T064946Z
LAST-MODIFIED:20260124T064946Z
UID:10008635-1793989800-1793995200@burnettcountyfun.com
SUMMARY:MEAT RAFFLE
DESCRIPTION:Friday night meat raffle supports the Lake Country Riders Snowmobile Club!
URL:https://burnettcountyfun.com/event/meat-raffle-3/2026-11-06/
LOCATION:Whiskey Joes\, 6699 State Road 70\, Siren\, WI\, 54872\, United States
CATEGORIES:Charity/Fundraiser
ORGANIZER;CN="lake country riders snowmob":MAILTO:ormanp24@gmail.com
END:VEVENT
BEGIN:VEVENT
DTSTART;TZID=UTC:20261112T180000
DTEND;TZID=UTC:20261112T193000
DTSTAMP:20260424T110740
CREATED:20250221T172146Z
LAST-MODIFIED:20260113T000453Z
UID:10009877-1794506400-1794511800@burnettcountyfun.com
SUMMARY:Siren Lions Meat Raffle
DESCRIPTION:Looking for a fun way to spend your Thursday evening in Siren\, WI? The Siren Lions meat raffle runs every Thursday from 6:00 to 7:30 PM at The Pheasant Inn & Sports Bar\, offering a great chance to support the community and take home some quality cuts while enjoying a fun night out!
URL:https://burnettcountyfun.com/event/siren-lions-meat-raffle/2026-11-12/
LOCATION:The Pheasant Inn & Sports Bar\, 7694 West Main St\, Siren\, WI\, 54872
CATEGORIES:Charity/Fundraiser
ATTACH;FMTTYPE=image/jpeg:https://burnettcountyfun.com/wp-content/uploads/2025/02/inbound6919946331740657901.jpg
END:VEVENT
BEGIN:VEVENT
DTSTART;TZID=UTC:20261113T173000
DTEND;TZID=UTC:20261113T190000
DTSTAMP:20260424T110740
CREATED:20230607T003751Z
LAST-MODIFIED:20230731T050939Z
UID:10000232-1794591000-1794596400@burnettcountyfun.com
SUMMARY:Meat Raffle | Gandy Dancer Saloon
DESCRIPTION:Meat Raffle | Gandy Dancer Saloon\, Webster\, WI\nProceeds go to the Webster Lions Club\nEvery Friday 5:30pm\n7576 County Rd U\nDanbury\, WI\n715-866-9977
URL:https://burnettcountyfun.com/event/meat-raffle-gandy-dancer-saloon/2026-11-13/
LOCATION:Gandy Dancer Saloon\, 7576 County Rd U\, Danbury\, WI\, 54830\, United States
CATEGORIES:Charity/Fundraiser
END:VEVENT
BEGIN:VEVENT
DTSTART;TZID=UTC:20261113T180000
DTEND;TZID=UTC:20261113T190000
DTSTAMP:20260424T110740
CREATED:20230607T004130Z
LAST-MODIFIED:20230731T051425Z
UID:10000754-1794592800-1794596400@burnettcountyfun.com
SUMMARY:Meat Raffle | Hummers Rendezvous
DESCRIPTION:Meat Raffle | Hummer’s Rendezvous Grantsburg\, WI\nProceeds go to the Squirrels Unlimited\nEvery Friday 6:00pm\n115 E Madison Ave\nGrantsburg\, WI\n715-463-2322
URL:https://burnettcountyfun.com/event/meat-raffle-hummers-rendezvous/2026-11-13/
LOCATION:Hummer’s Rendezvous\, 115 W Madison Ave\, Grantsburg\, WI\, 54840\, United States
CATEGORIES:Charity/Fundraiser,Food/Beverage
END:VEVENT
BEGIN:VEVENT
DTSTART;TZID=UTC:20261113T183000
DTEND;TZID=UTC:20261113T200000
DTSTAMP:20260424T110740
CREATED:20260124T064946Z
LAST-MODIFIED:20260124T064946Z
UID:10008637-1794594600-1794600000@burnettcountyfun.com
SUMMARY:MEAT RAFFLE
DESCRIPTION:Friday night meat raffle supports the Lake Country Riders Snowmobile Club!
URL:https://burnettcountyfun.com/event/meat-raffle-3/2026-11-13/
LOCATION:Whiskey Joes\, 6699 State Road 70\, Siren\, WI\, 54872\, United States
CATEGORIES:Charity/Fundraiser
ORGANIZER;CN="lake country riders snowmob":MAILTO:ormanp24@gmail.com
END:VEVENT
BEGIN:VEVENT
DTSTART;TZID=UTC:20261119T180000
DTEND;TZID=UTC:20261119T193000
DTSTAMP:20260424T110740
CREATED:20250221T172146Z
LAST-MODIFIED:20260113T000453Z
UID:10009878-1795111200-1795116600@burnettcountyfun.com
SUMMARY:Siren Lions Meat Raffle
DESCRIPTION:Looking for a fun way to spend your Thursday evening in Siren\, WI? The Siren Lions meat raffle runs every Thursday from 6:00 to 7:30 PM at The Pheasant Inn & Sports Bar\, offering a great chance to support the community and take home some quality cuts while enjoying a fun night out!
URL:https://burnettcountyfun.com/event/siren-lions-meat-raffle/2026-11-19/
LOCATION:The Pheasant Inn & Sports Bar\, 7694 West Main St\, Siren\, WI\, 54872
CATEGORIES:Charity/Fundraiser
ATTACH;FMTTYPE=image/jpeg:https://burnettcountyfun.com/wp-content/uploads/2025/02/inbound6919946331740657901.jpg
END:VEVENT
BEGIN:VEVENT
DTSTART;TZID=UTC:20261120T173000
DTEND;TZID=UTC:20261120T190000
DTSTAMP:20260424T110740
CREATED:20230607T003751Z
LAST-MODIFIED:20230731T050939Z
UID:10000233-1795195800-1795201200@burnettcountyfun.com
SUMMARY:Meat Raffle | Gandy Dancer Saloon
DESCRIPTION:Meat Raffle | Gandy Dancer Saloon\, Webster\, WI\nProceeds go to the Webster Lions Club\nEvery Friday 5:30pm\n7576 County Rd U\nDanbury\, WI\n715-866-9977
URL:https://burnettcountyfun.com/event/meat-raffle-gandy-dancer-saloon/2026-11-20/
LOCATION:Gandy Dancer Saloon\, 7576 County Rd U\, Danbury\, WI\, 54830\, United States
CATEGORIES:Charity/Fundraiser
END:VEVENT
BEGIN:VEVENT
DTSTART;TZID=UTC:20261120T180000
DTEND;TZID=UTC:20261120T190000
DTSTAMP:20260424T110740
CREATED:20230607T004130Z
LAST-MODIFIED:20230731T051425Z
UID:10000755-1795197600-1795201200@burnettcountyfun.com
SUMMARY:Meat Raffle | Hummers Rendezvous
DESCRIPTION:Meat Raffle | Hummer’s Rendezvous Grantsburg\, WI\nProceeds go to the Squirrels Unlimited\nEvery Friday 6:00pm\n115 E Madison Ave\nGrantsburg\, WI\n715-463-2322
URL:https://burnettcountyfun.com/event/meat-raffle-hummers-rendezvous/2026-11-20/
LOCATION:Hummer’s Rendezvous\, 115 W Madison Ave\, Grantsburg\, WI\, 54840\, United States
CATEGORIES:Charity/Fundraiser,Food/Beverage
END:VEVENT
BEGIN:VEVENT
DTSTART;TZID=UTC:20261120T183000
DTEND;TZID=UTC:20261120T200000
DTSTAMP:20260424T110740
CREATED:20260124T064946Z
LAST-MODIFIED:20260124T064946Z
UID:10008639-1795199400-1795204800@burnettcountyfun.com
SUMMARY:MEAT RAFFLE
DESCRIPTION:Friday night meat raffle supports the Lake Country Riders Snowmobile Club!
URL:https://burnettcountyfun.com/event/meat-raffle-3/2026-11-20/
LOCATION:Whiskey Joes\, 6699 State Road 70\, Siren\, WI\, 54872\, United States
CATEGORIES:Charity/Fundraiser
ORGANIZER;CN="lake country riders snowmob":MAILTO:ormanp24@gmail.com
END:VEVENT
BEGIN:VEVENT
DTSTART;TZID=UTC:20261126T180000
DTEND;TZID=UTC:20261126T193000
DTSTAMP:20260424T110740
CREATED:20250221T172146Z
LAST-MODIFIED:20260113T000453Z
UID:10009879-1795716000-1795721400@burnettcountyfun.com
SUMMARY:Siren Lions Meat Raffle
DESCRIPTION:Looking for a fun way to spend your Thursday evening in Siren\, WI? The Siren Lions meat raffle runs every Thursday from 6:00 to 7:30 PM at The Pheasant Inn & Sports Bar\, offering a great chance to support the community and take home some quality cuts while enjoying a fun night out!
URL:https://burnettcountyfun.com/event/siren-lions-meat-raffle/2026-11-26/
LOCATION:The Pheasant Inn & Sports Bar\, 7694 West Main St\, Siren\, WI\, 54872
CATEGORIES:Charity/Fundraiser
ATTACH;FMTTYPE=image/jpeg:https://burnettcountyfun.com/wp-content/uploads/2025/02/inbound6919946331740657901.jpg
END:VEVENT
BEGIN:VEVENT
DTSTART;TZID=UTC:20261127T173000
DTEND;TZID=UTC:20261127T190000
DTSTAMP:20260424T110740
CREATED:20230607T003751Z
LAST-MODIFIED:20230731T050939Z
UID:10000234-1795800600-1795806000@burnettcountyfun.com
SUMMARY:Meat Raffle | Gandy Dancer Saloon
DESCRIPTION:Meat Raffle | Gandy Dancer Saloon\, Webster\, WI\nProceeds go to the Webster Lions Club\nEvery Friday 5:30pm\n7576 County Rd U\nDanbury\, WI\n715-866-9977
URL:https://burnettcountyfun.com/event/meat-raffle-gandy-dancer-saloon/2026-11-27/
LOCATION:Gandy Dancer Saloon\, 7576 County Rd U\, Danbury\, WI\, 54830\, United States
CATEGORIES:Charity/Fundraiser
END:VEVENT
BEGIN:VEVENT
DTSTART;TZID=UTC:20261127T180000
DTEND;TZID=UTC:20261127T190000
DTSTAMP:20260424T110740
CREATED:20230607T004130Z
LAST-MODIFIED:20230731T051425Z
UID:10000756-1795802400-1795806000@burnettcountyfun.com
SUMMARY:Meat Raffle | Hummers Rendezvous
DESCRIPTION:Meat Raffle | Hummer’s Rendezvous Grantsburg\, WI\nProceeds go to the Squirrels Unlimited\nEvery Friday 6:00pm\n115 E Madison Ave\nGrantsburg\, WI\n715-463-2322
URL:https://burnettcountyfun.com/event/meat-raffle-hummers-rendezvous/2026-11-27/
LOCATION:Hummer’s Rendezvous\, 115 W Madison Ave\, Grantsburg\, WI\, 54840\, United States
CATEGORIES:Charity/Fundraiser,Food/Beverage
END:VEVENT
BEGIN:VEVENT
DTSTART;TZID=UTC:20261127T183000
DTEND;TZID=UTC:20261127T200000
DTSTAMP:20260424T110740
CREATED:20260124T064946Z
LAST-MODIFIED:20260124T064946Z
UID:10008641-1795804200-1795809600@burnettcountyfun.com
SUMMARY:MEAT RAFFLE
DESCRIPTION:Friday night meat raffle supports the Lake Country Riders Snowmobile Club!
URL:https://burnettcountyfun.com/event/meat-raffle-3/2026-11-27/
LOCATION:Whiskey Joes\, 6699 State Road 70\, Siren\, WI\, 54872\, United States
CATEGORIES:Charity/Fundraiser
ORGANIZER;CN="lake country riders snowmob":MAILTO:ormanp24@gmail.com
END:VEVENT
BEGIN:VEVENT
DTSTART;TZID=UTC:20261203T180000
DTEND;TZID=UTC:20261203T193000
DTSTAMP:20260424T110740
CREATED:20250221T172146Z
LAST-MODIFIED:20260113T000453Z
UID:10009880-1796320800-1796326200@burnettcountyfun.com
SUMMARY:Siren Lions Meat Raffle
DESCRIPTION:Looking for a fun way to spend your Thursday evening in Siren\, WI? The Siren Lions meat raffle runs every Thursday from 6:00 to 7:30 PM at The Pheasant Inn & Sports Bar\, offering a great chance to support the community and take home some quality cuts while enjoying a fun night out!
URL:https://burnettcountyfun.com/event/siren-lions-meat-raffle/2026-12-03/
LOCATION:The Pheasant Inn & Sports Bar\, 7694 West Main St\, Siren\, WI\, 54872
CATEGORIES:Charity/Fundraiser
ATTACH;FMTTYPE=image/jpeg:https://burnettcountyfun.com/wp-content/uploads/2025/02/inbound6919946331740657901.jpg
END:VEVENT
BEGIN:VEVENT
DTSTART;TZID=UTC:20261204T173000
DTEND;TZID=UTC:20261204T190000
DTSTAMP:20260424T110740
CREATED:20230607T003751Z
LAST-MODIFIED:20230731T050939Z
UID:10000235-1796405400-1796410800@burnettcountyfun.com
SUMMARY:Meat Raffle | Gandy Dancer Saloon
DESCRIPTION:Meat Raffle | Gandy Dancer Saloon\, Webster\, WI\nProceeds go to the Webster Lions Club\nEvery Friday 5:30pm\n7576 County Rd U\nDanbury\, WI\n715-866-9977
URL:https://burnettcountyfun.com/event/meat-raffle-gandy-dancer-saloon/2026-12-04/
LOCATION:Gandy Dancer Saloon\, 7576 County Rd U\, Danbury\, WI\, 54830\, United States
CATEGORIES:Charity/Fundraiser
END:VEVENT
BEGIN:VEVENT
DTSTART;TZID=UTC:20261204T180000
DTEND;TZID=UTC:20261204T190000
DTSTAMP:20260424T110740
CREATED:20230607T004130Z
LAST-MODIFIED:20230731T051425Z
UID:10000757-1796407200-1796410800@burnettcountyfun.com
SUMMARY:Meat Raffle | Hummers Rendezvous
DESCRIPTION:Meat Raffle | Hummer’s Rendezvous Grantsburg\, WI\nProceeds go to the Squirrels Unlimited\nEvery Friday 6:00pm\n115 E Madison Ave\nGrantsburg\, WI\n715-463-2322
URL:https://burnettcountyfun.com/event/meat-raffle-hummers-rendezvous/2026-12-04/
LOCATION:Hummer’s Rendezvous\, 115 W Madison Ave\, Grantsburg\, WI\, 54840\, United States
CATEGORIES:Charity/Fundraiser,Food/Beverage
END:VEVENT
BEGIN:VEVENT
DTSTART;TZID=UTC:20261204T183000
DTEND;TZID=UTC:20261204T200000
DTSTAMP:20260424T110740
CREATED:20260124T064946Z
LAST-MODIFIED:20260124T064946Z
UID:10008643-1796409000-1796414400@burnettcountyfun.com
SUMMARY:MEAT RAFFLE
DESCRIPTION:Friday night meat raffle supports the Lake Country Riders Snowmobile Club!
URL:https://burnettcountyfun.com/event/meat-raffle-3/2026-12-04/
LOCATION:Whiskey Joes\, 6699 State Road 70\, Siren\, WI\, 54872\, United States
CATEGORIES:Charity/Fundraiser
ORGANIZER;CN="lake country riders snowmob":MAILTO:ormanp24@gmail.com
END:VEVENT
BEGIN:VEVENT
DTSTART;TZID=UTC:20261210T180000
DTEND;TZID=UTC:20261210T193000
DTSTAMP:20260424T110740
CREATED:20250221T172146Z
LAST-MODIFIED:20260113T000453Z
UID:10009881-1796925600-1796931000@burnettcountyfun.com
SUMMARY:Siren Lions Meat Raffle
DESCRIPTION:Looking for a fun way to spend your Thursday evening in Siren\, WI? The Siren Lions meat raffle runs every Thursday from 6:00 to 7:30 PM at The Pheasant Inn & Sports Bar\, offering a great chance to support the community and take home some quality cuts while enjoying a fun night out!
URL:https://burnettcountyfun.com/event/siren-lions-meat-raffle/2026-12-10/
LOCATION:The Pheasant Inn & Sports Bar\, 7694 West Main St\, Siren\, WI\, 54872
CATEGORIES:Charity/Fundraiser
ATTACH;FMTTYPE=image/jpeg:https://burnettcountyfun.com/wp-content/uploads/2025/02/inbound6919946331740657901.jpg
END:VEVENT
BEGIN:VEVENT
DTSTART;TZID=UTC:20261211T173000
DTEND;TZID=UTC:20261211T190000
DTSTAMP:20260424T110740
CREATED:20230607T003751Z
LAST-MODIFIED:20230731T050939Z
UID:10000236-1797010200-1797015600@burnettcountyfun.com
SUMMARY:Meat Raffle | Gandy Dancer Saloon
DESCRIPTION:Meat Raffle | Gandy Dancer Saloon\, Webster\, WI\nProceeds go to the Webster Lions Club\nEvery Friday 5:30pm\n7576 County Rd U\nDanbury\, WI\n715-866-9977
URL:https://burnettcountyfun.com/event/meat-raffle-gandy-dancer-saloon/2026-12-11/
LOCATION:Gandy Dancer Saloon\, 7576 County Rd U\, Danbury\, WI\, 54830\, United States
CATEGORIES:Charity/Fundraiser
END:VEVENT
BEGIN:VEVENT
DTSTART;TZID=UTC:20261211T180000
DTEND;TZID=UTC:20261211T190000
DTSTAMP:20260424T110740
CREATED:20230607T004130Z
LAST-MODIFIED:20230731T051425Z
UID:10000758-1797012000-1797015600@burnettcountyfun.com
SUMMARY:Meat Raffle | Hummers Rendezvous
DESCRIPTION:Meat Raffle | Hummer’s Rendezvous Grantsburg\, WI\nProceeds go to the Squirrels Unlimited\nEvery Friday 6:00pm\n115 E Madison Ave\nGrantsburg\, WI\n715-463-2322
URL:https://burnettcountyfun.com/event/meat-raffle-hummers-rendezvous/2026-12-11/
LOCATION:Hummer’s Rendezvous\, 115 W Madison Ave\, Grantsburg\, WI\, 54840\, United States
CATEGORIES:Charity/Fundraiser,Food/Beverage
END:VEVENT
BEGIN:VEVENT
DTSTART;TZID=UTC:20261211T183000
DTEND;TZID=UTC:20261211T200000
DTSTAMP:20260424T110740
CREATED:20260124T064946Z
LAST-MODIFIED:20260124T064946Z
UID:10008645-1797013800-1797019200@burnettcountyfun.com
SUMMARY:MEAT RAFFLE
DESCRIPTION:Friday night meat raffle supports the Lake Country Riders Snowmobile Club!
URL:https://burnettcountyfun.com/event/meat-raffle-3/2026-12-11/
LOCATION:Whiskey Joes\, 6699 State Road 70\, Siren\, WI\, 54872\, United States
CATEGORIES:Charity/Fundraiser
ORGANIZER;CN="lake country riders snowmob":MAILTO:ormanp24@gmail.com
END:VEVENT
END:VCALENDAR