BEGIN:VCALENDAR
VERSION:2.0
PRODID:-//Burnett County, Wisconsin - ECPv6.15.20//NONSGML v1.0//EN
CALSCALE:GREGORIAN
METHOD:PUBLISH
X-ORIGINAL-URL:https://burnettcountyfun.com
X-WR-CALDESC:Events for Burnett County, Wisconsin
REFRESH-INTERVAL;VALUE=DURATION:PT1H
X-Robots-Tag:noindex
X-PUBLISHED-TTL:PT1H
BEGIN:VTIMEZONE
TZID:UTC
BEGIN:STANDARD
TZOFFSETFROM:+0000
TZOFFSETTO:+0000
TZNAME:UTC
DTSTART:20240101T000000
END:STANDARD
END:VTIMEZONE
BEGIN:VEVENT
DTSTART;TZID=UTC:20250822T173000
DTEND;TZID=UTC:20250822T190000
DTSTAMP:20260424T201312
CREATED:20230607T003751Z
LAST-MODIFIED:20230731T050939Z
UID:10000168-1755883800-1755889200@burnettcountyfun.com
SUMMARY:Meat Raffle | Gandy Dancer Saloon
DESCRIPTION:Meat Raffle | Gandy Dancer Saloon\, Webster\, WI\nProceeds go to the Webster Lions Club\nEvery Friday 5:30pm\n7576 County Rd U\nDanbury\, WI\n715-866-9977
URL:https://burnettcountyfun.com/event/meat-raffle-gandy-dancer-saloon/2025-08-22/
LOCATION:Gandy Dancer Saloon\, 7576 County Rd U\, Danbury\, WI\, 54830\, United States
CATEGORIES:Charity/Fundraiser
END:VEVENT
BEGIN:VEVENT
DTSTART;TZID=UTC:20250822T180000
DTEND;TZID=UTC:20250822T190000
DTSTAMP:20260424T201312
CREATED:20230607T004130Z
LAST-MODIFIED:20230731T051425Z
UID:10000690-1755885600-1755889200@burnettcountyfun.com
SUMMARY:Meat Raffle | Hummers Rendezvous
DESCRIPTION:Meat Raffle | Hummer’s Rendezvous Grantsburg\, WI\nProceeds go to the Squirrels Unlimited\nEvery Friday 6:00pm\n115 E Madison Ave\nGrantsburg\, WI\n715-463-2322
URL:https://burnettcountyfun.com/event/meat-raffle-hummers-rendezvous/2025-08-22/
LOCATION:Hummer’s Rendezvous\, 115 W Madison Ave\, Grantsburg\, WI\, 54840\, United States
CATEGORIES:Charity/Fundraiser,Food/Beverage
END:VEVENT
BEGIN:VEVENT
DTSTART;TZID=UTC:20250822T183000
DTEND;TZID=UTC:20250822T200000
DTSTAMP:20260424T201312
CREATED:20241020T195124Z
LAST-MODIFIED:20251020T221545Z
UID:10008509-1755887400-1755892800@burnettcountyfun.com
SUMMARY:MEAT RAFFLE
DESCRIPTION:Friday night meat raffle supports the Lake Country Riders Snowmobile Club!
URL:https://burnettcountyfun.com/event/meat-raffle/2025-08-22/
LOCATION:Whiskey Joes\, 6699 State Road 70\, Siren\, WI\, 54872\, United States
CATEGORIES:Charity/Fundraiser
ORGANIZER;CN="lake country riders snowmob":MAILTO:ormanp24@gmail.com
END:VEVENT
BEGIN:VEVENT
DTSTART;TZID=UTC:20250823T173000
DTEND;TZID=UTC:20250823T203000
DTSTAMP:20260424T201312
CREATED:20250331T202948Z
LAST-MODIFIED:20250331T202948Z
UID:10010339-1755970200-1755981000@burnettcountyfun.com
SUMMARY:Blizzard Hockey Meat Raffle
DESCRIPTION:
URL:https://burnettcountyfun.com/event/blizzard-hockey-meat-raffle/2025-08-23/
LOCATION:Tavern On Main\, 7695 E Main St\, Siren\, WI\, 54872\, United States
CATEGORIES:Charity/Fundraiser
ATTACH;FMTTYPE=image/jpeg:https://burnettcountyfun.com/wp-content/uploads/2025/03/IMG_3574.jpg
END:VEVENT
BEGIN:VEVENT
DTSTART;TZID=UTC:20250824T183000
DTEND;TZID=UTC:20250824T200000
DTSTAMP:20260424T201312
CREATED:20241020T195124Z
LAST-MODIFIED:20251020T221545Z
UID:10008510-1756060200-1756065600@burnettcountyfun.com
SUMMARY:MEAT RAFFLE
DESCRIPTION:Friday night meat raffle supports the Lake Country Riders Snowmobile Club!
URL:https://burnettcountyfun.com/event/meat-raffle/2025-08-24/
LOCATION:Whiskey Joes\, 6699 State Road 70\, Siren\, WI\, 54872\, United States
CATEGORIES:Charity/Fundraiser
ORGANIZER;CN="lake country riders snowmob":MAILTO:ormanp24@gmail.com
END:VEVENT
BEGIN:VEVENT
DTSTART;TZID=UTC:20250828T180000
DTEND;TZID=UTC:20250828T193000
DTSTAMP:20260424T201312
CREATED:20250221T172146Z
LAST-MODIFIED:20260113T000453Z
UID:10009814-1756404000-1756409400@burnettcountyfun.com
SUMMARY:Siren Lions Meat Raffle
DESCRIPTION:Looking for a fun way to spend your Thursday evening in Siren\, WI? The Siren Lions meat raffle runs every Thursday from 6:00 to 7:30 PM at The Pheasant Inn & Sports Bar\, offering a great chance to support the community and take home some quality cuts while enjoying a fun night out!
URL:https://burnettcountyfun.com/event/siren-lions-meat-raffle/2025-08-28/
LOCATION:The Pheasant Inn & Sports Bar\, 7694 West Main St\, Siren\, WI\, 54872
CATEGORIES:Charity/Fundraiser
ATTACH;FMTTYPE=image/jpeg:https://burnettcountyfun.com/wp-content/uploads/2025/02/inbound6919946331740657901.jpg
END:VEVENT
BEGIN:VEVENT
DTSTART;TZID=UTC:20250829T173000
DTEND;TZID=UTC:20250829T190000
DTSTAMP:20260424T201312
CREATED:20230607T003751Z
LAST-MODIFIED:20230731T050939Z
UID:10000169-1756488600-1756494000@burnettcountyfun.com
SUMMARY:Meat Raffle | Gandy Dancer Saloon
DESCRIPTION:Meat Raffle | Gandy Dancer Saloon\, Webster\, WI\nProceeds go to the Webster Lions Club\nEvery Friday 5:30pm\n7576 County Rd U\nDanbury\, WI\n715-866-9977
URL:https://burnettcountyfun.com/event/meat-raffle-gandy-dancer-saloon/2025-08-29/
LOCATION:Gandy Dancer Saloon\, 7576 County Rd U\, Danbury\, WI\, 54830\, United States
CATEGORIES:Charity/Fundraiser
END:VEVENT
BEGIN:VEVENT
DTSTART;TZID=UTC:20250829T180000
DTEND;TZID=UTC:20250829T190000
DTSTAMP:20260424T201313
CREATED:20230607T004130Z
LAST-MODIFIED:20230731T051425Z
UID:10000691-1756490400-1756494000@burnettcountyfun.com
SUMMARY:Meat Raffle | Hummers Rendezvous
DESCRIPTION:Meat Raffle | Hummer’s Rendezvous Grantsburg\, WI\nProceeds go to the Squirrels Unlimited\nEvery Friday 6:00pm\n115 E Madison Ave\nGrantsburg\, WI\n715-463-2322
URL:https://burnettcountyfun.com/event/meat-raffle-hummers-rendezvous/2025-08-29/
LOCATION:Hummer’s Rendezvous\, 115 W Madison Ave\, Grantsburg\, WI\, 54840\, United States
CATEGORIES:Charity/Fundraiser,Food/Beverage
END:VEVENT
BEGIN:VEVENT
DTSTART;TZID=UTC:20250829T183000
DTEND;TZID=UTC:20250829T200000
DTSTAMP:20260424T201313
CREATED:20241020T195124Z
LAST-MODIFIED:20251020T221545Z
UID:10008511-1756492200-1756497600@burnettcountyfun.com
SUMMARY:MEAT RAFFLE
DESCRIPTION:Friday night meat raffle supports the Lake Country Riders Snowmobile Club!
URL:https://burnettcountyfun.com/event/meat-raffle/2025-08-29/
LOCATION:Whiskey Joes\, 6699 State Road 70\, Siren\, WI\, 54872\, United States
CATEGORIES:Charity/Fundraiser
ORGANIZER;CN="lake country riders snowmob":MAILTO:ormanp24@gmail.com
END:VEVENT
BEGIN:VEVENT
DTSTART;TZID=UTC:20250830T173000
DTEND;TZID=UTC:20250830T203000
DTSTAMP:20260424T201313
CREATED:20250331T202948Z
LAST-MODIFIED:20250331T202948Z
UID:10010340-1756575000-1756585800@burnettcountyfun.com
SUMMARY:Blizzard Hockey Meat Raffle
DESCRIPTION:
URL:https://burnettcountyfun.com/event/blizzard-hockey-meat-raffle/2025-08-30/
LOCATION:Tavern On Main\, 7695 E Main St\, Siren\, WI\, 54872\, United States
CATEGORIES:Charity/Fundraiser
ATTACH;FMTTYPE=image/jpeg:https://burnettcountyfun.com/wp-content/uploads/2025/03/IMG_3574.jpg
END:VEVENT
BEGIN:VEVENT
DTSTART;TZID=UTC:20250831T183000
DTEND;TZID=UTC:20250831T200000
DTSTAMP:20260424T201313
CREATED:20241020T195124Z
LAST-MODIFIED:20251020T221545Z
UID:10008512-1756665000-1756670400@burnettcountyfun.com
SUMMARY:MEAT RAFFLE
DESCRIPTION:Friday night meat raffle supports the Lake Country Riders Snowmobile Club!
URL:https://burnettcountyfun.com/event/meat-raffle/2025-08-31/
LOCATION:Whiskey Joes\, 6699 State Road 70\, Siren\, WI\, 54872\, United States
CATEGORIES:Charity/Fundraiser
ORGANIZER;CN="lake country riders snowmob":MAILTO:ormanp24@gmail.com
END:VEVENT
BEGIN:VEVENT
DTSTART;TZID=UTC:20250904T180000
DTEND;TZID=UTC:20250904T193000
DTSTAMP:20260424T201313
CREATED:20250221T172146Z
LAST-MODIFIED:20260113T000453Z
UID:10009815-1757008800-1757014200@burnettcountyfun.com
SUMMARY:Siren Lions Meat Raffle
DESCRIPTION:Looking for a fun way to spend your Thursday evening in Siren\, WI? The Siren Lions meat raffle runs every Thursday from 6:00 to 7:30 PM at The Pheasant Inn & Sports Bar\, offering a great chance to support the community and take home some quality cuts while enjoying a fun night out!
URL:https://burnettcountyfun.com/event/siren-lions-meat-raffle/2025-09-04/
LOCATION:The Pheasant Inn & Sports Bar\, 7694 West Main St\, Siren\, WI\, 54872
CATEGORIES:Charity/Fundraiser
ATTACH;FMTTYPE=image/jpeg:https://burnettcountyfun.com/wp-content/uploads/2025/02/inbound6919946331740657901.jpg
END:VEVENT
BEGIN:VEVENT
DTSTART;TZID=UTC:20250905T173000
DTEND;TZID=UTC:20250905T190000
DTSTAMP:20260424T201313
CREATED:20230607T003751Z
LAST-MODIFIED:20230731T050939Z
UID:10000170-1757093400-1757098800@burnettcountyfun.com
SUMMARY:Meat Raffle | Gandy Dancer Saloon
DESCRIPTION:Meat Raffle | Gandy Dancer Saloon\, Webster\, WI\nProceeds go to the Webster Lions Club\nEvery Friday 5:30pm\n7576 County Rd U\nDanbury\, WI\n715-866-9977
URL:https://burnettcountyfun.com/event/meat-raffle-gandy-dancer-saloon/2025-09-05/
LOCATION:Gandy Dancer Saloon\, 7576 County Rd U\, Danbury\, WI\, 54830\, United States
CATEGORIES:Charity/Fundraiser
END:VEVENT
BEGIN:VEVENT
DTSTART;TZID=UTC:20250905T180000
DTEND;TZID=UTC:20250905T190000
DTSTAMP:20260424T201313
CREATED:20230607T004130Z
LAST-MODIFIED:20230731T051425Z
UID:10000692-1757095200-1757098800@burnettcountyfun.com
SUMMARY:Meat Raffle | Hummers Rendezvous
DESCRIPTION:Meat Raffle | Hummer’s Rendezvous Grantsburg\, WI\nProceeds go to the Squirrels Unlimited\nEvery Friday 6:00pm\n115 E Madison Ave\nGrantsburg\, WI\n715-463-2322
URL:https://burnettcountyfun.com/event/meat-raffle-hummers-rendezvous/2025-09-05/
LOCATION:Hummer’s Rendezvous\, 115 W Madison Ave\, Grantsburg\, WI\, 54840\, United States
CATEGORIES:Charity/Fundraiser,Food/Beverage
END:VEVENT
BEGIN:VEVENT
DTSTART;TZID=UTC:20250905T183000
DTEND;TZID=UTC:20250905T200000
DTSTAMP:20260424T201313
CREATED:20241020T195124Z
LAST-MODIFIED:20251020T221545Z
UID:10008513-1757097000-1757102400@burnettcountyfun.com
SUMMARY:MEAT RAFFLE
DESCRIPTION:Friday night meat raffle supports the Lake Country Riders Snowmobile Club!
URL:https://burnettcountyfun.com/event/meat-raffle/2025-09-05/
LOCATION:Whiskey Joes\, 6699 State Road 70\, Siren\, WI\, 54872\, United States
CATEGORIES:Charity/Fundraiser
ORGANIZER;CN="lake country riders snowmob":MAILTO:ormanp24@gmail.com
END:VEVENT
BEGIN:VEVENT
DTSTART;TZID=UTC:20250906T173000
DTEND;TZID=UTC:20250906T203000
DTSTAMP:20260424T201313
CREATED:20250331T202948Z
LAST-MODIFIED:20250331T202948Z
UID:10010341-1757179800-1757190600@burnettcountyfun.com
SUMMARY:Blizzard Hockey Meat Raffle
DESCRIPTION:
URL:https://burnettcountyfun.com/event/blizzard-hockey-meat-raffle/2025-09-06/
LOCATION:Tavern On Main\, 7695 E Main St\, Siren\, WI\, 54872\, United States
CATEGORIES:Charity/Fundraiser
ATTACH;FMTTYPE=image/jpeg:https://burnettcountyfun.com/wp-content/uploads/2025/03/IMG_3574.jpg
END:VEVENT
BEGIN:VEVENT
DTSTART;TZID=UTC:20250907T183000
DTEND;TZID=UTC:20250907T200000
DTSTAMP:20260424T201313
CREATED:20241020T195124Z
LAST-MODIFIED:20251020T221545Z
UID:10008514-1757269800-1757275200@burnettcountyfun.com
SUMMARY:MEAT RAFFLE
DESCRIPTION:Friday night meat raffle supports the Lake Country Riders Snowmobile Club!
URL:https://burnettcountyfun.com/event/meat-raffle/2025-09-07/
LOCATION:Whiskey Joes\, 6699 State Road 70\, Siren\, WI\, 54872\, United States
CATEGORIES:Charity/Fundraiser
ORGANIZER;CN="lake country riders snowmob":MAILTO:ormanp24@gmail.com
END:VEVENT
BEGIN:VEVENT
DTSTART;TZID=UTC:20250911T180000
DTEND;TZID=UTC:20250911T193000
DTSTAMP:20260424T201313
CREATED:20250221T172146Z
LAST-MODIFIED:20260113T000453Z
UID:10009816-1757613600-1757619000@burnettcountyfun.com
SUMMARY:Siren Lions Meat Raffle
DESCRIPTION:Looking for a fun way to spend your Thursday evening in Siren\, WI? The Siren Lions meat raffle runs every Thursday from 6:00 to 7:30 PM at The Pheasant Inn & Sports Bar\, offering a great chance to support the community and take home some quality cuts while enjoying a fun night out!
URL:https://burnettcountyfun.com/event/siren-lions-meat-raffle/2025-09-11/
LOCATION:The Pheasant Inn & Sports Bar\, 7694 West Main St\, Siren\, WI\, 54872
CATEGORIES:Charity/Fundraiser
ATTACH;FMTTYPE=image/jpeg:https://burnettcountyfun.com/wp-content/uploads/2025/02/inbound6919946331740657901.jpg
END:VEVENT
BEGIN:VEVENT
DTSTART;TZID=UTC:20250912T173000
DTEND;TZID=UTC:20250912T190000
DTSTAMP:20260424T201313
CREATED:20230607T003751Z
LAST-MODIFIED:20230731T050939Z
UID:10000171-1757698200-1757703600@burnettcountyfun.com
SUMMARY:Meat Raffle | Gandy Dancer Saloon
DESCRIPTION:Meat Raffle | Gandy Dancer Saloon\, Webster\, WI\nProceeds go to the Webster Lions Club\nEvery Friday 5:30pm\n7576 County Rd U\nDanbury\, WI\n715-866-9977
URL:https://burnettcountyfun.com/event/meat-raffle-gandy-dancer-saloon/2025-09-12/
LOCATION:Gandy Dancer Saloon\, 7576 County Rd U\, Danbury\, WI\, 54830\, United States
CATEGORIES:Charity/Fundraiser
END:VEVENT
BEGIN:VEVENT
DTSTART;TZID=UTC:20250912T180000
DTEND;TZID=UTC:20250912T190000
DTSTAMP:20260424T201313
CREATED:20230607T004130Z
LAST-MODIFIED:20230731T051425Z
UID:10000693-1757700000-1757703600@burnettcountyfun.com
SUMMARY:Meat Raffle | Hummers Rendezvous
DESCRIPTION:Meat Raffle | Hummer’s Rendezvous Grantsburg\, WI\nProceeds go to the Squirrels Unlimited\nEvery Friday 6:00pm\n115 E Madison Ave\nGrantsburg\, WI\n715-463-2322
URL:https://burnettcountyfun.com/event/meat-raffle-hummers-rendezvous/2025-09-12/
LOCATION:Hummer’s Rendezvous\, 115 W Madison Ave\, Grantsburg\, WI\, 54840\, United States
CATEGORIES:Charity/Fundraiser,Food/Beverage
END:VEVENT
BEGIN:VEVENT
DTSTART;TZID=UTC:20250912T183000
DTEND;TZID=UTC:20250912T200000
DTSTAMP:20260424T201313
CREATED:20241020T195124Z
LAST-MODIFIED:20251020T221545Z
UID:10008515-1757701800-1757707200@burnettcountyfun.com
SUMMARY:MEAT RAFFLE
DESCRIPTION:Friday night meat raffle supports the Lake Country Riders Snowmobile Club!
URL:https://burnettcountyfun.com/event/meat-raffle/2025-09-12/
LOCATION:Whiskey Joes\, 6699 State Road 70\, Siren\, WI\, 54872\, United States
CATEGORIES:Charity/Fundraiser
ORGANIZER;CN="lake country riders snowmob":MAILTO:ormanp24@gmail.com
END:VEVENT
BEGIN:VEVENT
DTSTART;TZID=UTC:20250913T173000
DTEND;TZID=UTC:20250913T203000
DTSTAMP:20260424T201313
CREATED:20250331T202948Z
LAST-MODIFIED:20250331T202948Z
UID:10010342-1757784600-1757795400@burnettcountyfun.com
SUMMARY:Blizzard Hockey Meat Raffle
DESCRIPTION:
URL:https://burnettcountyfun.com/event/blizzard-hockey-meat-raffle/2025-09-13/
LOCATION:Tavern On Main\, 7695 E Main St\, Siren\, WI\, 54872\, United States
CATEGORIES:Charity/Fundraiser
ATTACH;FMTTYPE=image/jpeg:https://burnettcountyfun.com/wp-content/uploads/2025/03/IMG_3574.jpg
END:VEVENT
BEGIN:VEVENT
DTSTART;TZID=UTC:20250914T183000
DTEND;TZID=UTC:20250914T200000
DTSTAMP:20260424T201313
CREATED:20241020T195124Z
LAST-MODIFIED:20251020T221545Z
UID:10008516-1757874600-1757880000@burnettcountyfun.com
SUMMARY:MEAT RAFFLE
DESCRIPTION:Friday night meat raffle supports the Lake Country Riders Snowmobile Club!
URL:https://burnettcountyfun.com/event/meat-raffle/2025-09-14/
LOCATION:Whiskey Joes\, 6699 State Road 70\, Siren\, WI\, 54872\, United States
CATEGORIES:Charity/Fundraiser
ORGANIZER;CN="lake country riders snowmob":MAILTO:ormanp24@gmail.com
END:VEVENT
BEGIN:VEVENT
DTSTART;TZID=UTC:20250918T180000
DTEND;TZID=UTC:20250918T193000
DTSTAMP:20260424T201313
CREATED:20250221T172146Z
LAST-MODIFIED:20260113T000453Z
UID:10009817-1758218400-1758223800@burnettcountyfun.com
SUMMARY:Siren Lions Meat Raffle
DESCRIPTION:Looking for a fun way to spend your Thursday evening in Siren\, WI? The Siren Lions meat raffle runs every Thursday from 6:00 to 7:30 PM at The Pheasant Inn & Sports Bar\, offering a great chance to support the community and take home some quality cuts while enjoying a fun night out!
URL:https://burnettcountyfun.com/event/siren-lions-meat-raffle/2025-09-18/
LOCATION:The Pheasant Inn & Sports Bar\, 7694 West Main St\, Siren\, WI\, 54872
CATEGORIES:Charity/Fundraiser
ATTACH;FMTTYPE=image/jpeg:https://burnettcountyfun.com/wp-content/uploads/2025/02/inbound6919946331740657901.jpg
END:VEVENT
BEGIN:VEVENT
DTSTART;TZID=UTC:20250919T173000
DTEND;TZID=UTC:20250919T190000
DTSTAMP:20260424T201313
CREATED:20230607T003751Z
LAST-MODIFIED:20230731T050939Z
UID:10000172-1758303000-1758308400@burnettcountyfun.com
SUMMARY:Meat Raffle | Gandy Dancer Saloon
DESCRIPTION:Meat Raffle | Gandy Dancer Saloon\, Webster\, WI\nProceeds go to the Webster Lions Club\nEvery Friday 5:30pm\n7576 County Rd U\nDanbury\, WI\n715-866-9977
URL:https://burnettcountyfun.com/event/meat-raffle-gandy-dancer-saloon/2025-09-19/
LOCATION:Gandy Dancer Saloon\, 7576 County Rd U\, Danbury\, WI\, 54830\, United States
CATEGORIES:Charity/Fundraiser
END:VEVENT
BEGIN:VEVENT
DTSTART;TZID=UTC:20250919T180000
DTEND;TZID=UTC:20250919T190000
DTSTAMP:20260424T201313
CREATED:20230607T004130Z
LAST-MODIFIED:20230731T051425Z
UID:10000694-1758304800-1758308400@burnettcountyfun.com
SUMMARY:Meat Raffle | Hummers Rendezvous
DESCRIPTION:Meat Raffle | Hummer’s Rendezvous Grantsburg\, WI\nProceeds go to the Squirrels Unlimited\nEvery Friday 6:00pm\n115 E Madison Ave\nGrantsburg\, WI\n715-463-2322
URL:https://burnettcountyfun.com/event/meat-raffle-hummers-rendezvous/2025-09-19/
LOCATION:Hummer’s Rendezvous\, 115 W Madison Ave\, Grantsburg\, WI\, 54840\, United States
CATEGORIES:Charity/Fundraiser,Food/Beverage
END:VEVENT
BEGIN:VEVENT
DTSTART;TZID=UTC:20250919T183000
DTEND;TZID=UTC:20250919T200000
DTSTAMP:20260424T201313
CREATED:20241020T195124Z
LAST-MODIFIED:20251020T221545Z
UID:10008517-1758306600-1758312000@burnettcountyfun.com
SUMMARY:MEAT RAFFLE
DESCRIPTION:Friday night meat raffle supports the Lake Country Riders Snowmobile Club!
URL:https://burnettcountyfun.com/event/meat-raffle/2025-09-19/
LOCATION:Whiskey Joes\, 6699 State Road 70\, Siren\, WI\, 54872\, United States
CATEGORIES:Charity/Fundraiser
ORGANIZER;CN="lake country riders snowmob":MAILTO:ormanp24@gmail.com
END:VEVENT
BEGIN:VEVENT
DTSTART;TZID=UTC:20250920T173000
DTEND;TZID=UTC:20250920T203000
DTSTAMP:20260424T201313
CREATED:20250331T202948Z
LAST-MODIFIED:20250331T202948Z
UID:10010343-1758389400-1758400200@burnettcountyfun.com
SUMMARY:Blizzard Hockey Meat Raffle
DESCRIPTION:
URL:https://burnettcountyfun.com/event/blizzard-hockey-meat-raffle/2025-09-20/
LOCATION:Tavern On Main\, 7695 E Main St\, Siren\, WI\, 54872\, United States
CATEGORIES:Charity/Fundraiser
ATTACH;FMTTYPE=image/jpeg:https://burnettcountyfun.com/wp-content/uploads/2025/03/IMG_3574.jpg
END:VEVENT
BEGIN:VEVENT
DTSTART;TZID=UTC:20250921T183000
DTEND;TZID=UTC:20250921T200000
DTSTAMP:20260424T201313
CREATED:20241020T195124Z
LAST-MODIFIED:20251020T221545Z
UID:10008518-1758479400-1758484800@burnettcountyfun.com
SUMMARY:MEAT RAFFLE
DESCRIPTION:Friday night meat raffle supports the Lake Country Riders Snowmobile Club!
URL:https://burnettcountyfun.com/event/meat-raffle/2025-09-21/
LOCATION:Whiskey Joes\, 6699 State Road 70\, Siren\, WI\, 54872\, United States
CATEGORIES:Charity/Fundraiser
ORGANIZER;CN="lake country riders snowmob":MAILTO:ormanp24@gmail.com
END:VEVENT
BEGIN:VEVENT
DTSTART;TZID=UTC:20250925T180000
DTEND;TZID=UTC:20250925T193000
DTSTAMP:20260424T201313
CREATED:20250221T172146Z
LAST-MODIFIED:20260113T000453Z
UID:10009818-1758823200-1758828600@burnettcountyfun.com
SUMMARY:Siren Lions Meat Raffle
DESCRIPTION:Looking for a fun way to spend your Thursday evening in Siren\, WI? The Siren Lions meat raffle runs every Thursday from 6:00 to 7:30 PM at The Pheasant Inn & Sports Bar\, offering a great chance to support the community and take home some quality cuts while enjoying a fun night out!
URL:https://burnettcountyfun.com/event/siren-lions-meat-raffle/2025-09-25/
LOCATION:The Pheasant Inn & Sports Bar\, 7694 West Main St\, Siren\, WI\, 54872
CATEGORIES:Charity/Fundraiser
ATTACH;FMTTYPE=image/jpeg:https://burnettcountyfun.com/wp-content/uploads/2025/02/inbound6919946331740657901.jpg
END:VEVENT
END:VCALENDAR