BEGIN:VCALENDAR
VERSION:2.0
PRODID:-//Burnett County, Wisconsin - ECPv6.15.20//NONSGML v1.0//EN
CALSCALE:GREGORIAN
METHOD:PUBLISH
X-ORIGINAL-URL:https://burnettcountyfun.com
X-WR-CALDESC:Events for Burnett County, Wisconsin
REFRESH-INTERVAL;VALUE=DURATION:PT1H
X-Robots-Tag:noindex
X-PUBLISHED-TTL:PT1H
BEGIN:VTIMEZONE
TZID:UTC
BEGIN:STANDARD
TZOFFSETFROM:+0000
TZOFFSETTO:+0000
TZNAME:UTC
DTSTART:20260101T000000
END:STANDARD
END:VTIMEZONE
BEGIN:VEVENT
DTSTART;TZID=UTC:20271231T183000
DTEND;TZID=UTC:20271231T200000
DTSTAMP:20260421T220447
CREATED:20260124T064946Z
LAST-MODIFIED:20260124T064946Z
UID:10008755-1830277800-1830283200@burnettcountyfun.com
SUMMARY:MEAT RAFFLE
DESCRIPTION:Friday night meat raffle supports the Lake Country Riders Snowmobile Club!
URL:https://burnettcountyfun.com/event/meat-raffle-3/2027-12-31/
LOCATION:Whiskey Joes\, 6699 State Road 70\, Siren\, WI\, 54872\, United States
CATEGORIES:Charity/Fundraiser
ORGANIZER;CN="lake country riders snowmob":MAILTO:ormanp24@gmail.com
END:VEVENT
BEGIN:VEVENT
DTSTART;TZID=UTC:20280106T180000
DTEND;TZID=UTC:20280106T193000
DTSTAMP:20260421T220447
CREATED:20250221T172146Z
LAST-MODIFIED:20260113T000453Z
UID:10009937-1830794400-1830799800@burnettcountyfun.com
SUMMARY:Siren Lions Meat Raffle
DESCRIPTION:Looking for a fun way to spend your Thursday evening in Siren\, WI? The Siren Lions meat raffle runs every Thursday from 6:00 to 7:30 PM at The Pheasant Inn & Sports Bar\, offering a great chance to support the community and take home some quality cuts while enjoying a fun night out!
URL:https://burnettcountyfun.com/event/siren-lions-meat-raffle/2028-01-06/
LOCATION:The Pheasant Inn & Sports Bar\, 7694 West Main St\, Siren\, WI\, 54872
CATEGORIES:Charity/Fundraiser
ATTACH;FMTTYPE=image/jpeg:https://burnettcountyfun.com/wp-content/uploads/2025/02/inbound6919946331740657901.jpg
END:VEVENT
BEGIN:VEVENT
DTSTART;TZID=UTC:20280107T173000
DTEND;TZID=UTC:20280107T190000
DTSTAMP:20260421T220447
CREATED:20230607T003751Z
LAST-MODIFIED:20230731T050939Z
UID:10000292-1830879000-1830884400@burnettcountyfun.com
SUMMARY:Meat Raffle | Gandy Dancer Saloon
DESCRIPTION:Meat Raffle | Gandy Dancer Saloon\, Webster\, WI\nProceeds go to the Webster Lions Club\nEvery Friday 5:30pm\n7576 County Rd U\nDanbury\, WI\n715-866-9977
URL:https://burnettcountyfun.com/event/meat-raffle-gandy-dancer-saloon/2028-01-07/
LOCATION:Gandy Dancer Saloon\, 7576 County Rd U\, Danbury\, WI\, 54830\, United States
CATEGORIES:Charity/Fundraiser
END:VEVENT
BEGIN:VEVENT
DTSTART;TZID=UTC:20280107T180000
DTEND;TZID=UTC:20280107T190000
DTSTAMP:20260421T220447
CREATED:20230607T004130Z
LAST-MODIFIED:20230731T051425Z
UID:10000814-1830880800-1830884400@burnettcountyfun.com
SUMMARY:Meat Raffle | Hummers Rendezvous
DESCRIPTION:Meat Raffle | Hummer’s Rendezvous Grantsburg\, WI\nProceeds go to the Squirrels Unlimited\nEvery Friday 6:00pm\n115 E Madison Ave\nGrantsburg\, WI\n715-463-2322
URL:https://burnettcountyfun.com/event/meat-raffle-hummers-rendezvous/2028-01-07/
LOCATION:Hummer’s Rendezvous\, 115 W Madison Ave\, Grantsburg\, WI\, 54840\, United States
CATEGORIES:Charity/Fundraiser,Food/Beverage
END:VEVENT
BEGIN:VEVENT
DTSTART;TZID=UTC:20280107T183000
DTEND;TZID=UTC:20280107T200000
DTSTAMP:20260421T220447
CREATED:20260124T064946Z
LAST-MODIFIED:20260124T064946Z
UID:10008757-1830882600-1830888000@burnettcountyfun.com
SUMMARY:MEAT RAFFLE
DESCRIPTION:Friday night meat raffle supports the Lake Country Riders Snowmobile Club!
URL:https://burnettcountyfun.com/event/meat-raffle-3/2028-01-07/
LOCATION:Whiskey Joes\, 6699 State Road 70\, Siren\, WI\, 54872\, United States
CATEGORIES:Charity/Fundraiser
ORGANIZER;CN="lake country riders snowmob":MAILTO:ormanp24@gmail.com
END:VEVENT
BEGIN:VEVENT
DTSTART;TZID=UTC:20280113T180000
DTEND;TZID=UTC:20280113T193000
DTSTAMP:20260421T220447
CREATED:20250221T172146Z
LAST-MODIFIED:20260113T000453Z
UID:10009938-1831399200-1831404600@burnettcountyfun.com
SUMMARY:Siren Lions Meat Raffle
DESCRIPTION:Looking for a fun way to spend your Thursday evening in Siren\, WI? The Siren Lions meat raffle runs every Thursday from 6:00 to 7:30 PM at The Pheasant Inn & Sports Bar\, offering a great chance to support the community and take home some quality cuts while enjoying a fun night out!
URL:https://burnettcountyfun.com/event/siren-lions-meat-raffle/2028-01-13/
LOCATION:The Pheasant Inn & Sports Bar\, 7694 West Main St\, Siren\, WI\, 54872
CATEGORIES:Charity/Fundraiser
ATTACH;FMTTYPE=image/jpeg:https://burnettcountyfun.com/wp-content/uploads/2025/02/inbound6919946331740657901.jpg
END:VEVENT
BEGIN:VEVENT
DTSTART;TZID=UTC:20280114T173000
DTEND;TZID=UTC:20280114T190000
DTSTAMP:20260421T220447
CREATED:20230607T003751Z
LAST-MODIFIED:20230731T050939Z
UID:10000293-1831483800-1831489200@burnettcountyfun.com
SUMMARY:Meat Raffle | Gandy Dancer Saloon
DESCRIPTION:Meat Raffle | Gandy Dancer Saloon\, Webster\, WI\nProceeds go to the Webster Lions Club\nEvery Friday 5:30pm\n7576 County Rd U\nDanbury\, WI\n715-866-9977
URL:https://burnettcountyfun.com/event/meat-raffle-gandy-dancer-saloon/2028-01-14/
LOCATION:Gandy Dancer Saloon\, 7576 County Rd U\, Danbury\, WI\, 54830\, United States
CATEGORIES:Charity/Fundraiser
END:VEVENT
BEGIN:VEVENT
DTSTART;TZID=UTC:20280114T180000
DTEND;TZID=UTC:20280114T190000
DTSTAMP:20260421T220447
CREATED:20230607T004130Z
LAST-MODIFIED:20230731T051425Z
UID:10000815-1831485600-1831489200@burnettcountyfun.com
SUMMARY:Meat Raffle | Hummers Rendezvous
DESCRIPTION:Meat Raffle | Hummer’s Rendezvous Grantsburg\, WI\nProceeds go to the Squirrels Unlimited\nEvery Friday 6:00pm\n115 E Madison Ave\nGrantsburg\, WI\n715-463-2322
URL:https://burnettcountyfun.com/event/meat-raffle-hummers-rendezvous/2028-01-14/
LOCATION:Hummer’s Rendezvous\, 115 W Madison Ave\, Grantsburg\, WI\, 54840\, United States
CATEGORIES:Charity/Fundraiser,Food/Beverage
END:VEVENT
BEGIN:VEVENT
DTSTART;TZID=UTC:20280114T183000
DTEND;TZID=UTC:20280114T200000
DTSTAMP:20260421T220447
CREATED:20260124T064946Z
LAST-MODIFIED:20260124T064946Z
UID:10008759-1831487400-1831492800@burnettcountyfun.com
SUMMARY:MEAT RAFFLE
DESCRIPTION:Friday night meat raffle supports the Lake Country Riders Snowmobile Club!
URL:https://burnettcountyfun.com/event/meat-raffle-3/2028-01-14/
LOCATION:Whiskey Joes\, 6699 State Road 70\, Siren\, WI\, 54872\, United States
CATEGORIES:Charity/Fundraiser
ORGANIZER;CN="lake country riders snowmob":MAILTO:ormanp24@gmail.com
END:VEVENT
BEGIN:VEVENT
DTSTART;TZID=UTC:20280120T180000
DTEND;TZID=UTC:20280120T193000
DTSTAMP:20260421T220447
CREATED:20250221T172146Z
LAST-MODIFIED:20260113T000453Z
UID:10009939-1832004000-1832009400@burnettcountyfun.com
SUMMARY:Siren Lions Meat Raffle
DESCRIPTION:Looking for a fun way to spend your Thursday evening in Siren\, WI? The Siren Lions meat raffle runs every Thursday from 6:00 to 7:30 PM at The Pheasant Inn & Sports Bar\, offering a great chance to support the community and take home some quality cuts while enjoying a fun night out!
URL:https://burnettcountyfun.com/event/siren-lions-meat-raffle/2028-01-20/
LOCATION:The Pheasant Inn & Sports Bar\, 7694 West Main St\, Siren\, WI\, 54872
CATEGORIES:Charity/Fundraiser
ATTACH;FMTTYPE=image/jpeg:https://burnettcountyfun.com/wp-content/uploads/2025/02/inbound6919946331740657901.jpg
END:VEVENT
BEGIN:VEVENT
DTSTART;TZID=UTC:20280121T173000
DTEND;TZID=UTC:20280121T190000
DTSTAMP:20260421T220447
CREATED:20230607T003751Z
LAST-MODIFIED:20230731T050939Z
UID:10000294-1832088600-1832094000@burnettcountyfun.com
SUMMARY:Meat Raffle | Gandy Dancer Saloon
DESCRIPTION:Meat Raffle | Gandy Dancer Saloon\, Webster\, WI\nProceeds go to the Webster Lions Club\nEvery Friday 5:30pm\n7576 County Rd U\nDanbury\, WI\n715-866-9977
URL:https://burnettcountyfun.com/event/meat-raffle-gandy-dancer-saloon/2028-01-21/
LOCATION:Gandy Dancer Saloon\, 7576 County Rd U\, Danbury\, WI\, 54830\, United States
CATEGORIES:Charity/Fundraiser
END:VEVENT
BEGIN:VEVENT
DTSTART;TZID=UTC:20280121T180000
DTEND;TZID=UTC:20280121T190000
DTSTAMP:20260421T220447
CREATED:20230607T004130Z
LAST-MODIFIED:20230731T051425Z
UID:10000816-1832090400-1832094000@burnettcountyfun.com
SUMMARY:Meat Raffle | Hummers Rendezvous
DESCRIPTION:Meat Raffle | Hummer’s Rendezvous Grantsburg\, WI\nProceeds go to the Squirrels Unlimited\nEvery Friday 6:00pm\n115 E Madison Ave\nGrantsburg\, WI\n715-463-2322
URL:https://burnettcountyfun.com/event/meat-raffle-hummers-rendezvous/2028-01-21/
LOCATION:Hummer’s Rendezvous\, 115 W Madison Ave\, Grantsburg\, WI\, 54840\, United States
CATEGORIES:Charity/Fundraiser,Food/Beverage
END:VEVENT
BEGIN:VEVENT
DTSTART;TZID=UTC:20280121T183000
DTEND;TZID=UTC:20280121T200000
DTSTAMP:20260421T220447
CREATED:20260124T064946Z
LAST-MODIFIED:20260124T064946Z
UID:10008761-1832092200-1832097600@burnettcountyfun.com
SUMMARY:MEAT RAFFLE
DESCRIPTION:Friday night meat raffle supports the Lake Country Riders Snowmobile Club!
URL:https://burnettcountyfun.com/event/meat-raffle-3/2028-01-21/
LOCATION:Whiskey Joes\, 6699 State Road 70\, Siren\, WI\, 54872\, United States
CATEGORIES:Charity/Fundraiser
ORGANIZER;CN="lake country riders snowmob":MAILTO:ormanp24@gmail.com
END:VEVENT
BEGIN:VEVENT
DTSTART;TZID=UTC:20280127T180000
DTEND;TZID=UTC:20280127T193000
DTSTAMP:20260421T220447
CREATED:20250221T172146Z
LAST-MODIFIED:20260113T000453Z
UID:10009940-1832608800-1832614200@burnettcountyfun.com
SUMMARY:Siren Lions Meat Raffle
DESCRIPTION:Looking for a fun way to spend your Thursday evening in Siren\, WI? The Siren Lions meat raffle runs every Thursday from 6:00 to 7:30 PM at The Pheasant Inn & Sports Bar\, offering a great chance to support the community and take home some quality cuts while enjoying a fun night out!
URL:https://burnettcountyfun.com/event/siren-lions-meat-raffle/2028-01-27/
LOCATION:The Pheasant Inn & Sports Bar\, 7694 West Main St\, Siren\, WI\, 54872
CATEGORIES:Charity/Fundraiser
ATTACH;FMTTYPE=image/jpeg:https://burnettcountyfun.com/wp-content/uploads/2025/02/inbound6919946331740657901.jpg
END:VEVENT
BEGIN:VEVENT
DTSTART;TZID=UTC:20280128T173000
DTEND;TZID=UTC:20280128T190000
DTSTAMP:20260421T220447
CREATED:20230607T003751Z
LAST-MODIFIED:20230731T050939Z
UID:10000295-1832693400-1832698800@burnettcountyfun.com
SUMMARY:Meat Raffle | Gandy Dancer Saloon
DESCRIPTION:Meat Raffle | Gandy Dancer Saloon\, Webster\, WI\nProceeds go to the Webster Lions Club\nEvery Friday 5:30pm\n7576 County Rd U\nDanbury\, WI\n715-866-9977
URL:https://burnettcountyfun.com/event/meat-raffle-gandy-dancer-saloon/2028-01-28/
LOCATION:Gandy Dancer Saloon\, 7576 County Rd U\, Danbury\, WI\, 54830\, United States
CATEGORIES:Charity/Fundraiser
END:VEVENT
BEGIN:VEVENT
DTSTART;TZID=UTC:20280128T180000
DTEND;TZID=UTC:20280128T190000
DTSTAMP:20260421T220447
CREATED:20230607T004130Z
LAST-MODIFIED:20230731T051425Z
UID:10000817-1832695200-1832698800@burnettcountyfun.com
SUMMARY:Meat Raffle | Hummers Rendezvous
DESCRIPTION:Meat Raffle | Hummer’s Rendezvous Grantsburg\, WI\nProceeds go to the Squirrels Unlimited\nEvery Friday 6:00pm\n115 E Madison Ave\nGrantsburg\, WI\n715-463-2322
URL:https://burnettcountyfun.com/event/meat-raffle-hummers-rendezvous/2028-01-28/
LOCATION:Hummer’s Rendezvous\, 115 W Madison Ave\, Grantsburg\, WI\, 54840\, United States
CATEGORIES:Charity/Fundraiser,Food/Beverage
END:VEVENT
BEGIN:VEVENT
DTSTART;TZID=UTC:20280128T183000
DTEND;TZID=UTC:20280128T200000
DTSTAMP:20260421T220447
CREATED:20260124T064946Z
LAST-MODIFIED:20260124T064946Z
UID:10008763-1832697000-1832702400@burnettcountyfun.com
SUMMARY:MEAT RAFFLE
DESCRIPTION:Friday night meat raffle supports the Lake Country Riders Snowmobile Club!
URL:https://burnettcountyfun.com/event/meat-raffle-3/2028-01-28/
LOCATION:Whiskey Joes\, 6699 State Road 70\, Siren\, WI\, 54872\, United States
CATEGORIES:Charity/Fundraiser
ORGANIZER;CN="lake country riders snowmob":MAILTO:ormanp24@gmail.com
END:VEVENT
BEGIN:VEVENT
DTSTART;TZID=UTC:20280203T180000
DTEND;TZID=UTC:20280203T193000
DTSTAMP:20260421T220447
CREATED:20250221T172146Z
LAST-MODIFIED:20260113T000453Z
UID:10009941-1833213600-1833219000@burnettcountyfun.com
SUMMARY:Siren Lions Meat Raffle
DESCRIPTION:Looking for a fun way to spend your Thursday evening in Siren\, WI? The Siren Lions meat raffle runs every Thursday from 6:00 to 7:30 PM at The Pheasant Inn & Sports Bar\, offering a great chance to support the community and take home some quality cuts while enjoying a fun night out!
URL:https://burnettcountyfun.com/event/siren-lions-meat-raffle/2028-02-03/
LOCATION:The Pheasant Inn & Sports Bar\, 7694 West Main St\, Siren\, WI\, 54872
CATEGORIES:Charity/Fundraiser
ATTACH;FMTTYPE=image/jpeg:https://burnettcountyfun.com/wp-content/uploads/2025/02/inbound6919946331740657901.jpg
END:VEVENT
BEGIN:VEVENT
DTSTART;TZID=UTC:20280204T173000
DTEND;TZID=UTC:20280204T190000
DTSTAMP:20260421T220447
CREATED:20230607T003751Z
LAST-MODIFIED:20230731T050939Z
UID:10000296-1833298200-1833303600@burnettcountyfun.com
SUMMARY:Meat Raffle | Gandy Dancer Saloon
DESCRIPTION:Meat Raffle | Gandy Dancer Saloon\, Webster\, WI\nProceeds go to the Webster Lions Club\nEvery Friday 5:30pm\n7576 County Rd U\nDanbury\, WI\n715-866-9977
URL:https://burnettcountyfun.com/event/meat-raffle-gandy-dancer-saloon/2028-02-04/
LOCATION:Gandy Dancer Saloon\, 7576 County Rd U\, Danbury\, WI\, 54830\, United States
CATEGORIES:Charity/Fundraiser
END:VEVENT
BEGIN:VEVENT
DTSTART;TZID=UTC:20280204T180000
DTEND;TZID=UTC:20280204T190000
DTSTAMP:20260421T220447
CREATED:20230607T004130Z
LAST-MODIFIED:20230731T051425Z
UID:10000818-1833300000-1833303600@burnettcountyfun.com
SUMMARY:Meat Raffle | Hummers Rendezvous
DESCRIPTION:Meat Raffle | Hummer’s Rendezvous Grantsburg\, WI\nProceeds go to the Squirrels Unlimited\nEvery Friday 6:00pm\n115 E Madison Ave\nGrantsburg\, WI\n715-463-2322
URL:https://burnettcountyfun.com/event/meat-raffle-hummers-rendezvous/2028-02-04/
LOCATION:Hummer’s Rendezvous\, 115 W Madison Ave\, Grantsburg\, WI\, 54840\, United States
CATEGORIES:Charity/Fundraiser,Food/Beverage
END:VEVENT
BEGIN:VEVENT
DTSTART;TZID=UTC:20280204T183000
DTEND;TZID=UTC:20280204T200000
DTSTAMP:20260421T220447
CREATED:20260124T064946Z
LAST-MODIFIED:20260124T064946Z
UID:10008765-1833301800-1833307200@burnettcountyfun.com
SUMMARY:MEAT RAFFLE
DESCRIPTION:Friday night meat raffle supports the Lake Country Riders Snowmobile Club!
URL:https://burnettcountyfun.com/event/meat-raffle-3/2028-02-04/
LOCATION:Whiskey Joes\, 6699 State Road 70\, Siren\, WI\, 54872\, United States
CATEGORIES:Charity/Fundraiser
ORGANIZER;CN="lake country riders snowmob":MAILTO:ormanp24@gmail.com
END:VEVENT
BEGIN:VEVENT
DTSTART;TZID=UTC:20280210T180000
DTEND;TZID=UTC:20280210T193000
DTSTAMP:20260421T220447
CREATED:20250221T172146Z
LAST-MODIFIED:20260113T000453Z
UID:10009942-1833818400-1833823800@burnettcountyfun.com
SUMMARY:Siren Lions Meat Raffle
DESCRIPTION:Looking for a fun way to spend your Thursday evening in Siren\, WI? The Siren Lions meat raffle runs every Thursday from 6:00 to 7:30 PM at The Pheasant Inn & Sports Bar\, offering a great chance to support the community and take home some quality cuts while enjoying a fun night out!
URL:https://burnettcountyfun.com/event/siren-lions-meat-raffle/2028-02-10/
LOCATION:The Pheasant Inn & Sports Bar\, 7694 West Main St\, Siren\, WI\, 54872
CATEGORIES:Charity/Fundraiser
ATTACH;FMTTYPE=image/jpeg:https://burnettcountyfun.com/wp-content/uploads/2025/02/inbound6919946331740657901.jpg
END:VEVENT
BEGIN:VEVENT
DTSTART;TZID=UTC:20280211T173000
DTEND;TZID=UTC:20280211T190000
DTSTAMP:20260421T220447
CREATED:20230607T003751Z
LAST-MODIFIED:20230731T050939Z
UID:10000297-1833903000-1833908400@burnettcountyfun.com
SUMMARY:Meat Raffle | Gandy Dancer Saloon
DESCRIPTION:Meat Raffle | Gandy Dancer Saloon\, Webster\, WI\nProceeds go to the Webster Lions Club\nEvery Friday 5:30pm\n7576 County Rd U\nDanbury\, WI\n715-866-9977
URL:https://burnettcountyfun.com/event/meat-raffle-gandy-dancer-saloon/2028-02-11/
LOCATION:Gandy Dancer Saloon\, 7576 County Rd U\, Danbury\, WI\, 54830\, United States
CATEGORIES:Charity/Fundraiser
END:VEVENT
BEGIN:VEVENT
DTSTART;TZID=UTC:20280211T180000
DTEND;TZID=UTC:20280211T190000
DTSTAMP:20260421T220447
CREATED:20230607T004130Z
LAST-MODIFIED:20230731T051425Z
UID:10000819-1833904800-1833908400@burnettcountyfun.com
SUMMARY:Meat Raffle | Hummers Rendezvous
DESCRIPTION:Meat Raffle | Hummer’s Rendezvous Grantsburg\, WI\nProceeds go to the Squirrels Unlimited\nEvery Friday 6:00pm\n115 E Madison Ave\nGrantsburg\, WI\n715-463-2322
URL:https://burnettcountyfun.com/event/meat-raffle-hummers-rendezvous/2028-02-11/
LOCATION:Hummer’s Rendezvous\, 115 W Madison Ave\, Grantsburg\, WI\, 54840\, United States
CATEGORIES:Charity/Fundraiser,Food/Beverage
END:VEVENT
BEGIN:VEVENT
DTSTART;TZID=UTC:20280211T183000
DTEND;TZID=UTC:20280211T200000
DTSTAMP:20260421T220447
CREATED:20260124T064946Z
LAST-MODIFIED:20260124T064946Z
UID:10008767-1833906600-1833912000@burnettcountyfun.com
SUMMARY:MEAT RAFFLE
DESCRIPTION:Friday night meat raffle supports the Lake Country Riders Snowmobile Club!
URL:https://burnettcountyfun.com/event/meat-raffle-3/2028-02-11/
LOCATION:Whiskey Joes\, 6699 State Road 70\, Siren\, WI\, 54872\, United States
CATEGORIES:Charity/Fundraiser
ORGANIZER;CN="lake country riders snowmob":MAILTO:ormanp24@gmail.com
END:VEVENT
BEGIN:VEVENT
DTSTART;TZID=UTC:20280217T180000
DTEND;TZID=UTC:20280217T193000
DTSTAMP:20260421T220447
CREATED:20250221T172146Z
LAST-MODIFIED:20260113T000453Z
UID:10009943-1834423200-1834428600@burnettcountyfun.com
SUMMARY:Siren Lions Meat Raffle
DESCRIPTION:Looking for a fun way to spend your Thursday evening in Siren\, WI? The Siren Lions meat raffle runs every Thursday from 6:00 to 7:30 PM at The Pheasant Inn & Sports Bar\, offering a great chance to support the community and take home some quality cuts while enjoying a fun night out!
URL:https://burnettcountyfun.com/event/siren-lions-meat-raffle/2028-02-17/
LOCATION:The Pheasant Inn & Sports Bar\, 7694 West Main St\, Siren\, WI\, 54872
CATEGORIES:Charity/Fundraiser
ATTACH;FMTTYPE=image/jpeg:https://burnettcountyfun.com/wp-content/uploads/2025/02/inbound6919946331740657901.jpg
END:VEVENT
BEGIN:VEVENT
DTSTART;TZID=UTC:20280218T173000
DTEND;TZID=UTC:20280218T190000
DTSTAMP:20260421T220447
CREATED:20230607T003751Z
LAST-MODIFIED:20230731T050939Z
UID:10000298-1834507800-1834513200@burnettcountyfun.com
SUMMARY:Meat Raffle | Gandy Dancer Saloon
DESCRIPTION:Meat Raffle | Gandy Dancer Saloon\, Webster\, WI\nProceeds go to the Webster Lions Club\nEvery Friday 5:30pm\n7576 County Rd U\nDanbury\, WI\n715-866-9977
URL:https://burnettcountyfun.com/event/meat-raffle-gandy-dancer-saloon/2028-02-18/
LOCATION:Gandy Dancer Saloon\, 7576 County Rd U\, Danbury\, WI\, 54830\, United States
CATEGORIES:Charity/Fundraiser
END:VEVENT
BEGIN:VEVENT
DTSTART;TZID=UTC:20280218T180000
DTEND;TZID=UTC:20280218T190000
DTSTAMP:20260421T220447
CREATED:20230607T004130Z
LAST-MODIFIED:20230731T051425Z
UID:10000820-1834509600-1834513200@burnettcountyfun.com
SUMMARY:Meat Raffle | Hummers Rendezvous
DESCRIPTION:Meat Raffle | Hummer’s Rendezvous Grantsburg\, WI\nProceeds go to the Squirrels Unlimited\nEvery Friday 6:00pm\n115 E Madison Ave\nGrantsburg\, WI\n715-463-2322
URL:https://burnettcountyfun.com/event/meat-raffle-hummers-rendezvous/2028-02-18/
LOCATION:Hummer’s Rendezvous\, 115 W Madison Ave\, Grantsburg\, WI\, 54840\, United States
CATEGORIES:Charity/Fundraiser,Food/Beverage
END:VEVENT
BEGIN:VEVENT
DTSTART;TZID=UTC:20280218T183000
DTEND;TZID=UTC:20280218T200000
DTSTAMP:20260421T220447
CREATED:20260124T064946Z
LAST-MODIFIED:20260124T064946Z
UID:10008769-1834511400-1834516800@burnettcountyfun.com
SUMMARY:MEAT RAFFLE
DESCRIPTION:Friday night meat raffle supports the Lake Country Riders Snowmobile Club!
URL:https://burnettcountyfun.com/event/meat-raffle-3/2028-02-18/
LOCATION:Whiskey Joes\, 6699 State Road 70\, Siren\, WI\, 54872\, United States
CATEGORIES:Charity/Fundraiser
ORGANIZER;CN="lake country riders snowmob":MAILTO:ormanp24@gmail.com
END:VEVENT
BEGIN:VEVENT
DTSTART;TZID=UTC:20280224T180000
DTEND;TZID=UTC:20280224T193000
DTSTAMP:20260421T220447
CREATED:20250221T172146Z
LAST-MODIFIED:20260113T000453Z
UID:10009944-1835028000-1835033400@burnettcountyfun.com
SUMMARY:Siren Lions Meat Raffle
DESCRIPTION:Looking for a fun way to spend your Thursday evening in Siren\, WI? The Siren Lions meat raffle runs every Thursday from 6:00 to 7:30 PM at The Pheasant Inn & Sports Bar\, offering a great chance to support the community and take home some quality cuts while enjoying a fun night out!
URL:https://burnettcountyfun.com/event/siren-lions-meat-raffle/2028-02-24/
LOCATION:The Pheasant Inn & Sports Bar\, 7694 West Main St\, Siren\, WI\, 54872
CATEGORIES:Charity/Fundraiser
ATTACH;FMTTYPE=image/jpeg:https://burnettcountyfun.com/wp-content/uploads/2025/02/inbound6919946331740657901.jpg
END:VEVENT
END:VCALENDAR