BEGIN:VCALENDAR
VERSION:2.0
PRODID:-//Burnett County, Wisconsin - ECPv6.15.20//NONSGML v1.0//EN
CALSCALE:GREGORIAN
METHOD:PUBLISH
X-ORIGINAL-URL:https://burnettcountyfun.com
X-WR-CALDESC:Events for Burnett County, Wisconsin
REFRESH-INTERVAL;VALUE=DURATION:PT1H
X-Robots-Tag:noindex
X-PUBLISHED-TTL:PT1H
BEGIN:VTIMEZONE
TZID:UTC
BEGIN:STANDARD
TZOFFSETFROM:+0000
TZOFFSETTO:+0000
TZNAME:UTC
DTSTART:20240101T000000
END:STANDARD
END:VTIMEZONE
BEGIN:VTIMEZONE
TZID:America/Chicago
BEGIN:DAYLIGHT
TZOFFSETFROM:-0600
TZOFFSETTO:-0500
TZNAME:CDT
DTSTART:20240310T080000
END:DAYLIGHT
BEGIN:STANDARD
TZOFFSETFROM:-0500
TZOFFSETTO:-0600
TZNAME:CST
DTSTART:20241103T070000
END:STANDARD
BEGIN:DAYLIGHT
TZOFFSETFROM:-0600
TZOFFSETTO:-0500
TZNAME:CDT
DTSTART:20250309T080000
END:DAYLIGHT
BEGIN:STANDARD
TZOFFSETFROM:-0500
TZOFFSETTO:-0600
TZNAME:CST
DTSTART:20251102T070000
END:STANDARD
BEGIN:DAYLIGHT
TZOFFSETFROM:-0600
TZOFFSETTO:-0500
TZNAME:CDT
DTSTART:20260308T080000
END:DAYLIGHT
BEGIN:STANDARD
TZOFFSETFROM:-0500
TZOFFSETTO:-0600
TZNAME:CST
DTSTART:20261101T070000
END:STANDARD
END:VTIMEZONE
BEGIN:VEVENT
DTSTART;TZID=UTC:20251101T090000
DTEND;TZID=UTC:20251101T150000
DTSTAMP:20260424T103513
CREATED:20250917T231549Z
LAST-MODIFIED:20250917T231549Z
UID:10010736-1761987600-1762009200@burnettcountyfun.com
SUMMARY:Northwoods Christmas Artisan and Crafters Fair
DESCRIPTION:Area’s largest! Vendors selling fine arts\, crafts\, vintage/upcycled items\, antiques\, tasty treats\, and independent home consultants fill two gymnasiums\, a large common area\, and hallways. This premier event has been held annually for over 25 years and is a great place to do some holiday shopping and spend the day with friends. Visit Siren and the surrounding area for more great shops and eateries. \nSaturday\, Nov. 1\n9 a.m. to 3 p.m. \nSiren Schools\n24022 4th Avenue\nSiren\, WI 54872 \n 
URL:https://burnettcountyfun.com/event/northwoods-christmas-artisan-and-crafters-fair-2/
LOCATION:Siren School District\, 24022 4th Ave\, Siren\, WI\, 54872\, United States
CATEGORIES:Family Friendly
ATTACH;FMTTYPE=image/png:https://burnettcountyfun.com/wp-content/uploads/2025/09/Screenshot-2025-09-17-131453.png
ORGANIZER;CN="More For Kids":MAILTO:momsforkidswi@gmail.com
END:VEVENT
BEGIN:VEVENT
DTSTART;TZID=America/Chicago:20251122T090000
DTEND;TZID=America/Chicago:20251122T170000
DTSTAMP:20260424T103513
CREATED:20251103T155128Z
LAST-MODIFIED:20251103T155128Z
UID:10011484-1763802000-1763830800@burnettcountyfun.com
SUMMARY:Sky High Ranch Fall Fun Show
DESCRIPTION:Join us for a day of fun and laughter at the Sky High Ranch Fall Fun Show!  \nRiders of all ages will compete in a variety of lighthearted\, family-friendly equine games and challenges — including favorites like Pass the Pie Relay and Stuff the Turkey timed events. \nSpectators are welcome free of charge\, so come cheer on the riders\, grab a bite from our on-site concessions\, and enjoy the action inside our temperature-controlled indoor arena — no matter the weather! \nCan’t make it to the show but want to learn more about what Sky High Ranch has to offer?\n👉 Follow us on Facebook to see upcoming events\, clinics\, and horseback riding lesson opportunities.
URL:https://burnettcountyfun.com/event/sky-high-ranch-fall-fun-show/
LOCATION:Sky High Ranch\, 27949 County Road H\, Webster\, 54893\, United States
CATEGORIES:Family Friendly,Sports
ATTACH;FMTTYPE=image/jpeg:https://burnettcountyfun.com/wp-content/uploads/2025/11/FunShowNov-scaled.jpg
ORGANIZER;CN="Sky High Ranch":MAILTO:howdy@skyhighranchwi.com
END:VEVENT
END:VCALENDAR