BEGIN:VCALENDAR
VERSION:2.0
PRODID:-//Burnett County, Wisconsin - ECPv6.15.20//NONSGML v1.0//EN
CALSCALE:GREGORIAN
METHOD:PUBLISH
X-ORIGINAL-URL:https://burnettcountyfun.com
X-WR-CALDESC:Events for Burnett County, Wisconsin
REFRESH-INTERVAL;VALUE=DURATION:PT1H
X-Robots-Tag:noindex
X-PUBLISHED-TTL:PT1H
BEGIN:VTIMEZONE
TZID:UTC
BEGIN:STANDARD
TZOFFSETFROM:+0000
TZOFFSETTO:+0000
TZNAME:UTC
DTSTART:20240101T000000
END:STANDARD
END:VTIMEZONE
BEGIN:VTIMEZONE
TZID:America/Chicago
BEGIN:DAYLIGHT
TZOFFSETFROM:-0600
TZOFFSETTO:-0500
TZNAME:CDT
DTSTART:20240310T080000
END:DAYLIGHT
BEGIN:STANDARD
TZOFFSETFROM:-0500
TZOFFSETTO:-0600
TZNAME:CST
DTSTART:20241103T070000
END:STANDARD
BEGIN:DAYLIGHT
TZOFFSETFROM:-0600
TZOFFSETTO:-0500
TZNAME:CDT
DTSTART:20250309T080000
END:DAYLIGHT
BEGIN:STANDARD
TZOFFSETFROM:-0500
TZOFFSETTO:-0600
TZNAME:CST
DTSTART:20251102T070000
END:STANDARD
BEGIN:DAYLIGHT
TZOFFSETFROM:-0600
TZOFFSETTO:-0500
TZNAME:CDT
DTSTART:20260308T080000
END:DAYLIGHT
BEGIN:STANDARD
TZOFFSETFROM:-0500
TZOFFSETTO:-0600
TZNAME:CST
DTSTART:20261101T070000
END:STANDARD
END:VTIMEZONE
BEGIN:VEVENT
DTSTART;TZID=UTC:20251206T120000
DTEND;TZID=UTC:20251207T170000
DTSTAMP:20260423T131348
CREATED:20250127T213710Z
LAST-MODIFIED:20251118T031849Z
UID:10009759-1765022400-1765126800@burnettcountyfun.com
SUMMARY:Merry Market
DESCRIPTION:Join us at Brickfield Brewing for a festive two-day holiday market filled with shopping\, seasonal treats\, and family fun! \nSaturday\, December 6\nKick off the weekend with local vendors offering handcrafted gifts and holiday goods!\n– Chocolate Mint Milk Stout Release\n– Live music by Shady & Sam from 2–5 PM\n– Featured vendors include: Camp 41 Roasters\, Color Street\, Mel’s Scentsy\, North Park Goods\, Rooted & Wild\, Skincare by Macy\, The Crazy Goat Lady Shop\, The Maine Idea\, The Root Cellar Apothecary and Market\, Three Buds Farm\, and more. \nSunday\, December 7\nEnjoy a fresh lineup of vendors and festive activities for all ages!\n– Pictures with Santa from 12–3 PM\n– Horse-drawn wagon rides to Memory Lake Park from 1–5 PM\n– Complimentary hot cocoa and s’mores\n– Sunday vendors include: Botanical Burns Candle Co.\, Camp 41 Roasters\, Color Street\, I Am Illuminating\, Lakeside Gardens\, Gifts & Bakery\, Mel’s Scentsy\, MIXMATCHX\, North Park Goods\, PaperPie\, Three Buds Farms\, and more.\nEach day offers a unique experience—come celebrate the season with us at Brickfield Brewing.
URL:https://burnettcountyfun.com/event/merry-market/
LOCATION:Brickfield Brewing\, 130 W Olson Drive\, Grantsburg\, WI\, 54840\, United States
CATEGORIES:Family Friendly,Festival,Food/Beverage
ATTACH;FMTTYPE=image/jpeg:https://burnettcountyfun.com/wp-content/uploads/2025/01/572236207_1444789720832257_834800408159111927_n.jpg
END:VEVENT
BEGIN:VEVENT
DTSTART;TZID=UTC:20251207T100000
DTEND;TZID=UTC:20251207T150000
DTSTAMP:20260423T131348
CREATED:20250127T213625Z
LAST-MODIFIED:20251118T032543Z
UID:10011501-1765101600-1765119600@burnettcountyfun.com
SUMMARY:Christmas at The Forts
DESCRIPTION:Christmas at the Forts 2025 – A Holiday Tradition with Frontier Charm\nStep into a snow-dusted wonderland at Fort Folle Avoine Historical Park in Danbury\, WI\, where history meets holiday magic! \nDecember 6\, 7\, and 13 10 AM – 3 PM\nCelebrate the season with cozy cabins\, crackling fires\, and old-fashioned cheer. Here’s what’s waiting for you:\n– Historic Log Cabins Dressed for the Holidays – wander through beautifully decorated 1800s-era buildings and experience Christmas like the pioneers did\n– Photos with Santa – bring your wish list and your best smile\n– Live Music & Caroling – warm up with festive tunes and sing along\n– Holiday Market – shop handcrafted gifts\, local goods\, and seasonal treats\n– Hot Cocoa & Cider by the Fire – sip something warm while you soak in the atmosphere\n– Snowy Trails & Pine-Scented Strolls – take a peaceful walk through the winter woods \nHosted by the Burnett County Historical Society\, this event is perfect for families\, history buffs\, and anyone looking to add a little frontier flair to their holiday season. Bundle up and come make memories at the Fort!
URL:https://burnettcountyfun.com/event/christmas-at-the-forts-2/2025-12-07/
LOCATION:Forts Folle Avoine\, 8500 Co Hwy U\, Danbury\, WI\, 54830\, United States
CATEGORIES:Family Friendly,Festival,Food/Beverage
ATTACH;FMTTYPE=image/webp:https://burnettcountyfun.com/wp-content/uploads/2025/01/674dde010e29c.webp
END:VEVENT
BEGIN:VEVENT
DTSTART;TZID=America/Chicago:20251207T100000
DTEND;TZID=America/Chicago:20251207T150000
DTSTAMP:20260423T131348
CREATED:20251124T203013Z
LAST-MODIFIED:20251124T203013Z
UID:10011503-1765101600-1765119600@burnettcountyfun.com
SUMMARY:Holiday Market
DESCRIPTION:Join us on Sunday\, December 7th\, from 10 am–3 pm for our annual Holiday Market! \nShop from more than 50 local vendors offering handmade gifts\, holiday décor\, treats\, and unique items perfect for the season! This festive event is a chance to support small businesses\, discover one‑of‑a‑kind treasures\, and enjoy the holiday spirit with your community! \nAdmission is free\, and tables will be filled with creative goods and seasonal favorites. \nDate: Sunday\, December 7\, 2025\nTime: 10 am–3 pm\nLocation: Zhashagiins Event Center \nMark your calendar and come celebrate the holidays with us!
URL:https://burnettcountyfun.com/event/holiday-market/
LOCATION:Zhashagiins Event Center\, 24133 State Rd 35/70\, Siren\, WI\, 54872\, United States
CATEGORIES:Family Friendly
ATTACH;FMTTYPE=image/jpeg:https://burnettcountyfun.com/wp-content/uploads/2025/11/568656253_719191684528722_5481698503274966748_n.jpg
END:VEVENT
END:VCALENDAR