BEGIN:VCALENDAR
VERSION:2.0
PRODID:-//Burnett County, Wisconsin - ECPv6.15.20//NONSGML v1.0//EN
CALSCALE:GREGORIAN
METHOD:PUBLISH
X-ORIGINAL-URL:https://burnettcountyfun.com
X-WR-CALDESC:Events for Burnett County, Wisconsin
REFRESH-INTERVAL;VALUE=DURATION:PT1H
X-Robots-Tag:noindex
X-PUBLISHED-TTL:PT1H
BEGIN:VTIMEZONE
TZID:UTC
BEGIN:STANDARD
TZOFFSETFROM:+0000
TZOFFSETTO:+0000
TZNAME:UTC
DTSTART:20240101T000000
END:STANDARD
END:VTIMEZONE
BEGIN:VEVENT
DTSTART;TZID=UTC:20251031T160000
DTEND;TZID=UTC:20251031T180000
DTSTAMP:20260420T052640
CREATED:20250929T233134Z
LAST-MODIFIED:20250929T233134Z
UID:10010739-1761926400-1761933600@burnettcountyfun.com
SUMMARY:Trunk or Treat in Siren
DESCRIPTION:Trunk or Treat\nOctober 31st\, 2025\nLodge Center Arena\n4-6pm\nHost a trunk (no registration required)\, bring the family to enjoy the decorated Trunks & Treats\, or both!
URL:https://burnettcountyfun.com/event/trunk-or-treat-in-siren-3/
LOCATION:Lodge Center Arena\, 24185 1st Ave\, Siren\, WI\, 54872\, United States
CATEGORIES:Family Friendly
ATTACH;FMTTYPE=image/png:https://burnettcountyfun.com/wp-content/uploads/2025/09/Colorful-Creative-Trick-or-Treat-Flyer-2.png
ORGANIZER;CN="Siren Chamber of Commerce":MAILTO:info@visitsiren.com
END:VEVENT
BEGIN:VEVENT
DTSTART;TZID=UTC:20251031T160000
DTEND;TZID=UTC:20251031T173000
DTSTAMP:20260420T052640
CREATED:20250918T195835Z
LAST-MODIFIED:20250918T195835Z
UID:10010737-1761926400-1761931800@burnettcountyfun.com
SUMMARY:Trunk or Treat
DESCRIPTION:Trunk or Treat on Friday\, October 31st!! Located at the Central Burnett County Fairgrounds from 4:00pm-5:30pm! Bring the kids for an awesome Halloween activity and an easy way to fill the candy buckets!
URL:https://burnettcountyfun.com/event/trunk-or-treat-4/
LOCATION:Central Burnett County Fairgrounds\, 26385 Musky Ave\, Webster\, WI\, 54893\, United States
CATEGORIES:Family Friendly,Food/Beverage
ATTACH;FMTTYPE=image/jpeg:https://burnettcountyfun.com/wp-content/uploads/2025/09/IMG_1153.jpg
ORGANIZER;CN="Webster Area Chamber of Commerce":MAILTO:websterwichamber@gmail.com
END:VEVENT
BEGIN:VEVENT
DTSTART;TZID=UTC:20251004T100000
DTEND;TZID=UTC:20251004T150000
DTSTAMP:20260420T052640
CREATED:20250125T030152Z
LAST-MODIFIED:20250930T015240Z
UID:10009740-1759572000-1759590000@burnettcountyfun.com
SUMMARY:Grantoberfest
DESCRIPTION:Celebrate the season at Grantoberfest\, happening in downtown Grantsburg\, WI on Saturday\, October 4th from 10 AM to 3 PM! Enjoy a fun-filled day featuring local vendors and food trucks\, thrilling valve car racing\, a messy and hilarious pie eating contest\, and the ever-popular Pedal Pull competition. Kids will love the kiddie train rides and bounce houses\, while everyone can join in on exciting giveaways and so much more. Bring your family and friends—this festive fall event is one you won’t want to miss!
URL:https://burnettcountyfun.com/event/grantoberfest-2/
LOCATION:Grantsburg\, WI\, Grantsburg\, WI\, 54840\, United States
CATEGORIES:Family Friendly,Festival,Food/Beverage
ATTACH;FMTTYPE=image/jpeg:https://burnettcountyfun.com/wp-content/uploads/2025/01/524613278_1224559686137030_8284115990616981796_n.jpg
END:VEVENT
BEGIN:VEVENT
DTSTART;TZID=UTC:20251002T183000
DTEND;TZID=UTC:20251002T203000
DTSTAMP:20260420T052640
CREATED:20250515T010519Z
LAST-MODIFIED:20250930T021024Z
UID:10010641-1759429800-1759437000@burnettcountyfun.com
SUMMARY:Music in the Park
DESCRIPTION:Join the Siren community for free family fun & entertainment Thursday evenings at Crooked Lake Park!\nEach week there will be a different musical performance in the Bandshell and a local non profit selling concessions.\nWe hope to see you there!
URL:https://burnettcountyfun.com/event/music-in-the-park-2/2025-10-02/
LOCATION:Crooked Lake Park\, 24258 Hwy 35/70\, Siren\, WI\, 54872\, United States
CATEGORIES:Family Friendly,Food/Beverage,Music
ATTACH;FMTTYPE=image/png:https://burnettcountyfun.com/wp-content/uploads/2025/05/Blue-Orange-Summer-Music-Invitation-Flyer-6.png
ORGANIZER;CN="Siren Chamber of Commerce":MAILTO:info@visitsiren.com
END:VEVENT
BEGIN:VEVENT
DTSTART;VALUE=DATE:20250927
DTEND;VALUE=DATE:20250928
DTSTAMP:20260420T052640
CREATED:20241015T210605Z
LAST-MODIFIED:20250903T005740Z
UID:10008422-1758931200-1759017599@burnettcountyfun.com
SUMMARY:Jordan Buck Day 2025
DESCRIPTION:Don’t miss Jordan Buck Day September 27\, 2025 in Downtown Danbury.  Parade at Noon\, Craft Fair\, Food Trucks\, Kids Activities with Balloon Art\, Corn Pile\, Inflatable play structures.  Bingo\, Horse-drawn wagon rides\, Live Music\, Fire Station Open House\, Pinball Tournaments Softball Tournament.  Look for posters and schedule of events\, this is a super fun day for all in Danbury. \nOn November 20\, 1914\, James Jordan\, 22 years old\, shot a massive 10-point whitetail near his hometown of Danbury in Burnett County\, Wisconsin. Eventually\, Boone and Crockett Club recognized the buck as the world record. According to the club’s scoring system\, its antlers measured 206-1/8”. As of now\, this record still stands. The famous buck will be commemorated on September 27\, 2025\, at the Fourth Annual Jordan Buck Day! A parade will be followed by a town and area celebration\, including food trucks\, booths\, and entertainment. \nVolunteers Needed!\nPlease contact Lynn Shellenbarger\, Jordan Buck Day 2025 Chair\, via email or phone\, if you would like to volunteer: jordanbuckday@gmail.com or 612-240-8596 \n 
URL:https://burnettcountyfun.com/event/jordan-buck-day-2025/
LOCATION:WI
CATEGORIES:Family Friendly,Festival
ATTACH;FMTTYPE=image/jpeg:https://burnettcountyfun.com/wp-content/uploads/2024/10/WISTAdeer_barnes1_640x480.jpg
ORGANIZER;CN="Danbury Chamber of Commerce":MAILTO:info@danburyfun.com
END:VEVENT
BEGIN:VEVENT
DTSTART;TZID=UTC:20250925T183000
DTEND;TZID=UTC:20250925T203000
DTSTAMP:20260420T052640
CREATED:20250515T010519Z
LAST-MODIFIED:20250930T021024Z
UID:10010640-1758825000-1758832200@burnettcountyfun.com
SUMMARY:Music in the Park
DESCRIPTION:Join the Siren community for free family fun & entertainment Thursday evenings at Crooked Lake Park!\nEach week there will be a different musical performance in the Bandshell and a local non profit selling concessions.\nWe hope to see you there!
URL:https://burnettcountyfun.com/event/music-in-the-park-2/2025-09-25/
LOCATION:Crooked Lake Park\, 24258 Hwy 35/70\, Siren\, WI\, 54872\, United States
CATEGORIES:Family Friendly,Food/Beverage,Music
ATTACH;FMTTYPE=image/png:https://burnettcountyfun.com/wp-content/uploads/2025/05/Blue-Orange-Summer-Music-Invitation-Flyer-6.png
ORGANIZER;CN="Siren Chamber of Commerce":MAILTO:info@visitsiren.com
END:VEVENT
BEGIN:VEVENT
DTSTART;TZID=UTC:20250920T100000
DTEND;TZID=UTC:20250920T150000
DTSTAMP:20260420T052640
CREATED:20250919T011758Z
LAST-MODIFIED:20250919T011758Z
UID:10010738-1758362400-1758380400@burnettcountyfun.com
SUMMARY:Harvestfest Craft Fair
DESCRIPTION:The Siren Chamber of Commerce is hosting Havestfest Craft & Artisan Sale on Saturday\, September 20th from 10am-3pm.\nStop by Crooked Lake Park to enjoy a variety of beautiful hand crafted items including textile\, wood\, jewelry\, and more!\nMaple syrup\, teas\, soap and other essential items will also be available.\nThe Siren\, WI Lions Club & Lucky 8’s Grill will be offering fresh\, tasty snacks and meals.\nKid’s activities including the Siren-Webster Rotary Club’s Coin in a Haystack at 12:30pm will also be provided.\nThe weather is predicted to be warm (65+ degrees) and sunny with a calm breeze. We hope you can join us for a fun\, fall\, family friendly event!
URL:https://burnettcountyfun.com/event/harvestfest-craft-fair-2/
LOCATION:Crooked Lake Park\, 24258 Hwy 35/70\, Siren\, WI\, 54872\, United States
CATEGORIES:Family Friendly,Festival,Food/Beverage,Music
ATTACH;FMTTYPE=image/png:https://burnettcountyfun.com/wp-content/uploads/2025/09/Festive-Playful-Green-and-Brown-Geometric-Fall-Festival-Flyer-4.png
ORGANIZER;CN="Siren Chamber of Commerce":MAILTO:info@visitsiren.com
END:VEVENT
BEGIN:VEVENT
DTSTART;TZID=UTC:20250918T183000
DTEND;TZID=UTC:20250918T203000
DTSTAMP:20260420T052640
CREATED:20250515T010519Z
LAST-MODIFIED:20250930T021024Z
UID:10010639-1758220200-1758227400@burnettcountyfun.com
SUMMARY:Music in the Park
DESCRIPTION:Join the Siren community for free family fun & entertainment Thursday evenings at Crooked Lake Park!\nEach week there will be a different musical performance in the Bandshell and a local non profit selling concessions.\nWe hope to see you there!
URL:https://burnettcountyfun.com/event/music-in-the-park-2/2025-09-18/
LOCATION:Crooked Lake Park\, 24258 Hwy 35/70\, Siren\, WI\, 54872\, United States
CATEGORIES:Family Friendly,Food/Beverage,Music
ATTACH;FMTTYPE=image/png:https://burnettcountyfun.com/wp-content/uploads/2025/05/Blue-Orange-Summer-Music-Invitation-Flyer-6.png
ORGANIZER;CN="Siren Chamber of Commerce":MAILTO:info@visitsiren.com
END:VEVENT
BEGIN:VEVENT
DTSTART;TZID=UTC:20250911T183000
DTEND;TZID=UTC:20250911T203000
DTSTAMP:20260420T052640
CREATED:20250515T010519Z
LAST-MODIFIED:20250930T021024Z
UID:10010638-1757615400-1757622600@burnettcountyfun.com
SUMMARY:Music in the Park
DESCRIPTION:Join the Siren community for free family fun & entertainment Thursday evenings at Crooked Lake Park!\nEach week there will be a different musical performance in the Bandshell and a local non profit selling concessions.\nWe hope to see you there!
URL:https://burnettcountyfun.com/event/music-in-the-park-2/2025-09-11/
LOCATION:Crooked Lake Park\, 24258 Hwy 35/70\, Siren\, WI\, 54872\, United States
CATEGORIES:Family Friendly,Food/Beverage,Music
ATTACH;FMTTYPE=image/png:https://burnettcountyfun.com/wp-content/uploads/2025/05/Blue-Orange-Summer-Music-Invitation-Flyer-6.png
ORGANIZER;CN="Siren Chamber of Commerce":MAILTO:info@visitsiren.com
END:VEVENT
BEGIN:VEVENT
DTSTART;TZID=UTC:20250905T110000
DTEND;TZID=UTC:20250905T150000
DTSTAMP:20260420T052640
CREATED:20250424T010555Z
LAST-MODIFIED:20250424T010555Z
UID:10010621-1757070000-1757084400@burnettcountyfun.com
SUMMARY:Friday Farmers Market
DESCRIPTION:Join us each Friday for a Farmers Market!\nIn the parking lot of the Northwest Passage Gallery from 11am to 3pm.\nWe have over 14 vendors joining us to share their products and produce.\nRuns May 23 through Sept 5.\n7417 N Bass Lake Road\, Webster WI 54893
URL:https://burnettcountyfun.com/event/friday-farmers-market/2025-09-05/
LOCATION:Northwest Passage Gallery\, 7417 N Bass Lake Rd\, Webster\, WI\, 54893\, United States
CATEGORIES:Family Friendly,Food/Beverage
ATTACH;FMTTYPE=image/png:https://burnettcountyfun.com/wp-content/uploads/2025/04/fm-3.png
END:VEVENT
BEGIN:VEVENT
DTSTART;TZID=UTC:20250904T183000
DTEND;TZID=UTC:20250904T203000
DTSTAMP:20260420T052640
CREATED:20250515T010519Z
LAST-MODIFIED:20250930T021024Z
UID:10010637-1757010600-1757017800@burnettcountyfun.com
SUMMARY:Music in the Park
DESCRIPTION:Join the Siren community for free family fun & entertainment Thursday evenings at Crooked Lake Park!\nEach week there will be a different musical performance in the Bandshell and a local non profit selling concessions.\nWe hope to see you there!
URL:https://burnettcountyfun.com/event/music-in-the-park-2/2025-09-04/
LOCATION:Crooked Lake Park\, 24258 Hwy 35/70\, Siren\, WI\, 54872\, United States
CATEGORIES:Family Friendly,Food/Beverage,Music
ATTACH;FMTTYPE=image/png:https://burnettcountyfun.com/wp-content/uploads/2025/05/Blue-Orange-Summer-Music-Invitation-Flyer-6.png
ORGANIZER;CN="Siren Chamber of Commerce":MAILTO:info@visitsiren.com
END:VEVENT
BEGIN:VEVENT
DTSTART;TZID=UTC:20250829T110000
DTEND;TZID=UTC:20250829T150000
DTSTAMP:20260420T052640
CREATED:20250424T010555Z
LAST-MODIFIED:20250424T010555Z
UID:10010620-1756465200-1756479600@burnettcountyfun.com
SUMMARY:Friday Farmers Market
DESCRIPTION:Join us each Friday for a Farmers Market!\nIn the parking lot of the Northwest Passage Gallery from 11am to 3pm.\nWe have over 14 vendors joining us to share their products and produce.\nRuns May 23 through Sept 5.\n7417 N Bass Lake Road\, Webster WI 54893
URL:https://burnettcountyfun.com/event/friday-farmers-market/2025-08-29/
LOCATION:Northwest Passage Gallery\, 7417 N Bass Lake Rd\, Webster\, WI\, 54893\, United States
CATEGORIES:Family Friendly,Food/Beverage
ATTACH;FMTTYPE=image/png:https://burnettcountyfun.com/wp-content/uploads/2025/04/fm-3.png
END:VEVENT
BEGIN:VEVENT
DTSTART;TZID=UTC:20250828T183000
DTEND;TZID=UTC:20250828T203000
DTSTAMP:20260420T052640
CREATED:20250515T010519Z
LAST-MODIFIED:20250930T021024Z
UID:10010636-1756405800-1756413000@burnettcountyfun.com
SUMMARY:Music in the Park
DESCRIPTION:Join the Siren community for free family fun & entertainment Thursday evenings at Crooked Lake Park!\nEach week there will be a different musical performance in the Bandshell and a local non profit selling concessions.\nWe hope to see you there!
URL:https://burnettcountyfun.com/event/music-in-the-park-2/2025-08-28/
LOCATION:Crooked Lake Park\, 24258 Hwy 35/70\, Siren\, WI\, 54872\, United States
CATEGORIES:Family Friendly,Food/Beverage,Music
ATTACH;FMTTYPE=image/png:https://burnettcountyfun.com/wp-content/uploads/2025/05/Blue-Orange-Summer-Music-Invitation-Flyer-6.png
ORGANIZER;CN="Siren Chamber of Commerce":MAILTO:info@visitsiren.com
END:VEVENT
BEGIN:VEVENT
DTSTART;TZID=UTC:20250822T110000
DTEND;TZID=UTC:20250822T150000
DTSTAMP:20260420T052640
CREATED:20250424T010555Z
LAST-MODIFIED:20250424T010555Z
UID:10010619-1755860400-1755874800@burnettcountyfun.com
SUMMARY:Friday Farmers Market
DESCRIPTION:Join us each Friday for a Farmers Market!\nIn the parking lot of the Northwest Passage Gallery from 11am to 3pm.\nWe have over 14 vendors joining us to share their products and produce.\nRuns May 23 through Sept 5.\n7417 N Bass Lake Road\, Webster WI 54893
URL:https://burnettcountyfun.com/event/friday-farmers-market/2025-08-22/
LOCATION:Northwest Passage Gallery\, 7417 N Bass Lake Rd\, Webster\, WI\, 54893\, United States
CATEGORIES:Family Friendly,Food/Beverage
ATTACH;FMTTYPE=image/png:https://burnettcountyfun.com/wp-content/uploads/2025/04/fm-3.png
END:VEVENT
BEGIN:VEVENT
DTSTART;TZID=UTC:20250821T183000
DTEND;TZID=UTC:20250821T203000
DTSTAMP:20260420T052640
CREATED:20250515T010519Z
LAST-MODIFIED:20250930T021024Z
UID:10010635-1755801000-1755808200@burnettcountyfun.com
SUMMARY:Music in the Park
DESCRIPTION:Join the Siren community for free family fun & entertainment Thursday evenings at Crooked Lake Park!\nEach week there will be a different musical performance in the Bandshell and a local non profit selling concessions.\nWe hope to see you there!
URL:https://burnettcountyfun.com/event/music-in-the-park-2/2025-08-21/
LOCATION:Crooked Lake Park\, 24258 Hwy 35/70\, Siren\, WI\, 54872\, United States
CATEGORIES:Family Friendly,Food/Beverage,Music
ATTACH;FMTTYPE=image/png:https://burnettcountyfun.com/wp-content/uploads/2025/05/Blue-Orange-Summer-Music-Invitation-Flyer-6.png
ORGANIZER;CN="Siren Chamber of Commerce":MAILTO:info@visitsiren.com
END:VEVENT
BEGIN:VEVENT
DTSTART;VALUE=DATE:20250821
DTEND;VALUE=DATE:20250825
DTSTAMP:20260420T052640
CREATED:20241122T023729Z
LAST-MODIFIED:20241122T023729Z
UID:10009241-1755734400-1756079999@burnettcountyfun.com
SUMMARY:Burnett County Agricultural Society Fair
DESCRIPTION:County Fair. Thousands of exhibits\, Demo Derby\, Truck Pull\, Car Races\, Musical Entertainment\, Carnival rides and games\, Lots of food\, Animals
URL:https://burnettcountyfun.com/event/burnett-county-agricultural-society-fair/
LOCATION:Grantsburg Fairgrounds\, 914 S Pine St\, Grantsburg\, WI\, United States
CATEGORIES:Family Friendly,Festival,Food/Beverage,Music
ORGANIZER;CN="Burnett County Ag Society Fair":MAILTO:gburgfair@gmail.com
END:VEVENT
BEGIN:VEVENT
DTSTART;TZID=UTC:20250815T110000
DTEND;TZID=UTC:20250815T150000
DTSTAMP:20260420T052640
CREATED:20250424T010555Z
LAST-MODIFIED:20250424T010555Z
UID:10010618-1755255600-1755270000@burnettcountyfun.com
SUMMARY:Friday Farmers Market
DESCRIPTION:Join us each Friday for a Farmers Market!\nIn the parking lot of the Northwest Passage Gallery from 11am to 3pm.\nWe have over 14 vendors joining us to share their products and produce.\nRuns May 23 through Sept 5.\n7417 N Bass Lake Road\, Webster WI 54893
URL:https://burnettcountyfun.com/event/friday-farmers-market/2025-08-15/
LOCATION:Northwest Passage Gallery\, 7417 N Bass Lake Rd\, Webster\, WI\, 54893\, United States
CATEGORIES:Family Friendly,Food/Beverage
ATTACH;FMTTYPE=image/png:https://burnettcountyfun.com/wp-content/uploads/2025/04/fm-3.png
END:VEVENT
BEGIN:VEVENT
DTSTART;TZID=UTC:20250814T183000
DTEND;TZID=UTC:20250814T203000
DTSTAMP:20260420T052640
CREATED:20250515T010519Z
LAST-MODIFIED:20250930T021024Z
UID:10010634-1755196200-1755203400@burnettcountyfun.com
SUMMARY:Music in the Park
DESCRIPTION:Join the Siren community for free family fun & entertainment Thursday evenings at Crooked Lake Park!\nEach week there will be a different musical performance in the Bandshell and a local non profit selling concessions.\nWe hope to see you there!
URL:https://burnettcountyfun.com/event/music-in-the-park-2/2025-08-14/
LOCATION:Crooked Lake Park\, 24258 Hwy 35/70\, Siren\, WI\, 54872\, United States
CATEGORIES:Family Friendly,Food/Beverage,Music
ATTACH;FMTTYPE=image/png:https://burnettcountyfun.com/wp-content/uploads/2025/05/Blue-Orange-Summer-Music-Invitation-Flyer-6.png
ORGANIZER;CN="Siren Chamber of Commerce":MAILTO:info@visitsiren.com
END:VEVENT
BEGIN:VEVENT
DTSTART;TZID=UTC:20250808T110000
DTEND;TZID=UTC:20250808T150000
DTSTAMP:20260420T052640
CREATED:20250424T010555Z
LAST-MODIFIED:20250424T010555Z
UID:10010617-1754650800-1754665200@burnettcountyfun.com
SUMMARY:Friday Farmers Market
DESCRIPTION:Join us each Friday for a Farmers Market!\nIn the parking lot of the Northwest Passage Gallery from 11am to 3pm.\nWe have over 14 vendors joining us to share their products and produce.\nRuns May 23 through Sept 5.\n7417 N Bass Lake Road\, Webster WI 54893
URL:https://burnettcountyfun.com/event/friday-farmers-market/2025-08-08/
LOCATION:Northwest Passage Gallery\, 7417 N Bass Lake Rd\, Webster\, WI\, 54893\, United States
CATEGORIES:Family Friendly,Food/Beverage
ATTACH;FMTTYPE=image/png:https://burnettcountyfun.com/wp-content/uploads/2025/04/fm-3.png
END:VEVENT
BEGIN:VEVENT
DTSTART;TZID=UTC:20250807T183000
DTEND;TZID=UTC:20250807T203000
DTSTAMP:20260420T052640
CREATED:20250515T010519Z
LAST-MODIFIED:20250930T021024Z
UID:10010633-1754591400-1754598600@burnettcountyfun.com
SUMMARY:Music in the Park
DESCRIPTION:Join the Siren community for free family fun & entertainment Thursday evenings at Crooked Lake Park!\nEach week there will be a different musical performance in the Bandshell and a local non profit selling concessions.\nWe hope to see you there!
URL:https://burnettcountyfun.com/event/music-in-the-park-2/2025-08-07/
LOCATION:Crooked Lake Park\, 24258 Hwy 35/70\, Siren\, WI\, 54872\, United States
CATEGORIES:Family Friendly,Food/Beverage,Music
ATTACH;FMTTYPE=image/png:https://burnettcountyfun.com/wp-content/uploads/2025/05/Blue-Orange-Summer-Music-Invitation-Flyer-6.png
ORGANIZER;CN="Siren Chamber of Commerce":MAILTO:info@visitsiren.com
END:VEVENT
BEGIN:VEVENT
DTSTART;TZID=UTC:20250801T110000
DTEND;TZID=UTC:20250801T150000
DTSTAMP:20260420T052640
CREATED:20250424T010555Z
LAST-MODIFIED:20250424T010555Z
UID:10010616-1754046000-1754060400@burnettcountyfun.com
SUMMARY:Friday Farmers Market
DESCRIPTION:Join us each Friday for a Farmers Market!\nIn the parking lot of the Northwest Passage Gallery from 11am to 3pm.\nWe have over 14 vendors joining us to share their products and produce.\nRuns May 23 through Sept 5.\n7417 N Bass Lake Road\, Webster WI 54893
URL:https://burnettcountyfun.com/event/friday-farmers-market/2025-08-01/
LOCATION:Northwest Passage Gallery\, 7417 N Bass Lake Rd\, Webster\, WI\, 54893\, United States
CATEGORIES:Family Friendly,Food/Beverage
ATTACH;FMTTYPE=image/png:https://burnettcountyfun.com/wp-content/uploads/2025/04/fm-3.png
END:VEVENT
BEGIN:VEVENT
DTSTART;TZID=UTC:20250731T183000
DTEND;TZID=UTC:20250731T203000
DTSTAMP:20260420T052640
CREATED:20250515T010519Z
LAST-MODIFIED:20250930T021024Z
UID:10010632-1753986600-1753993800@burnettcountyfun.com
SUMMARY:Music in the Park
DESCRIPTION:Join the Siren community for free family fun & entertainment Thursday evenings at Crooked Lake Park!\nEach week there will be a different musical performance in the Bandshell and a local non profit selling concessions.\nWe hope to see you there!
URL:https://burnettcountyfun.com/event/music-in-the-park-2/2025-07-31/
LOCATION:Crooked Lake Park\, 24258 Hwy 35/70\, Siren\, WI\, 54872\, United States
CATEGORIES:Family Friendly,Food/Beverage,Music
ATTACH;FMTTYPE=image/png:https://burnettcountyfun.com/wp-content/uploads/2025/05/Blue-Orange-Summer-Music-Invitation-Flyer-6.png
ORGANIZER;CN="Siren Chamber of Commerce":MAILTO:info@visitsiren.com
END:VEVENT
BEGIN:VEVENT
DTSTART;TZID=UTC:20250725T110000
DTEND;TZID=UTC:20250725T150000
DTSTAMP:20260420T052640
CREATED:20250424T010555Z
LAST-MODIFIED:20250424T010555Z
UID:10010615-1753441200-1753455600@burnettcountyfun.com
SUMMARY:Friday Farmers Market
DESCRIPTION:Join us each Friday for a Farmers Market!\nIn the parking lot of the Northwest Passage Gallery from 11am to 3pm.\nWe have over 14 vendors joining us to share their products and produce.\nRuns May 23 through Sept 5.\n7417 N Bass Lake Road\, Webster WI 54893
URL:https://burnettcountyfun.com/event/friday-farmers-market/2025-07-25/
LOCATION:Northwest Passage Gallery\, 7417 N Bass Lake Rd\, Webster\, WI\, 54893\, United States
CATEGORIES:Family Friendly,Food/Beverage
ATTACH;FMTTYPE=image/png:https://burnettcountyfun.com/wp-content/uploads/2025/04/fm-3.png
END:VEVENT
BEGIN:VEVENT
DTSTART;TZID=UTC:20250724T183000
DTEND;TZID=UTC:20250724T203000
DTSTAMP:20260420T052640
CREATED:20250515T010519Z
LAST-MODIFIED:20250930T021024Z
UID:10010631-1753381800-1753389000@burnettcountyfun.com
SUMMARY:Music in the Park
DESCRIPTION:Join the Siren community for free family fun & entertainment Thursday evenings at Crooked Lake Park!\nEach week there will be a different musical performance in the Bandshell and a local non profit selling concessions.\nWe hope to see you there!
URL:https://burnettcountyfun.com/event/music-in-the-park-2/2025-07-24/
LOCATION:Crooked Lake Park\, 24258 Hwy 35/70\, Siren\, WI\, 54872\, United States
CATEGORIES:Family Friendly,Food/Beverage,Music
ATTACH;FMTTYPE=image/png:https://burnettcountyfun.com/wp-content/uploads/2025/05/Blue-Orange-Summer-Music-Invitation-Flyer-6.png
ORGANIZER;CN="Siren Chamber of Commerce":MAILTO:info@visitsiren.com
END:VEVENT
BEGIN:VEVENT
DTSTART;TZID=UTC:20250719T083000
DTEND;TZID=UTC:20250719T140000
DTSTAMP:20260420T052640
CREATED:20250710T082114Z
LAST-MODIFIED:20250710T082114Z
UID:10010730-1752913800-1752933600@burnettcountyfun.com
SUMMARY:"Blueberries on the Barrens" Picnic at the Namekagon Barrens Wildlife Area
DESCRIPTION:Blueberry Picnic Saturday July 19 at the Namekagon Barrens \nFriends of the Namekagon Barrens Wildlife Area and the Wisconsin Sharp-tailed Grouse Society are hosting their 10th Annual “Blueberries on the Barrens” picnic for members\, neighbors\, and the public.  The event includes presentations starting at 10:30 a.m.; a silent auction; displays; door prizes; and a free-will donation lunch of brats\, burgers\, and beverages at noon. \nAnyone interested in picking wild blueberries can pick up a map to potential hot spots starting at 8:30 a.m. at the Namekagon Barrens picnic shelter and cabin (located in northeastern Burnett County at 33174 Gomulak Fire Lane\, Danbury).  Friends group members will be at the Cabin site to provide maps and directions to nearby wild berry patches.  Keep in mind that blueberries are very weather dependent and abundance can vary substantially from year to year.  Prime picking spots also change from one season to the next. \nA program will start at 10:30 a.m. with presentations on Moths and Butterflies of the Barrens\, Sharp-tailed Grouse management updates\, and a report on the Barrens’ Bluebird nest box success this summer. \nCome for a fun time and a chance to see the beauty of the Barrens\, as many wildflowers are in bloom.  If you have questions contact Kathy Bartilson at 715-520-2984 or oh2paddle@gmail.com.  Check out the Friends of the Namekagon Barrens Wildlife Area (FNBWA) website at namekagonbarrens.org for detailed directions and more information about the FNBWA and this amazing State Wildlife Area.
URL:https://burnettcountyfun.com/event/blueberries-on-the-barrens-picnic-at-the-namekagon-barrens-wildlife-area/
LOCATION:Namekagon Barrens Wildlife Area\, 33174 Gomulak Fire Lane\, Danbury\, WI\, 54830\, United States
CATEGORIES:Family Friendly
ATTACH;FMTTYPE=image/jpeg:https://burnettcountyfun.com/wp-content/uploads/2025/07/Wild-Blueberry-photo.jpg
END:VEVENT
BEGIN:VEVENT
DTSTART;TZID=UTC:20250718T110000
DTEND;TZID=UTC:20250718T150000
DTSTAMP:20260420T052640
CREATED:20250424T010555Z
LAST-MODIFIED:20250424T010555Z
UID:10010614-1752836400-1752850800@burnettcountyfun.com
SUMMARY:Friday Farmers Market
DESCRIPTION:Join us each Friday for a Farmers Market!\nIn the parking lot of the Northwest Passage Gallery from 11am to 3pm.\nWe have over 14 vendors joining us to share their products and produce.\nRuns May 23 through Sept 5.\n7417 N Bass Lake Road\, Webster WI 54893
URL:https://burnettcountyfun.com/event/friday-farmers-market/2025-07-18/
LOCATION:Northwest Passage Gallery\, 7417 N Bass Lake Rd\, Webster\, WI\, 54893\, United States
CATEGORIES:Family Friendly,Food/Beverage
ATTACH;FMTTYPE=image/png:https://burnettcountyfun.com/wp-content/uploads/2025/04/fm-3.png
END:VEVENT
BEGIN:VEVENT
DTSTART;VALUE=DATE:20250718
DTEND;VALUE=DATE:20250721
DTSTAMP:20260420T052640
CREATED:20250114T213115Z
LAST-MODIFIED:20250707T224716Z
UID:10009382-1752796800-1753055999@burnettcountyfun.com
SUMMARY:World Championship Snowmobile Watercross
DESCRIPTION:Grantsburg is hosting their annual World Championship Snowmobile Watercross in Memory Lake Park! This three day event allows the top racers to show off their skill in attempt to win the World Championship. Dozens of vendors will showcase their creations and provide food for the event. Friday night will bring live music and a street dance which will carry on into Saturday night and will be accompanied by a fireworks show. The Grantsburg International Watercross is sure to put on a great show and provide fun for the whole family!
URL:https://burnettcountyfun.com/event/world-championship-snowmobile-watercross/
LOCATION:Memory Lake Park\, 198 Olson Dr W\, Grantsburg\, WI\, 54840\, United States
CATEGORIES:Family Friendly,Festival,Food/Beverage,Music,Sports
ATTACH;FMTTYPE=image/jpeg:https://burnettcountyfun.com/wp-content/uploads/2025/01/IMG_0509.jpg
END:VEVENT
BEGIN:VEVENT
DTSTART;TZID=UTC:20250717T183000
DTEND;TZID=UTC:20250717T203000
DTSTAMP:20260420T052640
CREATED:20250515T010519Z
LAST-MODIFIED:20250930T021024Z
UID:10010630-1752777000-1752784200@burnettcountyfun.com
SUMMARY:Music in the Park
DESCRIPTION:Join the Siren community for free family fun & entertainment Thursday evenings at Crooked Lake Park!\nEach week there will be a different musical performance in the Bandshell and a local non profit selling concessions.\nWe hope to see you there!
URL:https://burnettcountyfun.com/event/music-in-the-park-2/2025-07-17/
LOCATION:Crooked Lake Park\, 24258 Hwy 35/70\, Siren\, WI\, 54872\, United States
CATEGORIES:Family Friendly,Food/Beverage,Music
ATTACH;FMTTYPE=image/png:https://burnettcountyfun.com/wp-content/uploads/2025/05/Blue-Orange-Summer-Music-Invitation-Flyer-6.png
ORGANIZER;CN="Siren Chamber of Commerce":MAILTO:info@visitsiren.com
END:VEVENT
BEGIN:VEVENT
DTSTART;TZID=UTC:20250712T110000
DTEND;TZID=UTC:20250712T150000
DTSTAMP:20260420T052640
CREATED:20250707T222627Z
LAST-MODIFIED:20250707T222627Z
UID:10010727-1752318000-1752332400@burnettcountyfun.com
SUMMARY:Classic Car Show
DESCRIPTION:Spend your Saturday observing fabulous cars\, enjoying live music\, great food\, and family friendly activities\, at this year’s annual Classic Car Show\, hosted by Whitetail Wilderness!
URL:https://burnettcountyfun.com/event/classic-car-show/
LOCATION:Whitetail Wilderness\, 27225 State Rd 35\, Webster\, WI\, 54893\, United States
CATEGORIES:Family Friendly,Food/Beverage,Music
ATTACH;FMTTYPE=image/jpeg:https://burnettcountyfun.com/wp-content/uploads/2025/07/IMG_0505.jpg
END:VEVENT
BEGIN:VEVENT
DTSTART;TZID=UTC:20250711T110000
DTEND;TZID=UTC:20250711T150000
DTSTAMP:20260420T052640
CREATED:20250424T010555Z
LAST-MODIFIED:20250424T010555Z
UID:10010613-1752231600-1752246000@burnettcountyfun.com
SUMMARY:Friday Farmers Market
DESCRIPTION:Join us each Friday for a Farmers Market!\nIn the parking lot of the Northwest Passage Gallery from 11am to 3pm.\nWe have over 14 vendors joining us to share their products and produce.\nRuns May 23 through Sept 5.\n7417 N Bass Lake Road\, Webster WI 54893
URL:https://burnettcountyfun.com/event/friday-farmers-market/2025-07-11/
LOCATION:Northwest Passage Gallery\, 7417 N Bass Lake Rd\, Webster\, WI\, 54893\, United States
CATEGORIES:Family Friendly,Food/Beverage
ATTACH;FMTTYPE=image/png:https://burnettcountyfun.com/wp-content/uploads/2025/04/fm-3.png
END:VEVENT
END:VCALENDAR