BEGIN:VCALENDAR
VERSION:2.0
PRODID:-//Burnett County, Wisconsin - ECPv6.15.20//NONSGML v1.0//EN
CALSCALE:GREGORIAN
METHOD:PUBLISH
X-WR-CALNAME:Burnett County, Wisconsin
X-ORIGINAL-URL:https://burnettcountyfun.com
X-WR-CALDESC:Events for Burnett County, Wisconsin
REFRESH-INTERVAL;VALUE=DURATION:PT1H
X-Robots-Tag:noindex
X-PUBLISHED-TTL:PT1H
BEGIN:VTIMEZONE
TZID:UTC
BEGIN:STANDARD
TZOFFSETFROM:+0000
TZOFFSETTO:+0000
TZNAME:UTC
DTSTART:20230101T000000
END:STANDARD
END:VTIMEZONE
BEGIN:VEVENT
DTSTART;TZID=UTC:20250621T070000
DTEND;TZID=UTC:20250621T120000
DTSTAMP:20260419T221544
CREATED:20250614T000959Z
LAST-MODIFIED:20250614T000959Z
UID:10010711-1750489200-1750507200@burnettcountyfun.com
SUMMARY:Dairy Breakfast
DESCRIPTION:Enjoy a delicious breakfast at Four Cubs Farm in Grantsburg from 7am-12pm!! There will be live music played\, along with farm tours\, samples from Brickfield Brewing\, and even a bounce house for the kids! Ages 13+ will be $9\, ages 6-12 will be $6\, and 5 and under will be free! You’re not going to want to miss out on this fun\, family friendly activity!
URL:https://burnettcountyfun.com/event/dairy-breakfast/
LOCATION:Four Cubs Farm\, 23250 South Williams Road\, Grantsburg\, WI\, 54840\, United States
CATEGORIES:Family Friendly,Food/Beverage
ATTACH;FMTTYPE=image/jpeg:https://burnettcountyfun.com/wp-content/uploads/2025/06/IMG_0319.jpg
END:VEVENT
BEGIN:VEVENT
DTSTART;TZID=UTC:20250620T110000
DTEND;TZID=UTC:20250620T150000
DTSTAMP:20260419T221544
CREATED:20250424T010555Z
LAST-MODIFIED:20250424T010555Z
UID:10010610-1750417200-1750431600@burnettcountyfun.com
SUMMARY:Friday Farmers Market
DESCRIPTION:Join us each Friday for a Farmers Market!\nIn the parking lot of the Northwest Passage Gallery from 11am to 3pm.\nWe have over 14 vendors joining us to share their products and produce.\nRuns May 23 through Sept 5.\n7417 N Bass Lake Road\, Webster WI 54893
URL:https://burnettcountyfun.com/event/friday-farmers-market/2025-06-20/
LOCATION:Northwest Passage Gallery\, 7417 N Bass Lake Rd\, Webster\, WI\, 54893\, United States
CATEGORIES:Family Friendly,Food/Beverage
ATTACH;FMTTYPE=image/png:https://burnettcountyfun.com/wp-content/uploads/2025/04/fm-3.png
END:VEVENT
BEGIN:VEVENT
DTSTART;TZID=UTC:20250619T183000
DTEND;TZID=UTC:20250619T203000
DTSTAMP:20260419T221544
CREATED:20250515T010519Z
LAST-MODIFIED:20250930T021024Z
UID:10010626-1750357800-1750365000@burnettcountyfun.com
SUMMARY:Music in the Park
DESCRIPTION:Join the Siren community for free family fun & entertainment Thursday evenings at Crooked Lake Park!\nEach week there will be a different musical performance in the Bandshell and a local non profit selling concessions.\nWe hope to see you there!
URL:https://burnettcountyfun.com/event/music-in-the-park-2/2025-06-19/
LOCATION:Crooked Lake Park\, 24258 Hwy 35/70\, Siren\, WI\, 54872\, United States
CATEGORIES:Family Friendly,Food/Beverage,Music
ATTACH;FMTTYPE=image/png:https://burnettcountyfun.com/wp-content/uploads/2025/05/Blue-Orange-Summer-Music-Invitation-Flyer-6.png
ORGANIZER;CN="Siren Chamber of Commerce":MAILTO:info@visitsiren.com
END:VEVENT
BEGIN:VEVENT
DTSTART;TZID=UTC:20250613T110000
DTEND;TZID=UTC:20250613T150000
DTSTAMP:20260419T221544
CREATED:20250424T010555Z
LAST-MODIFIED:20250424T010555Z
UID:10010609-1749812400-1749826800@burnettcountyfun.com
SUMMARY:Friday Farmers Market
DESCRIPTION:Join us each Friday for a Farmers Market!\nIn the parking lot of the Northwest Passage Gallery from 11am to 3pm.\nWe have over 14 vendors joining us to share their products and produce.\nRuns May 23 through Sept 5.\n7417 N Bass Lake Road\, Webster WI 54893
URL:https://burnettcountyfun.com/event/friday-farmers-market/2025-06-13/
LOCATION:Northwest Passage Gallery\, 7417 N Bass Lake Rd\, Webster\, WI\, 54893\, United States
CATEGORIES:Family Friendly,Food/Beverage
ATTACH;FMTTYPE=image/png:https://burnettcountyfun.com/wp-content/uploads/2025/04/fm-3.png
END:VEVENT
BEGIN:VEVENT
DTSTART;TZID=UTC:20250612T183000
DTEND;TZID=UTC:20250612T203000
DTSTAMP:20260419T221544
CREATED:20250515T010519Z
LAST-MODIFIED:20250930T021024Z
UID:10010625-1749753000-1749760200@burnettcountyfun.com
SUMMARY:Music in the Park
DESCRIPTION:Join the Siren community for free family fun & entertainment Thursday evenings at Crooked Lake Park!\nEach week there will be a different musical performance in the Bandshell and a local non profit selling concessions.\nWe hope to see you there!
URL:https://burnettcountyfun.com/event/music-in-the-park-2/2025-06-12/
LOCATION:Crooked Lake Park\, 24258 Hwy 35/70\, Siren\, WI\, 54872\, United States
CATEGORIES:Family Friendly,Food/Beverage,Music
ATTACH;FMTTYPE=image/png:https://burnettcountyfun.com/wp-content/uploads/2025/05/Blue-Orange-Summer-Music-Invitation-Flyer-6.png
ORGANIZER;CN="Siren Chamber of Commerce":MAILTO:info@visitsiren.com
END:VEVENT
BEGIN:VEVENT
DTSTART;TZID=UTC:20250607T060000
DTEND;TZID=UTC:20250607T100000
DTSTAMP:20260419T221544
CREATED:20250331T200916Z
LAST-MODIFIED:20250331T200916Z
UID:10010312-1749276000-1749290400@burnettcountyfun.com
SUMMARY:BMC'S Go for the Gust 5K & 10K
DESCRIPTION:Burnett Medical Center is excited to sponsor the 2025 BMC’s Go for the Gust event during Grantsburg’s “Big Gust Days”. This year’s event will take place on Saturday\, June 7\, 2025. \nBurnett Medical Center organizes the race and donates all the race’s profits to a different local charitable organization each year. This year’s race recipient is Youth of Burnett County Prevention Coalition. \nSchedule of events:\n6:00am-7:40am: Registration\n7:30am: Start of 10k race\n7:40am: Start of 5k race \nRace Fee:\n$30 for 5k/$25 ages 65+ and 16 & under.\n$40 for 10k/ $35 ages 65+ and 16 & under.\nSame day registration fees increase by $5.  \nHow to Register:\nRegister online at raceentry.com\, click ‘find races’ and search ‘gust’. You can also register by visiting burnettmedicalcenter.com/about-us/events\, and downloading a registration form to be mailed in. Everyone who pre-registers by Friday\, May 2\, will receive a free moisture wick t-shirt – so register early! Sorry\, no refunds. \nAwards:\nAwards will be awarded to the top 3 males and top 3 females in the 5k and 10k race.
URL:https://burnettcountyfun.com/event/bmcs-go-for-the-gust-5k-10k/2025-06-07/
LOCATION:Burnett Medical Center\, 257 West St. George Ave\, Grantsburg\, WI\, 54840\, United States
CATEGORIES:Charity/Fundraiser,Family Friendly
ATTACH;FMTTYPE=image/png:https://burnettcountyfun.com/wp-content/uploads/2025/03/BMC-go-for-GUST-4.png
ORGANIZER;CN="Burentt Medical Center":MAILTO:hpardun@burnettmedicalcenter.com
END:VEVENT
BEGIN:VEVENT
DTSTART;TZID=UTC:20250607T060000
DTEND;TZID=UTC:20250607T100000
DTSTAMP:20260419T221544
CREATED:20240430T182230Z
LAST-MODIFIED:20240430T182230Z
UID:10007901-1749276000-1749290400@burnettcountyfun.com
SUMMARY:BMC'S Go for the Gust
DESCRIPTION:COURSE:\n5K (approx. 3.1 miles): On paved roads starting and finishing at Burnett Medical Center.\n10K (approx. 6.2 miles): Extended course with same start and finish as 5K. \nSCHEDULE OF EVENTS:\n6:00am-8:00am: Same-day registration & packet pick-up\n7:30am: Start of 10k race.\n8:00am: Start of 5k race. \nRACE FEE:\n$30 for 5k/$25 ages 65+ and 16 & under.\n$40 for 10k/$35 ages 65+ and 16 & under.\nSame day registration fees increase by $5.  \nREGISTRATION:\nEveryone who pre-registers by Friday\, May 3 will receive a moisture wick t-shirt—so register early! Sorry\, no refunds. This year\, all profits will be donated towards Interfaith Caregivers of Burnett County. \nPARKING:\nPark at Burnett Medical Center (257 W St George Ave\, Grantsburg\, WI 54840).  Registration will be in the North parking lot on W St George Ave. \nQUESTIONS:\nVisit burnettmedicalcenter.com/about-us/events or contact Halle Pardun\, Race Director\, at (715) 463-7285.
URL:https://burnettcountyfun.com/event/bmcs-go-for-the-gust/2025-06-07/
LOCATION:Grantsburg\, WI\, Grantsburg\, WI\, 54840\, United States
CATEGORIES:Charity/Fundraiser,Family Friendly
ORGANIZER;CN="Burentt Medical Center":MAILTO:hpardun@burnettmedicalcenter.com
END:VEVENT
BEGIN:VEVENT
DTSTART;TZID=UTC:20250606T110000
DTEND;TZID=UTC:20250606T150000
DTSTAMP:20260419T221544
CREATED:20250424T010555Z
LAST-MODIFIED:20250424T010555Z
UID:10010608-1749207600-1749222000@burnettcountyfun.com
SUMMARY:Friday Farmers Market
DESCRIPTION:Join us each Friday for a Farmers Market!\nIn the parking lot of the Northwest Passage Gallery from 11am to 3pm.\nWe have over 14 vendors joining us to share their products and produce.\nRuns May 23 through Sept 5.\n7417 N Bass Lake Road\, Webster WI 54893
URL:https://burnettcountyfun.com/event/friday-farmers-market/2025-06-06/
LOCATION:Northwest Passage Gallery\, 7417 N Bass Lake Rd\, Webster\, WI\, 54893\, United States
CATEGORIES:Family Friendly,Food/Beverage
ATTACH;FMTTYPE=image/png:https://burnettcountyfun.com/wp-content/uploads/2025/04/fm-3.png
END:VEVENT
BEGIN:VEVENT
DTSTART;TZID=UTC:20250605T183000
DTEND;TZID=UTC:20250605T203000
DTSTAMP:20260419T221544
CREATED:20250515T010519Z
LAST-MODIFIED:20250930T021024Z
UID:10010624-1749148200-1749155400@burnettcountyfun.com
SUMMARY:Music in the Park
DESCRIPTION:Join the Siren community for free family fun & entertainment Thursday evenings at Crooked Lake Park!\nEach week there will be a different musical performance in the Bandshell and a local non profit selling concessions.\nWe hope to see you there!
URL:https://burnettcountyfun.com/event/music-in-the-park-2/2025-06-05/
LOCATION:Crooked Lake Park\, 24258 Hwy 35/70\, Siren\, WI\, 54872\, United States
CATEGORIES:Family Friendly,Food/Beverage,Music
ATTACH;FMTTYPE=image/png:https://burnettcountyfun.com/wp-content/uploads/2025/05/Blue-Orange-Summer-Music-Invitation-Flyer-6.png
ORGANIZER;CN="Siren Chamber of Commerce":MAILTO:info@visitsiren.com
END:VEVENT
BEGIN:VEVENT
DTSTART;TZID=UTC:20250604T080000
DTEND;TZID=UTC:20250604T230000
DTSTAMP:20260419T221544
CREATED:20250605T005413Z
LAST-MODIFIED:20250605T005413Z
UID:10010709-1749024000-1749078000@burnettcountyfun.com
SUMMARY:Celebrate in Siren!
DESCRIPTION:Celebrate the 4th of July in Siren!\nFreedom 5k\, Bed Races\, Kids Parade\, Main Parade\, Boat Parade\, Community Concert\, Fireworks & More!\n8am 45th Annual Freedom 5 Road Race Start on Main St\n9:45am Siren Bed Races Start on Main St\n11:30am Grand Parade on Main St\n2pm Boat Parade on Crooked Lake\n8pm Community Concert in the Crooked Lake Park Bandshell\nDusk Siren Fireworks at Crooked Lake
URL:https://burnettcountyfun.com/event/celebrate-in-siren/
LOCATION:Main Street\, Siren Wi
CATEGORIES:Family Friendly,Festival,Food/Beverage,Music
ATTACH;FMTTYPE=image/png:https://burnettcountyfun.com/wp-content/uploads/2025/06/Red-Blue-Illustrated-Happy-4th-of-July-Poster-25.png
ORGANIZER;CN="Siren Chamber of Commerce":MAILTO:info@visitsiren.com
END:VEVENT
BEGIN:VEVENT
DTSTART;TZID=UTC:20250530T110000
DTEND;TZID=UTC:20250530T150000
DTSTAMP:20260419T221544
CREATED:20250424T010555Z
LAST-MODIFIED:20250424T010555Z
UID:10010607-1748602800-1748617200@burnettcountyfun.com
SUMMARY:Friday Farmers Market
DESCRIPTION:Join us each Friday for a Farmers Market!\nIn the parking lot of the Northwest Passage Gallery from 11am to 3pm.\nWe have over 14 vendors joining us to share their products and produce.\nRuns May 23 through Sept 5.\n7417 N Bass Lake Road\, Webster WI 54893
URL:https://burnettcountyfun.com/event/friday-farmers-market/2025-05-30/
LOCATION:Northwest Passage Gallery\, 7417 N Bass Lake Rd\, Webster\, WI\, 54893\, United States
CATEGORIES:Family Friendly,Food/Beverage
ATTACH;FMTTYPE=image/png:https://burnettcountyfun.com/wp-content/uploads/2025/04/fm-3.png
END:VEVENT
BEGIN:VEVENT
DTSTART;TZID=UTC:20250523T110000
DTEND;TZID=UTC:20250523T150000
DTSTAMP:20260419T221544
CREATED:20250424T010555Z
LAST-MODIFIED:20250424T010555Z
UID:10010606-1747998000-1748012400@burnettcountyfun.com
SUMMARY:Friday Farmers Market
DESCRIPTION:Join us each Friday for a Farmers Market!\nIn the parking lot of the Northwest Passage Gallery from 11am to 3pm.\nWe have over 14 vendors joining us to share their products and produce.\nRuns May 23 through Sept 5.\n7417 N Bass Lake Road\, Webster WI 54893
URL:https://burnettcountyfun.com/event/friday-farmers-market/2025-05-23/
LOCATION:Northwest Passage Gallery\, 7417 N Bass Lake Rd\, Webster\, WI\, 54893\, United States
CATEGORIES:Family Friendly,Food/Beverage
ATTACH;FMTTYPE=image/png:https://burnettcountyfun.com/wp-content/uploads/2025/04/fm-3.png
END:VEVENT
BEGIN:VEVENT
DTSTART;TZID=UTC:20250522T170000
DTEND;TZID=UTC:20250522T200000
DTSTAMP:20260419T221544
CREATED:20250424T004632Z
LAST-MODIFIED:20250424T004632Z
UID:10010602-1747933200-1747944000@burnettcountyfun.com
SUMMARY:Showcase Siren Featuring Taste of Siren
DESCRIPTION:Over 30 local businesses offering up tastes\, samples & more! Participating vendors include:\n 45th Parallel\, Tattersall\, Pitchfork\, Chateau St Croix\, Lacrosse Distilling\, Mash Gang\, Perlick’s\, Dancing Dragonfly\, Wenger Distributing\, Vikre\, Trap Rock Brewing Co\, A New Look Construction\, Adventures Restaurant & Pub\, C & S Gutters\, Sara’s One Stop\, Staying Connected\, Burnett Dairy Co-Op\, Fourwinds\, Square One Foods\, Acorn Pantry\, Chipmunk Cheeks\, Chattering Squirrel\, Pheasant Inn\, Siren Chamber of Commerce\, Block & Cleaver Artisan Meats\, Pour House\, Lift Bridge Brewery\, Ursa Minor Brewing\, Drink Wisconsinbly\, White Winter Winery\, & Brickfield Brewing\n$20 per entry ticket or two for $35\nMay 22nd\, 2025 Zhashagiins Event Center from 5-8pm\nSilent Auction\, Raffles\, Games and more benefitting Caring Hearts Thriftshop and the Burnett County Food Pantry\nLive Music by local artists Web & Jay
URL:https://burnettcountyfun.com/event/showcase-siren-featuring-taste-of-siren-4/
LOCATION:Zhashagiins Event Center\, 24133 State Rd 35/70\, Siren\, WI\, 54872\, United States
CATEGORIES:Charity/Fundraiser,Family Friendly,Food/Beverage,Music
ATTACH;FMTTYPE=image/png:https://burnettcountyfun.com/wp-content/uploads/2025/04/Showcase-2025-poster-with-ticket-locations.png
ORGANIZER;CN="Siren Chamber of Commerce":MAILTO:info@visitsiren.com
END:VEVENT
BEGIN:VEVENT
DTSTART;TZID=UTC:20250504T100000
DTEND;TZID=UTC:20250504T160000
DTSTAMP:20260419T221544
CREATED:20250424T010156Z
LAST-MODIFIED:20250424T010156Z
UID:10010605-1746352800-1746374400@burnettcountyfun.com
SUMMARY:24th Annual Spring Earth Art Tour
DESCRIPTION:Enjoy the arts of Polk & Burnett counties on the Spring Earth Art Tour! With 17 stops along the way\, be sure to stop in at the Northwest Passage Gallery & Gift Shop to find something special in our neck of the woods. LIVE artist demonstrations on Saturday!
URL:https://burnettcountyfun.com/event/24th-annual-spring-earth-art-tour/2025-05-04/
LOCATION:Northwest Passage Gallery\, 7417 N Bass Lake Rd\, Webster\, WI\, 54893\, United States
CATEGORIES:Family Friendly
ATTACH;FMTTYPE=image/png:https://burnettcountyfun.com/wp-content/uploads/2025/04/Earth-arts-spring-art-tour-Instagram-Post-1.png
END:VEVENT
BEGIN:VEVENT
DTSTART;TZID=UTC:20250503T100000
DTEND;TZID=UTC:20250503T160000
DTSTAMP:20260419T221544
CREATED:20250424T010156Z
LAST-MODIFIED:20250424T010156Z
UID:10010604-1746266400-1746288000@burnettcountyfun.com
SUMMARY:24th Annual Spring Earth Art Tour
DESCRIPTION:Enjoy the arts of Polk & Burnett counties on the Spring Earth Art Tour! With 17 stops along the way\, be sure to stop in at the Northwest Passage Gallery & Gift Shop to find something special in our neck of the woods. LIVE artist demonstrations on Saturday!
URL:https://burnettcountyfun.com/event/24th-annual-spring-earth-art-tour/2025-05-03/
LOCATION:Northwest Passage Gallery\, 7417 N Bass Lake Rd\, Webster\, WI\, 54893\, United States
CATEGORIES:Family Friendly
ATTACH;FMTTYPE=image/png:https://burnettcountyfun.com/wp-content/uploads/2025/04/Earth-arts-spring-art-tour-Instagram-Post-1.png
END:VEVENT
BEGIN:VEVENT
DTSTART;TZID=UTC:20250502T100000
DTEND;TZID=UTC:20250502T160000
DTSTAMP:20260419T221544
CREATED:20250424T010156Z
LAST-MODIFIED:20250424T010156Z
UID:10010603-1746180000-1746201600@burnettcountyfun.com
SUMMARY:24th Annual Spring Earth Art Tour
DESCRIPTION:Enjoy the arts of Polk & Burnett counties on the Spring Earth Art Tour! With 17 stops along the way\, be sure to stop in at the Northwest Passage Gallery & Gift Shop to find something special in our neck of the woods. LIVE artist demonstrations on Saturday!
URL:https://burnettcountyfun.com/event/24th-annual-spring-earth-art-tour/2025-05-02/
LOCATION:Northwest Passage Gallery\, 7417 N Bass Lake Rd\, Webster\, WI\, 54893\, United States
CATEGORIES:Family Friendly
ATTACH;FMTTYPE=image/png:https://burnettcountyfun.com/wp-content/uploads/2025/04/Earth-arts-spring-art-tour-Instagram-Post-1.png
END:VEVENT
BEGIN:VEVENT
DTSTART;TZID=UTC:20250426T090000
DTEND;TZID=UTC:20250426T120000
DTSTAMP:20260419T221544
CREATED:20250331T204457Z
LAST-MODIFIED:20250331T204457Z
UID:10010347-1745658000-1745668800@burnettcountyfun.com
SUMMARY:Burnett Medical Center's Health Expo
DESCRIPTION:Join us on Saturday\, April 26th\, from 9 AM to Noon for BMC’s Spring into Health Expo!  \nExplore BMC’s services\, enjoy free cholesterol screens\, and participate in Drug Take Back Day. Plus\, don’t miss fun giveaways\, door prizes\, snacks\, and kids’ activities! \nWith amazing exhibitors and health resources\, it’s a day focused on wellness for the whole community!
URL:https://burnettcountyfun.com/event/burnett-medical-centers-health-expo/
LOCATION:Burnett Medical Center\, 257 West St. George Ave\, Grantsburg\, WI\, 54840\, United States
CATEGORIES:Family Friendly
ATTACH;FMTTYPE=image/jpeg:https://burnettcountyfun.com/wp-content/uploads/2025/03/BMC-Health-Fair-Social-Post.jpeg
ORGANIZER;CN="Burentt Medical Center":MAILTO:hpardun@burnettmedicalcenter.com
END:VEVENT
BEGIN:VEVENT
DTSTART;VALUE=DATE:20250412
DTEND;VALUE=DATE:20250413
DTSTAMP:20260419T221544
CREATED:20250110T214005Z
LAST-MODIFIED:20250324T212105Z
UID:10009263-1744416000-1744502399@burnettcountyfun.com
SUMMARY:Taco Bingo Night
DESCRIPTION:TACO BINGO NIGHT!! Taco dinner will begin at 4:30pm in the Webster Middle/High School gym and bingo be from 6:00-8:00!
URL:https://burnettcountyfun.com/event/taco-bingo-night/
LOCATION:Webster High School\, 7564 Alder St W\, Webster\, 54893\, United States
CATEGORIES:Charity/Fundraiser,Family Friendly,Food/Beverage
ATTACH;FMTTYPE=image/jpeg:https://burnettcountyfun.com/wp-content/uploads/2025/01/IMG_3496.jpg
ORGANIZER;CN="Webster Education Foundation":MAILTO:WEF@webster.k12.wi.us
END:VEVENT
BEGIN:VEVENT
DTSTART;TZID=UTC:20250309T140000
DTEND;TZID=UTC:20250309T170000
DTSTAMP:20260419T221544
CREATED:20250216T010450Z
LAST-MODIFIED:20250216T010450Z
UID:10009786-1741528800-1741539600@burnettcountyfun.com
SUMMARY:PolkaFest
DESCRIPTION:Come and dance the afternoon away with the Dan Zimmer duo on Sunday\, March 9\, from 2 – 5p.m.\nLive polka music\, large dance floor at the Webster Community Center\, Webster\, Wis.\nSponsored by the American Legion Otis Taylor Post 96\, Webster.\nAll ages are welcome. It’s free and open to the public.\nFree will donation for the musicians
URL:https://burnettcountyfun.com/event/polkafest/
LOCATION:Webster Community Center\, Webster Community Center\, Webster\, Wisconsin\, United States
CATEGORIES:Family Friendly
ATTACH;FMTTYPE=image/jpeg:https://burnettcountyfun.com/wp-content/uploads/2025/02/PolkafestFlyr.jpg
END:VEVENT
BEGIN:VEVENT
DTSTART;TZID=UTC:20250308T140000
DTEND;TZID=UTC:20250308T233000
DTSTAMP:20260419T221544
CREATED:20250227T010726Z
LAST-MODIFIED:20250227T010726Z
UID:10010049-1741442400-1741476600@burnettcountyfun.com
SUMMARY:St. Patrick's Day Celebration
DESCRIPTION:Celebrate St. Patrick’s Day in Siren!\nParade at 2pm on Main Street with the St. Paul Winter Carnival Royal Family & Vulcans.\nDrawing to win cash and prizes at 4:30pm at Pheasant Inn. Button purchase required to be in the drawing. Buttons available for purchase at:\nPour House-Corned Beef & Cabbage\, DJ 6:30pm\nTavern on Main-Where every day is an alcoholiday! Happy Hour 5-7pm\nPheasant Inn-Corned Beef & Cabbage $4/Bowl ’til Gone\, live music by Gary Dupuis 1-5pm
URL:https://burnettcountyfun.com/event/st-patricks-day-celebration/
LOCATION:Main Street\, Siren Wi
CATEGORIES:Family Friendly,Food/Beverage,Music
ATTACH;FMTTYPE=image/png:https://burnettcountyfun.com/wp-content/uploads/2025/02/Green-and-Beige-Simple-Illustrative-St.-Patricks-Day-Instagram-Post-7-1.png
END:VEVENT
BEGIN:VEVENT
DTSTART;TZID=UTC:20250307T170000
DTEND;TZID=UTC:20250307T190000
DTSTAMP:20260419T221544
CREATED:20250216T005435Z
LAST-MODIFIED:20250216T005435Z
UID:10009785-1741366800-1741374000@burnettcountyfun.com
SUMMARY:6th Annual Student Art Show
DESCRIPTION:Burnett Area Arts and the Northwest Passage showcase area 9-12 grade student artwork.\nThe show opens on Friday\, March 7\, with a reception at 5 p.m. and participation certificates awarded at 6 p.m.\nStudents’ relatives and the public are invited at no charge. \nThe artwork will be on display at the Northwest Passage Gallery from March 8 – 16.\nThe public is invited to stop in from 11 a.m. – 4 p.m. daily.
URL:https://burnettcountyfun.com/event/6th-annual-student-art-show/
LOCATION:Northwest Passage Gallery\, 7417 N Bass Lake Rd\, Webster\, WI\, 54893\, United States
CATEGORIES:Family Friendly
ATTACH;FMTTYPE=image/jpeg:https://burnettcountyfun.com/wp-content/uploads/2025/02/2025SASFlyer.jpg
ORGANIZER;CN="Burnett Area Arts Group":MAILTO:burnettareaarts@gmail.com
END:VEVENT
BEGIN:VEVENT
DTSTART;TZID=UTC:20250223T090000
DTEND;TZID=UTC:20250223T160000
DTSTAMP:20260419T221544
CREATED:20250212T011941Z
LAST-MODIFIED:20250212T011941Z
UID:10009782-1740301200-1740326400@burnettcountyfun.com
SUMMARY:Ranch Riding Clinic
DESCRIPTION:Sign up for a Ranch Riding clinic with Zach Hedberg at Sky High Ranch LLC\, on February 23rd\, from 9am-4pm!
URL:https://burnettcountyfun.com/event/ranch-riding-clinic/
LOCATION:WI
CATEGORIES:Family Friendly
ATTACH;FMTTYPE=image/jpeg:https://burnettcountyfun.com/wp-content/uploads/2025/02/IMG_3151.jpg
END:VEVENT
BEGIN:VEVENT
DTSTART;VALUE=DATE:20250222
DTEND;VALUE=DATE:20250224
DTSTAMP:20260419T221544
CREATED:20250131T085809Z
LAST-MODIFIED:20250131T085809Z
UID:10009775-1740182400-1740355199@burnettcountyfun.com
SUMMARY:Indoor Trade and Crafters Fair
DESCRIPTION:A variety of vendors with items from fur products\, rifles\, metal products to crafts products such as perfumes\, soap and candles\, wood crafts\, beaded items\, clothing\, floral\, rocks\, paintings and more. Foods and beverages available for purchase.
URL:https://burnettcountyfun.com/event/indoor-trade-and-crafters-fair/
LOCATION:WI
CATEGORIES:Family Friendly
END:VEVENT
BEGIN:VEVENT
DTSTART;TZID=UTC:20250207T173000
DTEND;TZID=UTC:20250207T200000
DTSTAMP:20260419T221544
CREATED:20250122T211436Z
LAST-MODIFIED:20250122T211436Z
UID:10009668-1738949400-1738958400@burnettcountyfun.com
SUMMARY:Crex Candlelight Hike
DESCRIPTION:Enjoy a peaceful evening walking or snowshoeing on the candlit\, 1.25-mile trail behind the Crex Meadows Wildlife Education & Visitor Center. Then\, warm up with cocoa and snacks in the Meeting & Gathering Hall. \nSnowshoes will be available on a first-come first-serve basis\, or bring your own. Even with little to now snow we will still have the event. Flashlights/headlamps suggested.
URL:https://burnettcountyfun.com/event/crex-candlelight-hike/
LOCATION:Crex Meadows Wildlife Education & Visitor Center\, 102 E Crex Ave\, Grantsburg\, 54840\, United States
CATEGORIES:Family Friendly
ATTACH;FMTTYPE=image/png:https://burnettcountyfun.com/wp-content/uploads/2025/01/Crex-Candlelight-Snowshoe-Hike-2025.png
ORGANIZER;CN="Friends of Crex":MAILTO:information@crexmeadows.org
END:VEVENT
BEGIN:VEVENT
DTSTART;TZID=UTC:20250125T140000
DTEND;TZID=UTC:20250125T150000
DTSTAMP:20260419T221544
CREATED:20250122T212151Z
LAST-MODIFIED:20250122T212151Z
UID:10009670-1737813600-1737817200@burnettcountyfun.com
SUMMARY:Introduction to Mammal Tracking (virtual event)
DESCRIPTION:Join us for a virtual program focusing on the basics of tracking mammals in Wisconsin. Learn how to identify the tracks of wolves\, coyotes\, fox\, bobcat\, fisher\, and more. \nYou must RSVP on the Friends of Crex website! Links to the Zoom meeting will be emailed to you with your RSVP confirmation. The Zoom link will also appear on the event page on the Friends of Crex website 15 minutes prior to the start of the talk. The Zoom link will not show up here on the Burnett County Fun page!
URL:https://burnettcountyfun.com/event/introduction-to-mammal-tracking-virtual-event/
LOCATION:Virtual
CATEGORIES:Family Friendly
ATTACH;FMTTYPE=image/png:https://burnettcountyfun.com/wp-content/uploads/2025/01/Virtual-Program.png
ORGANIZER;CN="Friends of Crex":MAILTO:information@crexmeadows.org
END:VEVENT
BEGIN:VEVENT
DTSTART;TZID=UTC:20250118T190000
DTEND;TZID=UTC:20250118T203000
DTSTAMP:20260419T221544
CREATED:20241209T001312Z
LAST-MODIFIED:20241209T001312Z
UID:10009246-1737226800-1737232200@burnettcountyfun.com
SUMMARY:Chris Kroeze - LIVE
DESCRIPTION:As an SHS Music Dept. fundraiser\, nationally known musician Chris Kroeze will perform LIVE at the Siren School. The tailgate fundraiser will be held at 5:30 p.m.\, and the auditorium doors will open at 6:30 p.m.
URL:https://burnettcountyfun.com/event/chris-kroeze-live/
LOCATION:Siren School District\, 24022 4th Ave\, Siren\, WI\, 54872\, United States
CATEGORIES:Charity/Fundraiser,Family Friendly,Food/Beverage,Music
ATTACH;FMTTYPE=image/png:https://burnettcountyfun.com/wp-content/uploads/2024/12/Chris-Kroeze-Poster-SHS-Music.png
END:VEVENT
BEGIN:VEVENT
DTSTART;TZID=UTC:20241214T100000
DTEND;TZID=UTC:20241214T150000
DTSTAMP:20260419T221544
CREATED:20241120T022013Z
LAST-MODIFIED:20241120T022013Z
UID:10009239-1734170400-1734188400@burnettcountyfun.com
SUMMARY:Holiday Market | Zhashagiins Event Center
DESCRIPTION:Join the festive fun at Zhashagiins Event Center’s 2nd Annual Holiday Market on December 14th from 10am to 3pm! Come check out some handmade crafts while enjoying treats during this fun holiday activity!
URL:https://burnettcountyfun.com/event/holiday-market-zhashagiins-event-center/
LOCATION:Zhashagiins Event Center\, 24133 State Rd 35/70\, Siren\, WI\, 54872\, United States
CATEGORIES:Family Friendly,Food/Beverage
ATTACH;FMTTYPE=image/jpeg:https://burnettcountyfun.com/wp-content/uploads/2024/11/IMG_2583.jpg
END:VEVENT
BEGIN:VEVENT
DTSTART;TZID=UTC:20241207T170000
DTEND;TZID=UTC:20241207T180000
DTSTAMP:20260419T221544
CREATED:20241205T044803Z
LAST-MODIFIED:20241205T044803Z
UID:10009245-1733590800-1733594400@burnettcountyfun.com
SUMMARY:Light Up the Night Parade & Lighting of the Tree
DESCRIPTION:Head to Main Street Siren at 5pm for a beautiful\, fun Parade featuring lit vehicles of all types\, Holiday Characters\, and Santa!\nAny lit or decorated vehicle is welcome to join the Parade! Line up at Zhashagiins parking lot at 4:40pm. If you wish to distribute candy or other items along the parade route\, please be prepared to have members of your party walking the route. There is no throwing of candy or other items from vehicles due to safety concerns.
URL:https://burnettcountyfun.com/event/light-up-the-night-parade-lighting-of-the-tree-4/
LOCATION:Main Street\, Siren Wi
CATEGORIES:Family Friendly
ATTACH;FMTTYPE=image/png:https://burnettcountyfun.com/wp-content/uploads/2024/12/Light-up-the.png
ORGANIZER;CN="Siren Chamber of Commerce":MAILTO:info@visitsiren.com
END:VEVENT
BEGIN:VEVENT
DTSTART;TZID=UTC:20241207T153000
DTEND;TZID=UTC:20241207T170000
DTSTAMP:20260419T221544
CREATED:20241203T030824Z
LAST-MODIFIED:20241203T030824Z
UID:10009244-1733585400-1733590800@burnettcountyfun.com
SUMMARY:Santa Visits Siren
DESCRIPTION:Stop by Gary’s Rude Cafe 3:30-5pm for a FREE visit with Santa and photo op!
URL:https://burnettcountyfun.com/event/santa-visits-siren/
LOCATION:Gary’s Rude Cafe\, 7719 West Main St\, Siren\, WI\, 54872\, United States
CATEGORIES:Family Friendly
ATTACH;FMTTYPE=image/png:https://burnettcountyfun.com/wp-content/uploads/2024/12/meet-greet-Santa-flyer.png
ORGANIZER;CN="Siren Chamber of Commerce":MAILTO:info@visitsiren.com
END:VEVENT
BEGIN:VEVENT
DTSTART;TZID=UTC:20241207T120000
DTEND;TZID=UTC:20241208T170000
DTSTAMP:20260419T221544
CREATED:20241120T001021Z
LAST-MODIFIED:20241120T001021Z
UID:10009237-1733572800-1733677200@burnettcountyfun.com
SUMMARY:Merry Market | Brickfield Brewing
DESCRIPTION:Begin your Christmas festivities at Brickfield Brewing on December 7th and 8th\, from 12-5pm! There will be festive music played live by Web & Jay on December 7th and music by Joyann Parker on December 8th. There will be vendors available to shop at and various activities to participate in! Santa will be there on the 8th\, as well as horse-drawn wagon rides with free hot cocoa and s’mores! Bring your friends and family to this spectacular holiday event!
URL:https://burnettcountyfun.com/event/merry-market-brickfield-brewing/
LOCATION:Brickfield Brewing\, 130 W Olson Drive\, Grantsburg\, WI\, 54840\, United States
CATEGORIES:Family Friendly,Food/Beverage,Music
ATTACH;FMTTYPE=image/jpeg:https://burnettcountyfun.com/wp-content/uploads/2024/11/IMG_2577.jpg
END:VEVENT
END:VCALENDAR