BEGIN:VCALENDAR
VERSION:2.0
PRODID:-//Burnett County, Wisconsin - ECPv6.15.20//NONSGML v1.0//EN
CALSCALE:GREGORIAN
METHOD:PUBLISH
X-ORIGINAL-URL:https://burnettcountyfun.com
X-WR-CALDESC:Events for Burnett County, Wisconsin
REFRESH-INTERVAL;VALUE=DURATION:PT1H
X-Robots-Tag:noindex
X-PUBLISHED-TTL:PT1H
BEGIN:VTIMEZONE
TZID:UTC
BEGIN:STANDARD
TZOFFSETFROM:+0000
TZOFFSETTO:+0000
TZNAME:UTC
DTSTART:20250101T000000
END:STANDARD
END:VTIMEZONE
BEGIN:VTIMEZONE
TZID:America/Chicago
BEGIN:DAYLIGHT
TZOFFSETFROM:-0600
TZOFFSETTO:-0500
TZNAME:CDT
DTSTART:20250309T080000
END:DAYLIGHT
BEGIN:STANDARD
TZOFFSETFROM:-0500
TZOFFSETTO:-0600
TZNAME:CST
DTSTART:20251102T070000
END:STANDARD
BEGIN:DAYLIGHT
TZOFFSETFROM:-0600
TZOFFSETTO:-0500
TZNAME:CDT
DTSTART:20260308T080000
END:DAYLIGHT
BEGIN:STANDARD
TZOFFSETFROM:-0500
TZOFFSETTO:-0600
TZNAME:CST
DTSTART:20261101T070000
END:STANDARD
BEGIN:DAYLIGHT
TZOFFSETFROM:-0600
TZOFFSETTO:-0500
TZNAME:CDT
DTSTART:20270314T080000
END:DAYLIGHT
BEGIN:STANDARD
TZOFFSETFROM:-0500
TZOFFSETTO:-0600
TZNAME:CST
DTSTART:20271107T070000
END:STANDARD
END:VTIMEZONE
BEGIN:VEVENT
DTSTART;TZID=UTC:20260213T173000
DTEND;TZID=UTC:20260213T183000
DTSTAMP:20260421T091004
CREATED:20230805T074329Z
LAST-MODIFIED:20231116T001856Z
UID:10004654-1771003800-1771007400@burnettcountyfun.com
SUMMARY:Meat Raffle | Salty Steer
DESCRIPTION:Meat Raffle | Salty Steer\nEvery Friday 5:30 – 6:30 \nMeat Raffle to support rotating organizations such as the Burnett County Historical Society and Burnett County Caring Hearts Thriftshop.
URL:https://burnettcountyfun.com/event/meat-raffle-salty-steer/2026-02-13/
LOCATION:Salty Steer\, 30799 State Road 35 77\, Danbury\, WI\, United States
CATEGORIES:Food/Beverage
END:VEVENT
BEGIN:VEVENT
DTSTART;TZID=America/Chicago:20260213T173000
DTEND;TZID=America/Chicago:20260213T200000
DTSTAMP:20260421T091004
CREATED:20260202T211636Z
LAST-MODIFIED:20260202T211636Z
UID:10012475-1771003800-1771012800@burnettcountyfun.com
SUMMARY:Romantic Valentine's Dinner | Fusion BCM
DESCRIPTION:Fusion BCM is hosting an intimate Valentine’s Day dinner on February 13th\, offering guests a refined four‑course dining experience paired with live jazz music! Local musician Dustin Degolier will perform throughout the evening\, creating a relaxed and romantic atmosphere ideal for a special night out! \nThe Experience Includes\n• Four‑course prix fixe dinner\n• Choice of soup or salad\n• Choice of appetizer\n• Choice of four entrées\n• Choice of dessert\n• Live jazz music from 5:30 to 8:00 pm \nTo reserve a table\, call 715‑349‑4343 or send a message directly to Fusion. \nThis event offers an intimate setting\, exceptional food\, and live music\, making it a standout Valentine’s celebration in the area!
URL:https://burnettcountyfun.com/event/romantic-valentines-dinner-fusion-bcm/
LOCATION:Fusion Bistro Cafe Market\, 7536 Main St W\, Webster\, WI\, 54893\, United States
CATEGORIES:Food/Beverage
ATTACH;FMTTYPE=image/jpeg:https://burnettcountyfun.com/wp-content/uploads/2026/02/626412762_1580073244121647_3382829436110497772_n.jpg
END:VEVENT
BEGIN:VEVENT
DTSTART;TZID=UTC:20260213T180000
DTEND;TZID=UTC:20260213T190000
DTSTAMP:20260421T091004
CREATED:20230607T004130Z
LAST-MODIFIED:20230731T051425Z
UID:10000715-1771005600-1771009200@burnettcountyfun.com
SUMMARY:Meat Raffle | Hummers Rendezvous
DESCRIPTION:Meat Raffle | Hummer’s Rendezvous Grantsburg\, WI\nProceeds go to the Squirrels Unlimited\nEvery Friday 6:00pm\n115 E Madison Ave\nGrantsburg\, WI\n715-463-2322
URL:https://burnettcountyfun.com/event/meat-raffle-hummers-rendezvous/2026-02-13/
LOCATION:Hummer’s Rendezvous\, 115 W Madison Ave\, Grantsburg\, WI\, 54840\, United States
CATEGORIES:Charity/Fundraiser,Food/Beverage
END:VEVENT
END:VCALENDAR