BEGIN:VCALENDAR
VERSION:2.0
PRODID:-//Burnett County, Wisconsin - ECPv6.15.20//NONSGML v1.0//EN
CALSCALE:GREGORIAN
METHOD:PUBLISH
X-WR-CALNAME:Burnett County, Wisconsin
X-ORIGINAL-URL:https://burnettcountyfun.com
X-WR-CALDESC:Events for Burnett County, Wisconsin
REFRESH-INTERVAL;VALUE=DURATION:PT1H
X-Robots-Tag:noindex
X-PUBLISHED-TTL:PT1H
BEGIN:VTIMEZONE
TZID:UTC
BEGIN:STANDARD
TZOFFSETFROM:+0000
TZOFFSETTO:+0000
TZNAME:UTC
DTSTART:20240101T000000
END:STANDARD
END:VTIMEZONE
BEGIN:VEVENT
DTSTART;TZID=UTC:20250305T190000
DTEND;TZID=UTC:20250305T210000
DTSTAMP:20260423T175131
CREATED:20250304T215407Z
LAST-MODIFIED:20251020T221146Z
UID:10010050-1741201200-1741208400@burnettcountyfun.com
SUMMARY:Xtreme Bingo Night WEDNESDAYS!
DESCRIPTION:Xtreme Bar Bingo is on at Voyager Village! \nEvery Wednesday at 7:00 pm!\nFREE to play!\nCash Jackpot up to a jaw-dropping $15\,000!\nThe thrill\, the fun\, and the chance to win HUGE is here!✨\nGrab your friends\, bring your A-game\, and let’s make this bingo night legendary!\nDon’t miss out – it’s about to get Xtreme!
URL:https://burnettcountyfun.com/event/xtreme-bingo-night-wednesdays/2025-03-05/
LOCATION:Voyager Village Restaurant
CATEGORIES:Food/Beverage
ATTACH;FMTTYPE=image/jpeg:https://burnettcountyfun.com/wp-content/uploads/2025/03/CASH-JACKPOT-UP-TO-15000.jpg
END:VEVENT
BEGIN:VEVENT
DTSTART;TZID=UTC:20250307T173000
DTEND;TZID=UTC:20250307T183000
DTSTAMP:20260423T175131
CREATED:20230805T074329Z
LAST-MODIFIED:20231116T001856Z
UID:10004605-1741368600-1741372200@burnettcountyfun.com
SUMMARY:Meat Raffle | Salty Steer
DESCRIPTION:Meat Raffle | Salty Steer\nEvery Friday 5:30 – 6:30 \nMeat Raffle to support rotating organizations such as the Burnett County Historical Society and Burnett County Caring Hearts Thriftshop.
URL:https://burnettcountyfun.com/event/meat-raffle-salty-steer/2025-03-07/
LOCATION:Salty Steer\, 30799 State Road 35 77\, Danbury\, WI\, United States
CATEGORIES:Food/Beverage
END:VEVENT
BEGIN:VEVENT
DTSTART;TZID=UTC:20250307T180000
DTEND;TZID=UTC:20250307T190000
DTSTAMP:20260423T175131
CREATED:20230607T004130Z
LAST-MODIFIED:20230731T051425Z
UID:10000666-1741370400-1741374000@burnettcountyfun.com
SUMMARY:Meat Raffle | Hummers Rendezvous
DESCRIPTION:Meat Raffle | Hummer’s Rendezvous Grantsburg\, WI\nProceeds go to the Squirrels Unlimited\nEvery Friday 6:00pm\n115 E Madison Ave\nGrantsburg\, WI\n715-463-2322
URL:https://burnettcountyfun.com/event/meat-raffle-hummers-rendezvous/2025-03-07/
LOCATION:Hummer’s Rendezvous\, 115 W Madison Ave\, Grantsburg\, WI\, 54840\, United States
CATEGORIES:Charity/Fundraiser,Food/Beverage
END:VEVENT
BEGIN:VEVENT
DTSTART;TZID=UTC:20250308T140000
DTEND;TZID=UTC:20250308T160000
DTSTAMP:20260423T175131
CREATED:20230607T014724Z
LAST-MODIFIED:20230731T051102Z
UID:10002198-1741442400-1741449600@burnettcountyfun.com
SUMMARY:Meat Raffle | Last Call
DESCRIPTION:Meat Raffle | Last Call\nEvery Saturday 2:00pm\n7011 WI-70\nSiren\, WI
URL:https://burnettcountyfun.com/event/meat-raffle-last-call/2025-03-08/
LOCATION:Last Call\, 7011 WI 70\, Siren\, WI\, 54872\, United States
CATEGORIES:Food/Beverage
END:VEVENT
BEGIN:VEVENT
DTSTART;TZID=UTC:20250308T140000
DTEND;TZID=UTC:20250308T233000
DTSTAMP:20260423T175131
CREATED:20250227T010726Z
LAST-MODIFIED:20250227T010726Z
UID:10010049-1741442400-1741476600@burnettcountyfun.com
SUMMARY:St. Patrick's Day Celebration
DESCRIPTION:Celebrate St. Patrick’s Day in Siren!\nParade at 2pm on Main Street with the St. Paul Winter Carnival Royal Family & Vulcans.\nDrawing to win cash and prizes at 4:30pm at Pheasant Inn. Button purchase required to be in the drawing. Buttons available for purchase at:\nPour House-Corned Beef & Cabbage\, DJ 6:30pm\nTavern on Main-Where every day is an alcoholiday! Happy Hour 5-7pm\nPheasant Inn-Corned Beef & Cabbage $4/Bowl ’til Gone\, live music by Gary Dupuis 1-5pm
URL:https://burnettcountyfun.com/event/st-patricks-day-celebration/
LOCATION:Main Street\, Siren Wi
CATEGORIES:Family Friendly,Food/Beverage,Music
ATTACH;FMTTYPE=image/png:https://burnettcountyfun.com/wp-content/uploads/2025/02/Green-and-Beige-Simple-Illustrative-St.-Patricks-Day-Instagram-Post-7-1.png
END:VEVENT
BEGIN:VEVENT
DTSTART;TZID=UTC:20250308T170000
DTEND;TZID=UTC:20250308T190000
DTSTAMP:20260423T175131
CREATED:20230607T014933Z
LAST-MODIFIED:20230722T040328Z
UID:10002720-1741453200-1741460400@burnettcountyfun.com
SUMMARY:Meat Raffle | Lilly Lake Tavern
DESCRIPTION:Meat Raffle | Lilly Lake Tavern\nEvery Saturday 5:00pm\n5891 County Rd A\nWebster\, WI
URL:https://burnettcountyfun.com/event/meat-raffle-lilly-lake-tavern/2025-03-08/
LOCATION:Lilly Lake Tavern\, 5891 County Rd A\, Webster\, WI\, 54893\, United States
CATEGORIES:Food/Beverage
END:VEVENT
BEGIN:VEVENT
DTSTART;TZID=UTC:20250308T180000
DTEND;TZID=UTC:20250308T190000
DTSTAMP:20260423T175131
CREATED:20230607T012542Z
LAST-MODIFIED:20230731T051214Z
UID:10001401-1741456800-1741460400@burnettcountyfun.com
SUMMARY:Meat Raffle | Knotty Pines on Clam Lake
DESCRIPTION:Meat Raffle | Knotty Pines on Clam lake\nEvery Saturday 6:00pm\n24787 Clam Lake Drive\nSiren\, WI
URL:https://burnettcountyfun.com/event/meat-raffle-knotty-pines-on-clam-lake/2025-03-08/
LOCATION:Knotty Pines on Clam Lake\, 24787 Clam lake Drive\, Siren\, WI\, 54872\, United States
CATEGORIES:Food/Beverage
END:VEVENT
BEGIN:VEVENT
DTSTART;TZID=UTC:20250309T110000
DTEND;TZID=UTC:20250309T123000
DTSTAMP:20260423T175131
CREATED:20230805T051346Z
LAST-MODIFIED:20230805T051346Z
UID:10003036-1741518000-1741523400@burnettcountyfun.com
SUMMARY:Meat Bingo | Coyland Creek
DESCRIPTION:Come visit us at Coyland Creek on Sundays for Meat Bingo\, featuring a bloody mary bar\, starting at 11am!
URL:https://burnettcountyfun.com/event/meat-bingo-coyland-creek/2025-03-09/
LOCATION:Coyland Creek\, 5400 Town Line Road\, Frederic\, WI\, 54837\, United States
CATEGORIES:Food/Beverage
END:VEVENT
BEGIN:VEVENT
DTSTART;TZID=UTC:20250312T190000
DTEND;TZID=UTC:20250312T210000
DTSTAMP:20260423T175131
CREATED:20250304T215407Z
LAST-MODIFIED:20251020T221146Z
UID:10010051-1741806000-1741813200@burnettcountyfun.com
SUMMARY:Xtreme Bingo Night WEDNESDAYS!
DESCRIPTION:Xtreme Bar Bingo is on at Voyager Village! \nEvery Wednesday at 7:00 pm!\nFREE to play!\nCash Jackpot up to a jaw-dropping $15\,000!\nThe thrill\, the fun\, and the chance to win HUGE is here!✨\nGrab your friends\, bring your A-game\, and let’s make this bingo night legendary!\nDon’t miss out – it’s about to get Xtreme!
URL:https://burnettcountyfun.com/event/xtreme-bingo-night-wednesdays/2025-03-12/
LOCATION:Voyager Village Restaurant
CATEGORIES:Food/Beverage
ATTACH;FMTTYPE=image/jpeg:https://burnettcountyfun.com/wp-content/uploads/2025/03/CASH-JACKPOT-UP-TO-15000.jpg
END:VEVENT
BEGIN:VEVENT
DTSTART;TZID=UTC:20250314T173000
DTEND;TZID=UTC:20250314T183000
DTSTAMP:20260423T175131
CREATED:20230805T074329Z
LAST-MODIFIED:20231116T001856Z
UID:10004606-1741973400-1741977000@burnettcountyfun.com
SUMMARY:Meat Raffle | Salty Steer
DESCRIPTION:Meat Raffle | Salty Steer\nEvery Friday 5:30 – 6:30 \nMeat Raffle to support rotating organizations such as the Burnett County Historical Society and Burnett County Caring Hearts Thriftshop.
URL:https://burnettcountyfun.com/event/meat-raffle-salty-steer/2025-03-14/
LOCATION:Salty Steer\, 30799 State Road 35 77\, Danbury\, WI\, United States
CATEGORIES:Food/Beverage
END:VEVENT
BEGIN:VEVENT
DTSTART;TZID=UTC:20250314T180000
DTEND;TZID=UTC:20250314T190000
DTSTAMP:20260423T175131
CREATED:20230607T004130Z
LAST-MODIFIED:20230731T051425Z
UID:10000667-1741975200-1741978800@burnettcountyfun.com
SUMMARY:Meat Raffle | Hummers Rendezvous
DESCRIPTION:Meat Raffle | Hummer’s Rendezvous Grantsburg\, WI\nProceeds go to the Squirrels Unlimited\nEvery Friday 6:00pm\n115 E Madison Ave\nGrantsburg\, WI\n715-463-2322
URL:https://burnettcountyfun.com/event/meat-raffle-hummers-rendezvous/2025-03-14/
LOCATION:Hummer’s Rendezvous\, 115 W Madison Ave\, Grantsburg\, WI\, 54840\, United States
CATEGORIES:Charity/Fundraiser,Food/Beverage
END:VEVENT
BEGIN:VEVENT
DTSTART;TZID=UTC:20250315T130000
DTEND;TZID=UTC:20250315T130000
DTSTAMP:20260423T175131
CREATED:20250110T213619Z
LAST-MODIFIED:20250227T010256Z
UID:10009259-1742043600-1742043600@burnettcountyfun.com
SUMMARY:St. Patrick's Day Parade
DESCRIPTION:
URL:https://burnettcountyfun.com/event/st-patricks-day-parade/
LOCATION:Webb Lake
CATEGORIES:Festival,Food/Beverage
ATTACH;FMTTYPE=image/jpeg:https://burnettcountyfun.com/wp-content/uploads/2025/01/IMG_3245.jpeg
END:VEVENT
BEGIN:VEVENT
DTSTART;TZID=UTC:20250315T140000
DTEND;TZID=UTC:20250315T160000
DTSTAMP:20260423T175131
CREATED:20230607T014724Z
LAST-MODIFIED:20230731T051102Z
UID:10002199-1742047200-1742054400@burnettcountyfun.com
SUMMARY:Meat Raffle | Last Call
DESCRIPTION:Meat Raffle | Last Call\nEvery Saturday 2:00pm\n7011 WI-70\nSiren\, WI
URL:https://burnettcountyfun.com/event/meat-raffle-last-call/2025-03-15/
LOCATION:Last Call\, 7011 WI 70\, Siren\, WI\, 54872\, United States
CATEGORIES:Food/Beverage
END:VEVENT
BEGIN:VEVENT
DTSTART;TZID=UTC:20250315T170000
DTEND;TZID=UTC:20250315T190000
DTSTAMP:20260423T175131
CREATED:20230607T014933Z
LAST-MODIFIED:20230722T040328Z
UID:10002721-1742058000-1742065200@burnettcountyfun.com
SUMMARY:Meat Raffle | Lilly Lake Tavern
DESCRIPTION:Meat Raffle | Lilly Lake Tavern\nEvery Saturday 5:00pm\n5891 County Rd A\nWebster\, WI
URL:https://burnettcountyfun.com/event/meat-raffle-lilly-lake-tavern/2025-03-15/
LOCATION:Lilly Lake Tavern\, 5891 County Rd A\, Webster\, WI\, 54893\, United States
CATEGORIES:Food/Beverage
END:VEVENT
BEGIN:VEVENT
DTSTART;TZID=UTC:20250315T180000
DTEND;TZID=UTC:20250315T190000
DTSTAMP:20260423T175131
CREATED:20230607T012542Z
LAST-MODIFIED:20230731T051214Z
UID:10001402-1742061600-1742065200@burnettcountyfun.com
SUMMARY:Meat Raffle | Knotty Pines on Clam Lake
DESCRIPTION:Meat Raffle | Knotty Pines on Clam lake\nEvery Saturday 6:00pm\n24787 Clam Lake Drive\nSiren\, WI
URL:https://burnettcountyfun.com/event/meat-raffle-knotty-pines-on-clam-lake/2025-03-15/
LOCATION:Knotty Pines on Clam Lake\, 24787 Clam lake Drive\, Siren\, WI\, 54872\, United States
CATEGORIES:Food/Beverage
END:VEVENT
BEGIN:VEVENT
DTSTART;TZID=UTC:20250316T110000
DTEND;TZID=UTC:20250316T123000
DTSTAMP:20260423T175131
CREATED:20230805T051346Z
LAST-MODIFIED:20230805T051346Z
UID:10003037-1742122800-1742128200@burnettcountyfun.com
SUMMARY:Meat Bingo | Coyland Creek
DESCRIPTION:Come visit us at Coyland Creek on Sundays for Meat Bingo\, featuring a bloody mary bar\, starting at 11am!
URL:https://burnettcountyfun.com/event/meat-bingo-coyland-creek/2025-03-16/
LOCATION:Coyland Creek\, 5400 Town Line Road\, Frederic\, WI\, 54837\, United States
CATEGORIES:Food/Beverage
END:VEVENT
BEGIN:VEVENT
DTSTART;TZID=UTC:20250319T190000
DTEND;TZID=UTC:20250319T210000
DTSTAMP:20260423T175131
CREATED:20250304T215407Z
LAST-MODIFIED:20251020T221146Z
UID:10010052-1742410800-1742418000@burnettcountyfun.com
SUMMARY:Xtreme Bingo Night WEDNESDAYS!
DESCRIPTION:Xtreme Bar Bingo is on at Voyager Village! \nEvery Wednesday at 7:00 pm!\nFREE to play!\nCash Jackpot up to a jaw-dropping $15\,000!\nThe thrill\, the fun\, and the chance to win HUGE is here!✨\nGrab your friends\, bring your A-game\, and let’s make this bingo night legendary!\nDon’t miss out – it’s about to get Xtreme!
URL:https://burnettcountyfun.com/event/xtreme-bingo-night-wednesdays/2025-03-19/
LOCATION:Voyager Village Restaurant
CATEGORIES:Food/Beverage
ATTACH;FMTTYPE=image/jpeg:https://burnettcountyfun.com/wp-content/uploads/2025/03/CASH-JACKPOT-UP-TO-15000.jpg
END:VEVENT
BEGIN:VEVENT
DTSTART;TZID=UTC:20250321T173000
DTEND;TZID=UTC:20250321T183000
DTSTAMP:20260423T175131
CREATED:20230805T074329Z
LAST-MODIFIED:20231116T001856Z
UID:10004607-1742578200-1742581800@burnettcountyfun.com
SUMMARY:Meat Raffle | Salty Steer
DESCRIPTION:Meat Raffle | Salty Steer\nEvery Friday 5:30 – 6:30 \nMeat Raffle to support rotating organizations such as the Burnett County Historical Society and Burnett County Caring Hearts Thriftshop.
URL:https://burnettcountyfun.com/event/meat-raffle-salty-steer/2025-03-21/
LOCATION:Salty Steer\, 30799 State Road 35 77\, Danbury\, WI\, United States
CATEGORIES:Food/Beverage
END:VEVENT
BEGIN:VEVENT
DTSTART;TZID=UTC:20250321T180000
DTEND;TZID=UTC:20250321T190000
DTSTAMP:20260423T175131
CREATED:20230607T004130Z
LAST-MODIFIED:20230731T051425Z
UID:10000668-1742580000-1742583600@burnettcountyfun.com
SUMMARY:Meat Raffle | Hummers Rendezvous
DESCRIPTION:Meat Raffle | Hummer’s Rendezvous Grantsburg\, WI\nProceeds go to the Squirrels Unlimited\nEvery Friday 6:00pm\n115 E Madison Ave\nGrantsburg\, WI\n715-463-2322
URL:https://burnettcountyfun.com/event/meat-raffle-hummers-rendezvous/2025-03-21/
LOCATION:Hummer’s Rendezvous\, 115 W Madison Ave\, Grantsburg\, WI\, 54840\, United States
CATEGORIES:Charity/Fundraiser,Food/Beverage
END:VEVENT
BEGIN:VEVENT
DTSTART;TZID=UTC:20250322T140000
DTEND;TZID=UTC:20250322T160000
DTSTAMP:20260423T175131
CREATED:20230607T014724Z
LAST-MODIFIED:20230731T051102Z
UID:10002200-1742652000-1742659200@burnettcountyfun.com
SUMMARY:Meat Raffle | Last Call
DESCRIPTION:Meat Raffle | Last Call\nEvery Saturday 2:00pm\n7011 WI-70\nSiren\, WI
URL:https://burnettcountyfun.com/event/meat-raffle-last-call/2025-03-22/
LOCATION:Last Call\, 7011 WI 70\, Siren\, WI\, 54872\, United States
CATEGORIES:Food/Beverage
END:VEVENT
BEGIN:VEVENT
DTSTART;TZID=UTC:20250322T170000
DTEND;TZID=UTC:20250322T190000
DTSTAMP:20260423T175131
CREATED:20230607T014933Z
LAST-MODIFIED:20230722T040328Z
UID:10002722-1742662800-1742670000@burnettcountyfun.com
SUMMARY:Meat Raffle | Lilly Lake Tavern
DESCRIPTION:Meat Raffle | Lilly Lake Tavern\nEvery Saturday 5:00pm\n5891 County Rd A\nWebster\, WI
URL:https://burnettcountyfun.com/event/meat-raffle-lilly-lake-tavern/2025-03-22/
LOCATION:Lilly Lake Tavern\, 5891 County Rd A\, Webster\, WI\, 54893\, United States
CATEGORIES:Food/Beverage
END:VEVENT
BEGIN:VEVENT
DTSTART;TZID=UTC:20250322T180000
DTEND;TZID=UTC:20250322T190000
DTSTAMP:20260423T175131
CREATED:20230607T012542Z
LAST-MODIFIED:20230731T051214Z
UID:10001403-1742666400-1742670000@burnettcountyfun.com
SUMMARY:Meat Raffle | Knotty Pines on Clam Lake
DESCRIPTION:Meat Raffle | Knotty Pines on Clam lake\nEvery Saturday 6:00pm\n24787 Clam Lake Drive\nSiren\, WI
URL:https://burnettcountyfun.com/event/meat-raffle-knotty-pines-on-clam-lake/2025-03-22/
LOCATION:Knotty Pines on Clam Lake\, 24787 Clam lake Drive\, Siren\, WI\, 54872\, United States
CATEGORIES:Food/Beverage
END:VEVENT
BEGIN:VEVENT
DTSTART;TZID=UTC:20250323T110000
DTEND;TZID=UTC:20250323T123000
DTSTAMP:20260423T175131
CREATED:20230805T051346Z
LAST-MODIFIED:20230805T051346Z
UID:10003038-1742727600-1742733000@burnettcountyfun.com
SUMMARY:Meat Bingo | Coyland Creek
DESCRIPTION:Come visit us at Coyland Creek on Sundays for Meat Bingo\, featuring a bloody mary bar\, starting at 11am!
URL:https://burnettcountyfun.com/event/meat-bingo-coyland-creek/2025-03-23/
LOCATION:Coyland Creek\, 5400 Town Line Road\, Frederic\, WI\, 54837\, United States
CATEGORIES:Food/Beverage
END:VEVENT
BEGIN:VEVENT
DTSTART;TZID=UTC:20250326T190000
DTEND;TZID=UTC:20250326T210000
DTSTAMP:20260423T175131
CREATED:20250304T215407Z
LAST-MODIFIED:20251020T221146Z
UID:10010053-1743015600-1743022800@burnettcountyfun.com
SUMMARY:Xtreme Bingo Night WEDNESDAYS!
DESCRIPTION:Xtreme Bar Bingo is on at Voyager Village! \nEvery Wednesday at 7:00 pm!\nFREE to play!\nCash Jackpot up to a jaw-dropping $15\,000!\nThe thrill\, the fun\, and the chance to win HUGE is here!✨\nGrab your friends\, bring your A-game\, and let’s make this bingo night legendary!\nDon’t miss out – it’s about to get Xtreme!
URL:https://burnettcountyfun.com/event/xtreme-bingo-night-wednesdays/2025-03-26/
LOCATION:Voyager Village Restaurant
CATEGORIES:Food/Beverage
ATTACH;FMTTYPE=image/jpeg:https://burnettcountyfun.com/wp-content/uploads/2025/03/CASH-JACKPOT-UP-TO-15000.jpg
END:VEVENT
BEGIN:VEVENT
DTSTART;TZID=UTC:20250328T173000
DTEND;TZID=UTC:20250328T183000
DTSTAMP:20260423T175131
CREATED:20230805T074329Z
LAST-MODIFIED:20231116T001856Z
UID:10004608-1743183000-1743186600@burnettcountyfun.com
SUMMARY:Meat Raffle | Salty Steer
DESCRIPTION:Meat Raffle | Salty Steer\nEvery Friday 5:30 – 6:30 \nMeat Raffle to support rotating organizations such as the Burnett County Historical Society and Burnett County Caring Hearts Thriftshop.
URL:https://burnettcountyfun.com/event/meat-raffle-salty-steer/2025-03-28/
LOCATION:Salty Steer\, 30799 State Road 35 77\, Danbury\, WI\, United States
CATEGORIES:Food/Beverage
END:VEVENT
BEGIN:VEVENT
DTSTART;TZID=UTC:20250328T180000
DTEND;TZID=UTC:20250328T190000
DTSTAMP:20260423T175131
CREATED:20230607T004130Z
LAST-MODIFIED:20230731T051425Z
UID:10000669-1743184800-1743188400@burnettcountyfun.com
SUMMARY:Meat Raffle | Hummers Rendezvous
DESCRIPTION:Meat Raffle | Hummer’s Rendezvous Grantsburg\, WI\nProceeds go to the Squirrels Unlimited\nEvery Friday 6:00pm\n115 E Madison Ave\nGrantsburg\, WI\n715-463-2322
URL:https://burnettcountyfun.com/event/meat-raffle-hummers-rendezvous/2025-03-28/
LOCATION:Hummer’s Rendezvous\, 115 W Madison Ave\, Grantsburg\, WI\, 54840\, United States
CATEGORIES:Charity/Fundraiser,Food/Beverage
END:VEVENT
BEGIN:VEVENT
DTSTART;TZID=UTC:20250329T140000
DTEND;TZID=UTC:20250329T160000
DTSTAMP:20260423T175131
CREATED:20230607T014724Z
LAST-MODIFIED:20230731T051102Z
UID:10002201-1743256800-1743264000@burnettcountyfun.com
SUMMARY:Meat Raffle | Last Call
DESCRIPTION:Meat Raffle | Last Call\nEvery Saturday 2:00pm\n7011 WI-70\nSiren\, WI
URL:https://burnettcountyfun.com/event/meat-raffle-last-call/2025-03-29/
LOCATION:Last Call\, 7011 WI 70\, Siren\, WI\, 54872\, United States
CATEGORIES:Food/Beverage
END:VEVENT
BEGIN:VEVENT
DTSTART;TZID=UTC:20250329T170000
DTEND;TZID=UTC:20250329T190000
DTSTAMP:20260423T175131
CREATED:20230607T014933Z
LAST-MODIFIED:20230722T040328Z
UID:10002723-1743267600-1743274800@burnettcountyfun.com
SUMMARY:Meat Raffle | Lilly Lake Tavern
DESCRIPTION:Meat Raffle | Lilly Lake Tavern\nEvery Saturday 5:00pm\n5891 County Rd A\nWebster\, WI
URL:https://burnettcountyfun.com/event/meat-raffle-lilly-lake-tavern/2025-03-29/
LOCATION:Lilly Lake Tavern\, 5891 County Rd A\, Webster\, WI\, 54893\, United States
CATEGORIES:Food/Beverage
END:VEVENT
BEGIN:VEVENT
DTSTART;TZID=UTC:20250329T180000
DTEND;TZID=UTC:20250329T190000
DTSTAMP:20260423T175131
CREATED:20230607T012542Z
LAST-MODIFIED:20230731T051214Z
UID:10001404-1743271200-1743274800@burnettcountyfun.com
SUMMARY:Meat Raffle | Knotty Pines on Clam Lake
DESCRIPTION:Meat Raffle | Knotty Pines on Clam lake\nEvery Saturday 6:00pm\n24787 Clam Lake Drive\nSiren\, WI
URL:https://burnettcountyfun.com/event/meat-raffle-knotty-pines-on-clam-lake/2025-03-29/
LOCATION:Knotty Pines on Clam Lake\, 24787 Clam lake Drive\, Siren\, WI\, 54872\, United States
CATEGORIES:Food/Beverage
END:VEVENT
BEGIN:VEVENT
DTSTART;TZID=UTC:20250330T110000
DTEND;TZID=UTC:20250330T123000
DTSTAMP:20260423T175131
CREATED:20230805T051346Z
LAST-MODIFIED:20230805T051346Z
UID:10003039-1743332400-1743337800@burnettcountyfun.com
SUMMARY:Meat Bingo | Coyland Creek
DESCRIPTION:Come visit us at Coyland Creek on Sundays for Meat Bingo\, featuring a bloody mary bar\, starting at 11am!
URL:https://burnettcountyfun.com/event/meat-bingo-coyland-creek/2025-03-30/
LOCATION:Coyland Creek\, 5400 Town Line Road\, Frederic\, WI\, 54837\, United States
CATEGORIES:Food/Beverage
END:VEVENT
END:VCALENDAR