BEGIN:VCALENDAR
VERSION:2.0
PRODID:-//Burnett County, Wisconsin - ECPv6.15.20//NONSGML v1.0//EN
CALSCALE:GREGORIAN
METHOD:PUBLISH
X-ORIGINAL-URL:https://burnettcountyfun.com
X-WR-CALDESC:Events for Burnett County, Wisconsin
REFRESH-INTERVAL;VALUE=DURATION:PT1H
X-Robots-Tag:noindex
X-PUBLISHED-TTL:PT1H
BEGIN:VTIMEZONE
TZID:UTC
BEGIN:STANDARD
TZOFFSETFROM:+0000
TZOFFSETTO:+0000
TZNAME:UTC
DTSTART:20240101T000000
END:STANDARD
END:VTIMEZONE
BEGIN:VEVENT
DTSTART;TZID=UTC:20250406T110000
DTEND;TZID=UTC:20250406T123000
DTSTAMP:20260423T060616
CREATED:20230805T051346Z
LAST-MODIFIED:20230805T051346Z
UID:10003040-1743937200-1743942600@burnettcountyfun.com
SUMMARY:Meat Bingo | Coyland Creek
DESCRIPTION:Come visit us at Coyland Creek on Sundays for Meat Bingo\, featuring a bloody mary bar\, starting at 11am!
URL:https://burnettcountyfun.com/event/meat-bingo-coyland-creek/2025-04-06/
LOCATION:Coyland Creek\, 5400 Town Line Road\, Frederic\, WI\, 54837\, United States
CATEGORIES:Food/Beverage
END:VEVENT
BEGIN:VEVENT
DTSTART;TZID=UTC:20250409T190000
DTEND;TZID=UTC:20250409T210000
DTSTAMP:20260423T060616
CREATED:20250304T215407Z
LAST-MODIFIED:20251020T221146Z
UID:10010055-1744225200-1744232400@burnettcountyfun.com
SUMMARY:Xtreme Bingo Night WEDNESDAYS!
DESCRIPTION:Xtreme Bar Bingo is on at Voyager Village! \nEvery Wednesday at 7:00 pm!\nFREE to play!\nCash Jackpot up to a jaw-dropping $15\,000!\nThe thrill\, the fun\, and the chance to win HUGE is here!✨\nGrab your friends\, bring your A-game\, and let’s make this bingo night legendary!\nDon’t miss out – it’s about to get Xtreme!
URL:https://burnettcountyfun.com/event/xtreme-bingo-night-wednesdays/2025-04-09/
LOCATION:Voyager Village Restaurant
CATEGORIES:Food/Beverage
ATTACH;FMTTYPE=image/jpeg:https://burnettcountyfun.com/wp-content/uploads/2025/03/CASH-JACKPOT-UP-TO-15000.jpg
END:VEVENT
BEGIN:VEVENT
DTSTART;TZID=UTC:20250411T173000
DTEND;TZID=UTC:20250411T183000
DTSTAMP:20260423T060616
CREATED:20230805T074329Z
LAST-MODIFIED:20231116T001856Z
UID:10004610-1744392600-1744396200@burnettcountyfun.com
SUMMARY:Meat Raffle | Salty Steer
DESCRIPTION:Meat Raffle | Salty Steer\nEvery Friday 5:30 – 6:30 \nMeat Raffle to support rotating organizations such as the Burnett County Historical Society and Burnett County Caring Hearts Thriftshop.
URL:https://burnettcountyfun.com/event/meat-raffle-salty-steer/2025-04-11/
LOCATION:Salty Steer\, 30799 State Road 35 77\, Danbury\, WI\, United States
CATEGORIES:Food/Beverage
END:VEVENT
BEGIN:VEVENT
DTSTART;TZID=UTC:20250411T180000
DTEND;TZID=UTC:20250411T190000
DTSTAMP:20260423T060616
CREATED:20230607T004130Z
LAST-MODIFIED:20230731T051425Z
UID:10000671-1744394400-1744398000@burnettcountyfun.com
SUMMARY:Meat Raffle | Hummers Rendezvous
DESCRIPTION:Meat Raffle | Hummer’s Rendezvous Grantsburg\, WI\nProceeds go to the Squirrels Unlimited\nEvery Friday 6:00pm\n115 E Madison Ave\nGrantsburg\, WI\n715-463-2322
URL:https://burnettcountyfun.com/event/meat-raffle-hummers-rendezvous/2025-04-11/
LOCATION:Hummer’s Rendezvous\, 115 W Madison Ave\, Grantsburg\, WI\, 54840\, United States
CATEGORIES:Charity/Fundraiser,Food/Beverage
END:VEVENT
BEGIN:VEVENT
DTSTART;VALUE=DATE:20250412
DTEND;VALUE=DATE:20250413
DTSTAMP:20260423T060616
CREATED:20250110T214005Z
LAST-MODIFIED:20250324T212105Z
UID:10009263-1744416000-1744502399@burnettcountyfun.com
SUMMARY:Taco Bingo Night
DESCRIPTION:TACO BINGO NIGHT!! Taco dinner will begin at 4:30pm in the Webster Middle/High School gym and bingo be from 6:00-8:00!
URL:https://burnettcountyfun.com/event/taco-bingo-night/
LOCATION:Webster High School\, 7564 Alder St W\, Webster\, 54893\, United States
CATEGORIES:Charity/Fundraiser,Family Friendly,Food/Beverage
ATTACH;FMTTYPE=image/jpeg:https://burnettcountyfun.com/wp-content/uploads/2025/01/IMG_3496.jpg
ORGANIZER;CN="Webster Education Foundation":MAILTO:WEF@webster.k12.wi.us
END:VEVENT
BEGIN:VEVENT
DTSTART;TZID=UTC:20250412T140000
DTEND;TZID=UTC:20250412T160000
DTSTAMP:20260423T060617
CREATED:20230607T014724Z
LAST-MODIFIED:20230731T051102Z
UID:10002203-1744466400-1744473600@burnettcountyfun.com
SUMMARY:Meat Raffle | Last Call
DESCRIPTION:Meat Raffle | Last Call\nEvery Saturday 2:00pm\n7011 WI-70\nSiren\, WI
URL:https://burnettcountyfun.com/event/meat-raffle-last-call/2025-04-12/
LOCATION:Last Call\, 7011 WI 70\, Siren\, WI\, 54872\, United States
CATEGORIES:Food/Beverage
END:VEVENT
BEGIN:VEVENT
DTSTART;TZID=UTC:20250412T170000
DTEND;TZID=UTC:20250412T190000
DTSTAMP:20260423T060617
CREATED:20230607T014933Z
LAST-MODIFIED:20230722T040328Z
UID:10002725-1744477200-1744484400@burnettcountyfun.com
SUMMARY:Meat Raffle | Lilly Lake Tavern
DESCRIPTION:Meat Raffle | Lilly Lake Tavern\nEvery Saturday 5:00pm\n5891 County Rd A\nWebster\, WI
URL:https://burnettcountyfun.com/event/meat-raffle-lilly-lake-tavern/2025-04-12/
LOCATION:Lilly Lake Tavern\, 5891 County Rd A\, Webster\, WI\, 54893\, United States
CATEGORIES:Food/Beverage
END:VEVENT
BEGIN:VEVENT
DTSTART;TZID=UTC:20250412T180000
DTEND;TZID=UTC:20250412T190000
DTSTAMP:20260423T060617
CREATED:20230607T012542Z
LAST-MODIFIED:20230731T051214Z
UID:10001406-1744480800-1744484400@burnettcountyfun.com
SUMMARY:Meat Raffle | Knotty Pines on Clam Lake
DESCRIPTION:Meat Raffle | Knotty Pines on Clam lake\nEvery Saturday 6:00pm\n24787 Clam Lake Drive\nSiren\, WI
URL:https://burnettcountyfun.com/event/meat-raffle-knotty-pines-on-clam-lake/2025-04-12/
LOCATION:Knotty Pines on Clam Lake\, 24787 Clam lake Drive\, Siren\, WI\, 54872\, United States
CATEGORIES:Food/Beverage
END:VEVENT
BEGIN:VEVENT
DTSTART;TZID=UTC:20250413T110000
DTEND;TZID=UTC:20250413T123000
DTSTAMP:20260423T060617
CREATED:20230805T051346Z
LAST-MODIFIED:20230805T051346Z
UID:10003041-1744542000-1744547400@burnettcountyfun.com
SUMMARY:Meat Bingo | Coyland Creek
DESCRIPTION:Come visit us at Coyland Creek on Sundays for Meat Bingo\, featuring a bloody mary bar\, starting at 11am!
URL:https://burnettcountyfun.com/event/meat-bingo-coyland-creek/2025-04-13/
LOCATION:Coyland Creek\, 5400 Town Line Road\, Frederic\, WI\, 54837\, United States
CATEGORIES:Food/Beverage
END:VEVENT
BEGIN:VEVENT
DTSTART;TZID=UTC:20250416T190000
DTEND;TZID=UTC:20250416T210000
DTSTAMP:20260423T060617
CREATED:20250304T215407Z
LAST-MODIFIED:20251020T221146Z
UID:10010056-1744830000-1744837200@burnettcountyfun.com
SUMMARY:Xtreme Bingo Night WEDNESDAYS!
DESCRIPTION:Xtreme Bar Bingo is on at Voyager Village! \nEvery Wednesday at 7:00 pm!\nFREE to play!\nCash Jackpot up to a jaw-dropping $15\,000!\nThe thrill\, the fun\, and the chance to win HUGE is here!✨\nGrab your friends\, bring your A-game\, and let’s make this bingo night legendary!\nDon’t miss out – it’s about to get Xtreme!
URL:https://burnettcountyfun.com/event/xtreme-bingo-night-wednesdays/2025-04-16/
LOCATION:Voyager Village Restaurant
CATEGORIES:Food/Beverage
ATTACH;FMTTYPE=image/jpeg:https://burnettcountyfun.com/wp-content/uploads/2025/03/CASH-JACKPOT-UP-TO-15000.jpg
END:VEVENT
BEGIN:VEVENT
DTSTART;TZID=UTC:20250418T173000
DTEND;TZID=UTC:20250418T183000
DTSTAMP:20260423T060617
CREATED:20230805T074329Z
LAST-MODIFIED:20231116T001856Z
UID:10004611-1744997400-1745001000@burnettcountyfun.com
SUMMARY:Meat Raffle | Salty Steer
DESCRIPTION:Meat Raffle | Salty Steer\nEvery Friday 5:30 – 6:30 \nMeat Raffle to support rotating organizations such as the Burnett County Historical Society and Burnett County Caring Hearts Thriftshop.
URL:https://burnettcountyfun.com/event/meat-raffle-salty-steer/2025-04-18/
LOCATION:Salty Steer\, 30799 State Road 35 77\, Danbury\, WI\, United States
CATEGORIES:Food/Beverage
END:VEVENT
BEGIN:VEVENT
DTSTART;TZID=UTC:20250418T180000
DTEND;TZID=UTC:20250418T190000
DTSTAMP:20260423T060617
CREATED:20230607T004130Z
LAST-MODIFIED:20230731T051425Z
UID:10000672-1744999200-1745002800@burnettcountyfun.com
SUMMARY:Meat Raffle | Hummers Rendezvous
DESCRIPTION:Meat Raffle | Hummer’s Rendezvous Grantsburg\, WI\nProceeds go to the Squirrels Unlimited\nEvery Friday 6:00pm\n115 E Madison Ave\nGrantsburg\, WI\n715-463-2322
URL:https://burnettcountyfun.com/event/meat-raffle-hummers-rendezvous/2025-04-18/
LOCATION:Hummer’s Rendezvous\, 115 W Madison Ave\, Grantsburg\, WI\, 54840\, United States
CATEGORIES:Charity/Fundraiser,Food/Beverage
END:VEVENT
BEGIN:VEVENT
DTSTART;TZID=UTC:20250419T140000
DTEND;TZID=UTC:20250419T160000
DTSTAMP:20260423T060617
CREATED:20230607T014724Z
LAST-MODIFIED:20230731T051102Z
UID:10002204-1745071200-1745078400@burnettcountyfun.com
SUMMARY:Meat Raffle | Last Call
DESCRIPTION:Meat Raffle | Last Call\nEvery Saturday 2:00pm\n7011 WI-70\nSiren\, WI
URL:https://burnettcountyfun.com/event/meat-raffle-last-call/2025-04-19/
LOCATION:Last Call\, 7011 WI 70\, Siren\, WI\, 54872\, United States
CATEGORIES:Food/Beverage
END:VEVENT
BEGIN:VEVENT
DTSTART;TZID=UTC:20250419T170000
DTEND;TZID=UTC:20250419T190000
DTSTAMP:20260423T060617
CREATED:20230607T014933Z
LAST-MODIFIED:20230722T040328Z
UID:10002726-1745082000-1745089200@burnettcountyfun.com
SUMMARY:Meat Raffle | Lilly Lake Tavern
DESCRIPTION:Meat Raffle | Lilly Lake Tavern\nEvery Saturday 5:00pm\n5891 County Rd A\nWebster\, WI
URL:https://burnettcountyfun.com/event/meat-raffle-lilly-lake-tavern/2025-04-19/
LOCATION:Lilly Lake Tavern\, 5891 County Rd A\, Webster\, WI\, 54893\, United States
CATEGORIES:Food/Beverage
END:VEVENT
BEGIN:VEVENT
DTSTART;TZID=UTC:20250419T180000
DTEND;TZID=UTC:20250419T190000
DTSTAMP:20260423T060617
CREATED:20230607T012542Z
LAST-MODIFIED:20230731T051214Z
UID:10001407-1745085600-1745089200@burnettcountyfun.com
SUMMARY:Meat Raffle | Knotty Pines on Clam Lake
DESCRIPTION:Meat Raffle | Knotty Pines on Clam lake\nEvery Saturday 6:00pm\n24787 Clam Lake Drive\nSiren\, WI
URL:https://burnettcountyfun.com/event/meat-raffle-knotty-pines-on-clam-lake/2025-04-19/
LOCATION:Knotty Pines on Clam Lake\, 24787 Clam lake Drive\, Siren\, WI\, 54872\, United States
CATEGORIES:Food/Beverage
END:VEVENT
BEGIN:VEVENT
DTSTART;TZID=UTC:20250420T110000
DTEND;TZID=UTC:20250420T123000
DTSTAMP:20260423T060617
CREATED:20230805T051346Z
LAST-MODIFIED:20230805T051346Z
UID:10003042-1745146800-1745152200@burnettcountyfun.com
SUMMARY:Meat Bingo | Coyland Creek
DESCRIPTION:Come visit us at Coyland Creek on Sundays for Meat Bingo\, featuring a bloody mary bar\, starting at 11am!
URL:https://burnettcountyfun.com/event/meat-bingo-coyland-creek/2025-04-20/
LOCATION:Coyland Creek\, 5400 Town Line Road\, Frederic\, WI\, 54837\, United States
CATEGORIES:Food/Beverage
END:VEVENT
BEGIN:VEVENT
DTSTART;TZID=UTC:20250423T190000
DTEND;TZID=UTC:20250423T210000
DTSTAMP:20260423T060617
CREATED:20250304T215407Z
LAST-MODIFIED:20251020T221146Z
UID:10010057-1745434800-1745442000@burnettcountyfun.com
SUMMARY:Xtreme Bingo Night WEDNESDAYS!
DESCRIPTION:Xtreme Bar Bingo is on at Voyager Village! \nEvery Wednesday at 7:00 pm!\nFREE to play!\nCash Jackpot up to a jaw-dropping $15\,000!\nThe thrill\, the fun\, and the chance to win HUGE is here!✨\nGrab your friends\, bring your A-game\, and let’s make this bingo night legendary!\nDon’t miss out – it’s about to get Xtreme!
URL:https://burnettcountyfun.com/event/xtreme-bingo-night-wednesdays/2025-04-23/
LOCATION:Voyager Village Restaurant
CATEGORIES:Food/Beverage
ATTACH;FMTTYPE=image/jpeg:https://burnettcountyfun.com/wp-content/uploads/2025/03/CASH-JACKPOT-UP-TO-15000.jpg
END:VEVENT
BEGIN:VEVENT
DTSTART;TZID=UTC:20250425T173000
DTEND;TZID=UTC:20250425T183000
DTSTAMP:20260423T060617
CREATED:20230805T074329Z
LAST-MODIFIED:20231116T001856Z
UID:10004612-1745602200-1745605800@burnettcountyfun.com
SUMMARY:Meat Raffle | Salty Steer
DESCRIPTION:Meat Raffle | Salty Steer\nEvery Friday 5:30 – 6:30 \nMeat Raffle to support rotating organizations such as the Burnett County Historical Society and Burnett County Caring Hearts Thriftshop.
URL:https://burnettcountyfun.com/event/meat-raffle-salty-steer/2025-04-25/
LOCATION:Salty Steer\, 30799 State Road 35 77\, Danbury\, WI\, United States
CATEGORIES:Food/Beverage
END:VEVENT
BEGIN:VEVENT
DTSTART;TZID=UTC:20250425T180000
DTEND;TZID=UTC:20250425T190000
DTSTAMP:20260423T060617
CREATED:20230607T004130Z
LAST-MODIFIED:20230731T051425Z
UID:10000673-1745604000-1745607600@burnettcountyfun.com
SUMMARY:Meat Raffle | Hummers Rendezvous
DESCRIPTION:Meat Raffle | Hummer’s Rendezvous Grantsburg\, WI\nProceeds go to the Squirrels Unlimited\nEvery Friday 6:00pm\n115 E Madison Ave\nGrantsburg\, WI\n715-463-2322
URL:https://burnettcountyfun.com/event/meat-raffle-hummers-rendezvous/2025-04-25/
LOCATION:Hummer’s Rendezvous\, 115 W Madison Ave\, Grantsburg\, WI\, 54840\, United States
CATEGORIES:Charity/Fundraiser,Food/Beverage
END:VEVENT
BEGIN:VEVENT
DTSTART;TZID=UTC:20250426T140000
DTEND;TZID=UTC:20250426T160000
DTSTAMP:20260423T060617
CREATED:20230607T014724Z
LAST-MODIFIED:20230731T051102Z
UID:10002205-1745676000-1745683200@burnettcountyfun.com
SUMMARY:Meat Raffle | Last Call
DESCRIPTION:Meat Raffle | Last Call\nEvery Saturday 2:00pm\n7011 WI-70\nSiren\, WI
URL:https://burnettcountyfun.com/event/meat-raffle-last-call/2025-04-26/
LOCATION:Last Call\, 7011 WI 70\, Siren\, WI\, 54872\, United States
CATEGORIES:Food/Beverage
END:VEVENT
BEGIN:VEVENT
DTSTART;TZID=UTC:20250426T170000
DTEND;TZID=UTC:20250426T190000
DTSTAMP:20260423T060617
CREATED:20230607T014933Z
LAST-MODIFIED:20230722T040328Z
UID:10002727-1745686800-1745694000@burnettcountyfun.com
SUMMARY:Meat Raffle | Lilly Lake Tavern
DESCRIPTION:Meat Raffle | Lilly Lake Tavern\nEvery Saturday 5:00pm\n5891 County Rd A\nWebster\, WI
URL:https://burnettcountyfun.com/event/meat-raffle-lilly-lake-tavern/2025-04-26/
LOCATION:Lilly Lake Tavern\, 5891 County Rd A\, Webster\, WI\, 54893\, United States
CATEGORIES:Food/Beverage
END:VEVENT
BEGIN:VEVENT
DTSTART;TZID=UTC:20250426T180000
DTEND;TZID=UTC:20250426T190000
DTSTAMP:20260423T060617
CREATED:20230607T012542Z
LAST-MODIFIED:20230731T051214Z
UID:10001408-1745690400-1745694000@burnettcountyfun.com
SUMMARY:Meat Raffle | Knotty Pines on Clam Lake
DESCRIPTION:Meat Raffle | Knotty Pines on Clam lake\nEvery Saturday 6:00pm\n24787 Clam Lake Drive\nSiren\, WI
URL:https://burnettcountyfun.com/event/meat-raffle-knotty-pines-on-clam-lake/2025-04-26/
LOCATION:Knotty Pines on Clam Lake\, 24787 Clam lake Drive\, Siren\, WI\, 54872\, United States
CATEGORIES:Food/Beverage
END:VEVENT
BEGIN:VEVENT
DTSTART;TZID=UTC:20250427T110000
DTEND;TZID=UTC:20250427T123000
DTSTAMP:20260423T060617
CREATED:20230805T051346Z
LAST-MODIFIED:20230805T051346Z
UID:10003043-1745751600-1745757000@burnettcountyfun.com
SUMMARY:Meat Bingo | Coyland Creek
DESCRIPTION:Come visit us at Coyland Creek on Sundays for Meat Bingo\, featuring a bloody mary bar\, starting at 11am!
URL:https://burnettcountyfun.com/event/meat-bingo-coyland-creek/2025-04-27/
LOCATION:Coyland Creek\, 5400 Town Line Road\, Frederic\, WI\, 54837\, United States
CATEGORIES:Food/Beverage
END:VEVENT
BEGIN:VEVENT
DTSTART;TZID=UTC:20250430T190000
DTEND;TZID=UTC:20250430T210000
DTSTAMP:20260423T060617
CREATED:20250304T215407Z
LAST-MODIFIED:20251020T221146Z
UID:10010058-1746039600-1746046800@burnettcountyfun.com
SUMMARY:Xtreme Bingo Night WEDNESDAYS!
DESCRIPTION:Xtreme Bar Bingo is on at Voyager Village! \nEvery Wednesday at 7:00 pm!\nFREE to play!\nCash Jackpot up to a jaw-dropping $15\,000!\nThe thrill\, the fun\, and the chance to win HUGE is here!✨\nGrab your friends\, bring your A-game\, and let’s make this bingo night legendary!\nDon’t miss out – it’s about to get Xtreme!
URL:https://burnettcountyfun.com/event/xtreme-bingo-night-wednesdays/2025-04-30/
LOCATION:Voyager Village Restaurant
CATEGORIES:Food/Beverage
ATTACH;FMTTYPE=image/jpeg:https://burnettcountyfun.com/wp-content/uploads/2025/03/CASH-JACKPOT-UP-TO-15000.jpg
END:VEVENT
BEGIN:VEVENT
DTSTART;TZID=UTC:20250502T173000
DTEND;TZID=UTC:20250502T183000
DTSTAMP:20260423T060617
CREATED:20230805T074329Z
LAST-MODIFIED:20231116T001856Z
UID:10004613-1746207000-1746210600@burnettcountyfun.com
SUMMARY:Meat Raffle | Salty Steer
DESCRIPTION:Meat Raffle | Salty Steer\nEvery Friday 5:30 – 6:30 \nMeat Raffle to support rotating organizations such as the Burnett County Historical Society and Burnett County Caring Hearts Thriftshop.
URL:https://burnettcountyfun.com/event/meat-raffle-salty-steer/2025-05-02/
LOCATION:Salty Steer\, 30799 State Road 35 77\, Danbury\, WI\, United States
CATEGORIES:Food/Beverage
END:VEVENT
BEGIN:VEVENT
DTSTART;TZID=UTC:20250502T180000
DTEND;TZID=UTC:20250502T190000
DTSTAMP:20260423T060617
CREATED:20230607T004130Z
LAST-MODIFIED:20230731T051425Z
UID:10000674-1746208800-1746212400@burnettcountyfun.com
SUMMARY:Meat Raffle | Hummers Rendezvous
DESCRIPTION:Meat Raffle | Hummer’s Rendezvous Grantsburg\, WI\nProceeds go to the Squirrels Unlimited\nEvery Friday 6:00pm\n115 E Madison Ave\nGrantsburg\, WI\n715-463-2322
URL:https://burnettcountyfun.com/event/meat-raffle-hummers-rendezvous/2025-05-02/
LOCATION:Hummer’s Rendezvous\, 115 W Madison Ave\, Grantsburg\, WI\, 54840\, United States
CATEGORIES:Charity/Fundraiser,Food/Beverage
END:VEVENT
BEGIN:VEVENT
DTSTART;TZID=UTC:20250503T140000
DTEND;TZID=UTC:20250503T160000
DTSTAMP:20260423T060617
CREATED:20230607T014724Z
LAST-MODIFIED:20230731T051102Z
UID:10002206-1746280800-1746288000@burnettcountyfun.com
SUMMARY:Meat Raffle | Last Call
DESCRIPTION:Meat Raffle | Last Call\nEvery Saturday 2:00pm\n7011 WI-70\nSiren\, WI
URL:https://burnettcountyfun.com/event/meat-raffle-last-call/2025-05-03/
LOCATION:Last Call\, 7011 WI 70\, Siren\, WI\, 54872\, United States
CATEGORIES:Food/Beverage
END:VEVENT
BEGIN:VEVENT
DTSTART;TZID=UTC:20250503T170000
DTEND;TZID=UTC:20250503T190000
DTSTAMP:20260423T060617
CREATED:20230607T014933Z
LAST-MODIFIED:20230722T040328Z
UID:10002728-1746291600-1746298800@burnettcountyfun.com
SUMMARY:Meat Raffle | Lilly Lake Tavern
DESCRIPTION:Meat Raffle | Lilly Lake Tavern\nEvery Saturday 5:00pm\n5891 County Rd A\nWebster\, WI
URL:https://burnettcountyfun.com/event/meat-raffle-lilly-lake-tavern/2025-05-03/
LOCATION:Lilly Lake Tavern\, 5891 County Rd A\, Webster\, WI\, 54893\, United States
CATEGORIES:Food/Beverage
END:VEVENT
BEGIN:VEVENT
DTSTART;TZID=UTC:20250503T180000
DTEND;TZID=UTC:20250503T190000
DTSTAMP:20260423T060617
CREATED:20230607T012542Z
LAST-MODIFIED:20230731T051214Z
UID:10001409-1746295200-1746298800@burnettcountyfun.com
SUMMARY:Meat Raffle | Knotty Pines on Clam Lake
DESCRIPTION:Meat Raffle | Knotty Pines on Clam lake\nEvery Saturday 6:00pm\n24787 Clam Lake Drive\nSiren\, WI
URL:https://burnettcountyfun.com/event/meat-raffle-knotty-pines-on-clam-lake/2025-05-03/
LOCATION:Knotty Pines on Clam Lake\, 24787 Clam lake Drive\, Siren\, WI\, 54872\, United States
CATEGORIES:Food/Beverage
END:VEVENT
BEGIN:VEVENT
DTSTART;TZID=UTC:20250504T110000
DTEND;TZID=UTC:20250504T123000
DTSTAMP:20260423T060617
CREATED:20230805T051346Z
LAST-MODIFIED:20230805T051346Z
UID:10003044-1746356400-1746361800@burnettcountyfun.com
SUMMARY:Meat Bingo | Coyland Creek
DESCRIPTION:Come visit us at Coyland Creek on Sundays for Meat Bingo\, featuring a bloody mary bar\, starting at 11am!
URL:https://burnettcountyfun.com/event/meat-bingo-coyland-creek/2025-05-04/
LOCATION:Coyland Creek\, 5400 Town Line Road\, Frederic\, WI\, 54837\, United States
CATEGORIES:Food/Beverage
END:VEVENT
END:VCALENDAR