BEGIN:VCALENDAR
VERSION:2.0
PRODID:-//Burnett County, Wisconsin - ECPv6.15.20//NONSGML v1.0//EN
CALSCALE:GREGORIAN
METHOD:PUBLISH
X-WR-CALNAME:Burnett County, Wisconsin
X-ORIGINAL-URL:https://burnettcountyfun.com
X-WR-CALDESC:Events for Burnett County, Wisconsin
REFRESH-INTERVAL;VALUE=DURATION:PT1H
X-Robots-Tag:noindex
X-PUBLISHED-TTL:PT1H
BEGIN:VTIMEZONE
TZID:America/Chicago
BEGIN:DAYLIGHT
TZOFFSETFROM:-0600
TZOFFSETTO:-0500
TZNAME:CDT
DTSTART:20250309T080000
END:DAYLIGHT
BEGIN:STANDARD
TZOFFSETFROM:-0500
TZOFFSETTO:-0600
TZNAME:CST
DTSTART:20251102T070000
END:STANDARD
BEGIN:DAYLIGHT
TZOFFSETFROM:-0600
TZOFFSETTO:-0500
TZNAME:CDT
DTSTART:20260308T080000
END:DAYLIGHT
BEGIN:STANDARD
TZOFFSETFROM:-0500
TZOFFSETTO:-0600
TZNAME:CST
DTSTART:20261101T070000
END:STANDARD
BEGIN:DAYLIGHT
TZOFFSETFROM:-0600
TZOFFSETTO:-0500
TZNAME:CDT
DTSTART:20270314T080000
END:DAYLIGHT
BEGIN:STANDARD
TZOFFSETFROM:-0500
TZOFFSETTO:-0600
TZNAME:CST
DTSTART:20271107T070000
END:STANDARD
END:VTIMEZONE
BEGIN:VTIMEZONE
TZID:UTC
BEGIN:STANDARD
TZOFFSETFROM:+0000
TZOFFSETTO:+0000
TZNAME:UTC
DTSTART:20250101T000000
END:STANDARD
END:VTIMEZONE
BEGIN:VEVENT
DTSTART;TZID=America/Chicago:20260322T173000
DTEND;TZID=America/Chicago:20260322T190000
DTSTAMP:20260422T151618
CREATED:20260113T015627Z
LAST-MODIFIED:20260113T015627Z
UID:10012134-1774200600-1774206000@burnettcountyfun.com
SUMMARY:Soup and Spirit
DESCRIPTION:Enjoy a free meal of soup and bread\, followed by an evening worship service! Faith Community Church in Grantsburg\, WI\, welcomes everyone every Sunday from 5:30 to 7:00 PM. It’s a warm\, welcoming way to end the weekend and connect with others!
URL:https://burnettcountyfun.com/event/soup-and-spirit-3/2026-03-22/
LOCATION:Faith Community Church\, 7535 Peet St\, Danbury\, WI\, 54830\, United States
CATEGORIES:Food/Beverage,Music
END:VEVENT
BEGIN:VEVENT
DTSTART;TZID=UTC:20260325T190000
DTEND;TZID=UTC:20260325T210000
DTSTAMP:20260422T151618
CREATED:20250304T215407Z
LAST-MODIFIED:20251020T221146Z
UID:10010105-1774465200-1774472400@burnettcountyfun.com
SUMMARY:Xtreme Bingo Night WEDNESDAYS!
DESCRIPTION:Xtreme Bar Bingo is on at Voyager Village! \nEvery Wednesday at 7:00 pm!\nFREE to play!\nCash Jackpot up to a jaw-dropping $15\,000!\nThe thrill\, the fun\, and the chance to win HUGE is here!✨\nGrab your friends\, bring your A-game\, and let’s make this bingo night legendary!\nDon’t miss out – it’s about to get Xtreme!
URL:https://burnettcountyfun.com/event/xtreme-bingo-night-wednesdays/2026-03-25/
LOCATION:Voyager Village Restaurant
CATEGORIES:Food/Beverage
ATTACH;FMTTYPE=image/jpeg:https://burnettcountyfun.com/wp-content/uploads/2025/03/CASH-JACKPOT-UP-TO-15000.jpg
END:VEVENT
BEGIN:VEVENT
DTSTART;TZID=UTC:20260327T173000
DTEND;TZID=UTC:20260327T183000
DTSTAMP:20260422T151618
CREATED:20230805T074329Z
LAST-MODIFIED:20231116T001856Z
UID:10004660-1774632600-1774636200@burnettcountyfun.com
SUMMARY:Meat Raffle | Salty Steer
DESCRIPTION:Meat Raffle | Salty Steer\nEvery Friday 5:30 – 6:30 \nMeat Raffle to support rotating organizations such as the Burnett County Historical Society and Burnett County Caring Hearts Thriftshop.
URL:https://burnettcountyfun.com/event/meat-raffle-salty-steer/2026-03-27/
LOCATION:Salty Steer\, 30799 State Road 35 77\, Danbury\, WI\, United States
CATEGORIES:Food/Beverage
END:VEVENT
BEGIN:VEVENT
DTSTART;TZID=UTC:20260327T180000
DTEND;TZID=UTC:20260327T190000
DTSTAMP:20260422T151618
CREATED:20230607T004130Z
LAST-MODIFIED:20230731T051425Z
UID:10000721-1774634400-1774638000@burnettcountyfun.com
SUMMARY:Meat Raffle | Hummers Rendezvous
DESCRIPTION:Meat Raffle | Hummer’s Rendezvous Grantsburg\, WI\nProceeds go to the Squirrels Unlimited\nEvery Friday 6:00pm\n115 E Madison Ave\nGrantsburg\, WI\n715-463-2322
URL:https://burnettcountyfun.com/event/meat-raffle-hummers-rendezvous/2026-03-27/
LOCATION:Hummer’s Rendezvous\, 115 W Madison Ave\, Grantsburg\, WI\, 54840\, United States
CATEGORIES:Charity/Fundraiser,Food/Beverage
END:VEVENT
BEGIN:VEVENT
DTSTART;TZID=UTC:20260328T140000
DTEND;TZID=UTC:20260328T160000
DTSTAMP:20260422T151618
CREATED:20230607T014724Z
LAST-MODIFIED:20230731T051102Z
UID:10002253-1774706400-1774713600@burnettcountyfun.com
SUMMARY:Meat Raffle | Last Call
DESCRIPTION:Meat Raffle | Last Call\nEvery Saturday 2:00pm\n7011 WI-70\nSiren\, WI
URL:https://burnettcountyfun.com/event/meat-raffle-last-call/2026-03-28/
LOCATION:Last Call\, 7011 WI 70\, Siren\, WI\, 54872\, United States
CATEGORIES:Food/Beverage
END:VEVENT
BEGIN:VEVENT
DTSTART;TZID=UTC:20260328T170000
DTEND;TZID=UTC:20260328T190000
DTSTAMP:20260422T151618
CREATED:20230607T014933Z
LAST-MODIFIED:20230722T040328Z
UID:10002775-1774717200-1774724400@burnettcountyfun.com
SUMMARY:Meat Raffle | Lilly Lake Tavern
DESCRIPTION:Meat Raffle | Lilly Lake Tavern\nEvery Saturday 5:00pm\n5891 County Rd A\nWebster\, WI
URL:https://burnettcountyfun.com/event/meat-raffle-lilly-lake-tavern/2026-03-28/
LOCATION:Lilly Lake Tavern\, 5891 County Rd A\, Webster\, WI\, 54893\, United States
CATEGORIES:Food/Beverage
END:VEVENT
BEGIN:VEVENT
DTSTART;TZID=UTC:20260328T180000
DTEND;TZID=UTC:20260328T190000
DTSTAMP:20260422T151618
CREATED:20230607T012542Z
LAST-MODIFIED:20230731T051214Z
UID:10001456-1774720800-1774724400@burnettcountyfun.com
SUMMARY:Meat Raffle | Knotty Pines on Clam Lake
DESCRIPTION:Meat Raffle | Knotty Pines on Clam lake\nEvery Saturday 6:00pm\n24787 Clam Lake Drive\nSiren\, WI
URL:https://burnettcountyfun.com/event/meat-raffle-knotty-pines-on-clam-lake/2026-03-28/
LOCATION:Knotty Pines on Clam Lake\, 24787 Clam lake Drive\, Siren\, WI\, 54872\, United States
CATEGORIES:Food/Beverage
END:VEVENT
BEGIN:VEVENT
DTSTART;TZID=UTC:20260329T110000
DTEND;TZID=UTC:20260329T123000
DTSTAMP:20260422T151618
CREATED:20230805T051346Z
LAST-MODIFIED:20230805T051346Z
UID:10003091-1774782000-1774787400@burnettcountyfun.com
SUMMARY:Meat Bingo | Coyland Creek
DESCRIPTION:Come visit us at Coyland Creek on Sundays for Meat Bingo\, featuring a bloody mary bar\, starting at 11am!
URL:https://burnettcountyfun.com/event/meat-bingo-coyland-creek/2026-03-29/
LOCATION:Coyland Creek\, 5400 Town Line Road\, Frederic\, WI\, 54837\, United States
CATEGORIES:Food/Beverage
END:VEVENT
BEGIN:VEVENT
DTSTART;TZID=America/Chicago:20260329T173000
DTEND;TZID=America/Chicago:20260329T190000
DTSTAMP:20260422T151618
CREATED:20260113T015627Z
LAST-MODIFIED:20260113T015627Z
UID:10012135-1774805400-1774810800@burnettcountyfun.com
SUMMARY:Soup and Spirit
DESCRIPTION:Enjoy a free meal of soup and bread\, followed by an evening worship service! Faith Community Church in Grantsburg\, WI\, welcomes everyone every Sunday from 5:30 to 7:00 PM. It’s a warm\, welcoming way to end the weekend and connect with others!
URL:https://burnettcountyfun.com/event/soup-and-spirit-3/2026-03-29/
LOCATION:Faith Community Church\, 7535 Peet St\, Danbury\, WI\, 54830\, United States
CATEGORIES:Food/Beverage,Music
END:VEVENT
BEGIN:VEVENT
DTSTART;TZID=UTC:20260401T190000
DTEND;TZID=UTC:20260401T210000
DTSTAMP:20260422T151618
CREATED:20250304T215407Z
LAST-MODIFIED:20251020T221146Z
UID:10010106-1775070000-1775077200@burnettcountyfun.com
SUMMARY:Xtreme Bingo Night WEDNESDAYS!
DESCRIPTION:Xtreme Bar Bingo is on at Voyager Village! \nEvery Wednesday at 7:00 pm!\nFREE to play!\nCash Jackpot up to a jaw-dropping $15\,000!\nThe thrill\, the fun\, and the chance to win HUGE is here!✨\nGrab your friends\, bring your A-game\, and let’s make this bingo night legendary!\nDon’t miss out – it’s about to get Xtreme!
URL:https://burnettcountyfun.com/event/xtreme-bingo-night-wednesdays/2026-04-01/
LOCATION:Voyager Village Restaurant
CATEGORIES:Food/Beverage
ATTACH;FMTTYPE=image/jpeg:https://burnettcountyfun.com/wp-content/uploads/2025/03/CASH-JACKPOT-UP-TO-15000.jpg
END:VEVENT
BEGIN:VEVENT
DTSTART;TZID=UTC:20260403T173000
DTEND;TZID=UTC:20260403T183000
DTSTAMP:20260422T151618
CREATED:20230805T074329Z
LAST-MODIFIED:20231116T001856Z
UID:10004661-1775237400-1775241000@burnettcountyfun.com
SUMMARY:Meat Raffle | Salty Steer
DESCRIPTION:Meat Raffle | Salty Steer\nEvery Friday 5:30 – 6:30 \nMeat Raffle to support rotating organizations such as the Burnett County Historical Society and Burnett County Caring Hearts Thriftshop.
URL:https://burnettcountyfun.com/event/meat-raffle-salty-steer/2026-04-03/
LOCATION:Salty Steer\, 30799 State Road 35 77\, Danbury\, WI\, United States
CATEGORIES:Food/Beverage
END:VEVENT
BEGIN:VEVENT
DTSTART;TZID=UTC:20260403T180000
DTEND;TZID=UTC:20260403T190000
DTSTAMP:20260422T151618
CREATED:20230607T004130Z
LAST-MODIFIED:20230731T051425Z
UID:10000722-1775239200-1775242800@burnettcountyfun.com
SUMMARY:Meat Raffle | Hummers Rendezvous
DESCRIPTION:Meat Raffle | Hummer’s Rendezvous Grantsburg\, WI\nProceeds go to the Squirrels Unlimited\nEvery Friday 6:00pm\n115 E Madison Ave\nGrantsburg\, WI\n715-463-2322
URL:https://burnettcountyfun.com/event/meat-raffle-hummers-rendezvous/2026-04-03/
LOCATION:Hummer’s Rendezvous\, 115 W Madison Ave\, Grantsburg\, WI\, 54840\, United States
CATEGORIES:Charity/Fundraiser,Food/Beverage
END:VEVENT
BEGIN:VEVENT
DTSTART;TZID=UTC:20260404T140000
DTEND;TZID=UTC:20260404T160000
DTSTAMP:20260422T151618
CREATED:20230607T014724Z
LAST-MODIFIED:20230731T051102Z
UID:10002254-1775311200-1775318400@burnettcountyfun.com
SUMMARY:Meat Raffle | Last Call
DESCRIPTION:Meat Raffle | Last Call\nEvery Saturday 2:00pm\n7011 WI-70\nSiren\, WI
URL:https://burnettcountyfun.com/event/meat-raffle-last-call/2026-04-04/
LOCATION:Last Call\, 7011 WI 70\, Siren\, WI\, 54872\, United States
CATEGORIES:Food/Beverage
END:VEVENT
BEGIN:VEVENT
DTSTART;TZID=UTC:20260404T170000
DTEND;TZID=UTC:20260404T190000
DTSTAMP:20260422T151618
CREATED:20230607T014933Z
LAST-MODIFIED:20230722T040328Z
UID:10002776-1775322000-1775329200@burnettcountyfun.com
SUMMARY:Meat Raffle | Lilly Lake Tavern
DESCRIPTION:Meat Raffle | Lilly Lake Tavern\nEvery Saturday 5:00pm\n5891 County Rd A\nWebster\, WI
URL:https://burnettcountyfun.com/event/meat-raffle-lilly-lake-tavern/2026-04-04/
LOCATION:Lilly Lake Tavern\, 5891 County Rd A\, Webster\, WI\, 54893\, United States
CATEGORIES:Food/Beverage
END:VEVENT
BEGIN:VEVENT
DTSTART;TZID=UTC:20260404T180000
DTEND;TZID=UTC:20260404T190000
DTSTAMP:20260422T151618
CREATED:20230607T012542Z
LAST-MODIFIED:20230731T051214Z
UID:10001457-1775325600-1775329200@burnettcountyfun.com
SUMMARY:Meat Raffle | Knotty Pines on Clam Lake
DESCRIPTION:Meat Raffle | Knotty Pines on Clam lake\nEvery Saturday 6:00pm\n24787 Clam Lake Drive\nSiren\, WI
URL:https://burnettcountyfun.com/event/meat-raffle-knotty-pines-on-clam-lake/2026-04-04/
LOCATION:Knotty Pines on Clam Lake\, 24787 Clam lake Drive\, Siren\, WI\, 54872\, United States
CATEGORIES:Food/Beverage
END:VEVENT
BEGIN:VEVENT
DTSTART;TZID=UTC:20260405T110000
DTEND;TZID=UTC:20260405T123000
DTSTAMP:20260422T151618
CREATED:20230805T051346Z
LAST-MODIFIED:20230805T051346Z
UID:10003092-1775386800-1775392200@burnettcountyfun.com
SUMMARY:Meat Bingo | Coyland Creek
DESCRIPTION:Come visit us at Coyland Creek on Sundays for Meat Bingo\, featuring a bloody mary bar\, starting at 11am!
URL:https://burnettcountyfun.com/event/meat-bingo-coyland-creek/2026-04-05/
LOCATION:Coyland Creek\, 5400 Town Line Road\, Frederic\, WI\, 54837\, United States
CATEGORIES:Food/Beverage
END:VEVENT
BEGIN:VEVENT
DTSTART;TZID=America/Chicago:20260405T173000
DTEND;TZID=America/Chicago:20260405T190000
DTSTAMP:20260422T151618
CREATED:20260113T015627Z
LAST-MODIFIED:20260113T015627Z
UID:10012136-1775410200-1775415600@burnettcountyfun.com
SUMMARY:Soup and Spirit
DESCRIPTION:Enjoy a free meal of soup and bread\, followed by an evening worship service! Faith Community Church in Grantsburg\, WI\, welcomes everyone every Sunday from 5:30 to 7:00 PM. It’s a warm\, welcoming way to end the weekend and connect with others!
URL:https://burnettcountyfun.com/event/soup-and-spirit-3/2026-04-05/
LOCATION:Faith Community Church\, 7535 Peet St\, Danbury\, WI\, 54830\, United States
CATEGORIES:Food/Beverage,Music
END:VEVENT
BEGIN:VEVENT
DTSTART;TZID=UTC:20260408T190000
DTEND;TZID=UTC:20260408T210000
DTSTAMP:20260422T151618
CREATED:20250304T215407Z
LAST-MODIFIED:20251020T221146Z
UID:10010107-1775674800-1775682000@burnettcountyfun.com
SUMMARY:Xtreme Bingo Night WEDNESDAYS!
DESCRIPTION:Xtreme Bar Bingo is on at Voyager Village! \nEvery Wednesday at 7:00 pm!\nFREE to play!\nCash Jackpot up to a jaw-dropping $15\,000!\nThe thrill\, the fun\, and the chance to win HUGE is here!✨\nGrab your friends\, bring your A-game\, and let’s make this bingo night legendary!\nDon’t miss out – it’s about to get Xtreme!
URL:https://burnettcountyfun.com/event/xtreme-bingo-night-wednesdays/2026-04-08/
LOCATION:Voyager Village Restaurant
CATEGORIES:Food/Beverage
ATTACH;FMTTYPE=image/jpeg:https://burnettcountyfun.com/wp-content/uploads/2025/03/CASH-JACKPOT-UP-TO-15000.jpg
END:VEVENT
BEGIN:VEVENT
DTSTART;TZID=UTC:20260410T173000
DTEND;TZID=UTC:20260410T183000
DTSTAMP:20260422T151618
CREATED:20230805T074329Z
LAST-MODIFIED:20231116T001856Z
UID:10004662-1775842200-1775845800@burnettcountyfun.com
SUMMARY:Meat Raffle | Salty Steer
DESCRIPTION:Meat Raffle | Salty Steer\nEvery Friday 5:30 – 6:30 \nMeat Raffle to support rotating organizations such as the Burnett County Historical Society and Burnett County Caring Hearts Thriftshop.
URL:https://burnettcountyfun.com/event/meat-raffle-salty-steer/2026-04-10/
LOCATION:Salty Steer\, 30799 State Road 35 77\, Danbury\, WI\, United States
CATEGORIES:Food/Beverage
END:VEVENT
BEGIN:VEVENT
DTSTART;TZID=UTC:20260410T180000
DTEND;TZID=UTC:20260410T190000
DTSTAMP:20260422T151618
CREATED:20230607T004130Z
LAST-MODIFIED:20230731T051425Z
UID:10000723-1775844000-1775847600@burnettcountyfun.com
SUMMARY:Meat Raffle | Hummers Rendezvous
DESCRIPTION:Meat Raffle | Hummer’s Rendezvous Grantsburg\, WI\nProceeds go to the Squirrels Unlimited\nEvery Friday 6:00pm\n115 E Madison Ave\nGrantsburg\, WI\n715-463-2322
URL:https://burnettcountyfun.com/event/meat-raffle-hummers-rendezvous/2026-04-10/
LOCATION:Hummer’s Rendezvous\, 115 W Madison Ave\, Grantsburg\, WI\, 54840\, United States
CATEGORIES:Charity/Fundraiser,Food/Beverage
END:VEVENT
BEGIN:VEVENT
DTSTART;TZID=UTC:20260411T140000
DTEND;TZID=UTC:20260411T160000
DTSTAMP:20260422T151618
CREATED:20230607T014724Z
LAST-MODIFIED:20230731T051102Z
UID:10002255-1775916000-1775923200@burnettcountyfun.com
SUMMARY:Meat Raffle | Last Call
DESCRIPTION:Meat Raffle | Last Call\nEvery Saturday 2:00pm\n7011 WI-70\nSiren\, WI
URL:https://burnettcountyfun.com/event/meat-raffle-last-call/2026-04-11/
LOCATION:Last Call\, 7011 WI 70\, Siren\, WI\, 54872\, United States
CATEGORIES:Food/Beverage
END:VEVENT
BEGIN:VEVENT
DTSTART;TZID=UTC:20260411T170000
DTEND;TZID=UTC:20260411T190000
DTSTAMP:20260422T151618
CREATED:20230607T014933Z
LAST-MODIFIED:20230722T040328Z
UID:10002777-1775926800-1775934000@burnettcountyfun.com
SUMMARY:Meat Raffle | Lilly Lake Tavern
DESCRIPTION:Meat Raffle | Lilly Lake Tavern\nEvery Saturday 5:00pm\n5891 County Rd A\nWebster\, WI
URL:https://burnettcountyfun.com/event/meat-raffle-lilly-lake-tavern/2026-04-11/
LOCATION:Lilly Lake Tavern\, 5891 County Rd A\, Webster\, WI\, 54893\, United States
CATEGORIES:Food/Beverage
END:VEVENT
BEGIN:VEVENT
DTSTART;TZID=UTC:20260411T180000
DTEND;TZID=UTC:20260411T190000
DTSTAMP:20260422T151618
CREATED:20230607T012542Z
LAST-MODIFIED:20230731T051214Z
UID:10001458-1775930400-1775934000@burnettcountyfun.com
SUMMARY:Meat Raffle | Knotty Pines on Clam Lake
DESCRIPTION:Meat Raffle | Knotty Pines on Clam lake\nEvery Saturday 6:00pm\n24787 Clam Lake Drive\nSiren\, WI
URL:https://burnettcountyfun.com/event/meat-raffle-knotty-pines-on-clam-lake/2026-04-11/
LOCATION:Knotty Pines on Clam Lake\, 24787 Clam lake Drive\, Siren\, WI\, 54872\, United States
CATEGORIES:Food/Beverage
END:VEVENT
BEGIN:VEVENT
DTSTART;TZID=UTC:20260412T110000
DTEND;TZID=UTC:20260412T123000
DTSTAMP:20260422T151618
CREATED:20230805T051346Z
LAST-MODIFIED:20230805T051346Z
UID:10003093-1775991600-1775997000@burnettcountyfun.com
SUMMARY:Meat Bingo | Coyland Creek
DESCRIPTION:Come visit us at Coyland Creek on Sundays for Meat Bingo\, featuring a bloody mary bar\, starting at 11am!
URL:https://burnettcountyfun.com/event/meat-bingo-coyland-creek/2026-04-12/
LOCATION:Coyland Creek\, 5400 Town Line Road\, Frederic\, WI\, 54837\, United States
CATEGORIES:Food/Beverage
END:VEVENT
BEGIN:VEVENT
DTSTART;TZID=America/Chicago:20260412T173000
DTEND;TZID=America/Chicago:20260412T190000
DTSTAMP:20260422T151618
CREATED:20260113T015627Z
LAST-MODIFIED:20260113T015627Z
UID:10012137-1776015000-1776020400@burnettcountyfun.com
SUMMARY:Soup and Spirit
DESCRIPTION:Enjoy a free meal of soup and bread\, followed by an evening worship service! Faith Community Church in Grantsburg\, WI\, welcomes everyone every Sunday from 5:30 to 7:00 PM. It’s a warm\, welcoming way to end the weekend and connect with others!
URL:https://burnettcountyfun.com/event/soup-and-spirit-3/2026-04-12/
LOCATION:Faith Community Church\, 7535 Peet St\, Danbury\, WI\, 54830\, United States
CATEGORIES:Food/Beverage,Music
END:VEVENT
BEGIN:VEVENT
DTSTART;TZID=UTC:20260415T190000
DTEND;TZID=UTC:20260415T210000
DTSTAMP:20260422T151618
CREATED:20250304T215407Z
LAST-MODIFIED:20251020T221146Z
UID:10010108-1776279600-1776286800@burnettcountyfun.com
SUMMARY:Xtreme Bingo Night WEDNESDAYS!
DESCRIPTION:Xtreme Bar Bingo is on at Voyager Village! \nEvery Wednesday at 7:00 pm!\nFREE to play!\nCash Jackpot up to a jaw-dropping $15\,000!\nThe thrill\, the fun\, and the chance to win HUGE is here!✨\nGrab your friends\, bring your A-game\, and let’s make this bingo night legendary!\nDon’t miss out – it’s about to get Xtreme!
URL:https://burnettcountyfun.com/event/xtreme-bingo-night-wednesdays/2026-04-15/
LOCATION:Voyager Village Restaurant
CATEGORIES:Food/Beverage
ATTACH;FMTTYPE=image/jpeg:https://burnettcountyfun.com/wp-content/uploads/2025/03/CASH-JACKPOT-UP-TO-15000.jpg
END:VEVENT
BEGIN:VEVENT
DTSTART;TZID=UTC:20260417T173000
DTEND;TZID=UTC:20260417T183000
DTSTAMP:20260422T151618
CREATED:20230805T074329Z
LAST-MODIFIED:20231116T001856Z
UID:10004663-1776447000-1776450600@burnettcountyfun.com
SUMMARY:Meat Raffle | Salty Steer
DESCRIPTION:Meat Raffle | Salty Steer\nEvery Friday 5:30 – 6:30 \nMeat Raffle to support rotating organizations such as the Burnett County Historical Society and Burnett County Caring Hearts Thriftshop.
URL:https://burnettcountyfun.com/event/meat-raffle-salty-steer/2026-04-17/
LOCATION:Salty Steer\, 30799 State Road 35 77\, Danbury\, WI\, United States
CATEGORIES:Food/Beverage
END:VEVENT
BEGIN:VEVENT
DTSTART;TZID=UTC:20260417T180000
DTEND;TZID=UTC:20260417T190000
DTSTAMP:20260422T151618
CREATED:20230607T004130Z
LAST-MODIFIED:20230731T051425Z
UID:10000724-1776448800-1776452400@burnettcountyfun.com
SUMMARY:Meat Raffle | Hummers Rendezvous
DESCRIPTION:Meat Raffle | Hummer’s Rendezvous Grantsburg\, WI\nProceeds go to the Squirrels Unlimited\nEvery Friday 6:00pm\n115 E Madison Ave\nGrantsburg\, WI\n715-463-2322
URL:https://burnettcountyfun.com/event/meat-raffle-hummers-rendezvous/2026-04-17/
LOCATION:Hummer’s Rendezvous\, 115 W Madison Ave\, Grantsburg\, WI\, 54840\, United States
CATEGORIES:Charity/Fundraiser,Food/Beverage
END:VEVENT
BEGIN:VEVENT
DTSTART;TZID=UTC:20260418T140000
DTEND;TZID=UTC:20260418T160000
DTSTAMP:20260422T151618
CREATED:20230607T014724Z
LAST-MODIFIED:20230731T051102Z
UID:10002256-1776520800-1776528000@burnettcountyfun.com
SUMMARY:Meat Raffle | Last Call
DESCRIPTION:Meat Raffle | Last Call\nEvery Saturday 2:00pm\n7011 WI-70\nSiren\, WI
URL:https://burnettcountyfun.com/event/meat-raffle-last-call/2026-04-18/
LOCATION:Last Call\, 7011 WI 70\, Siren\, WI\, 54872\, United States
CATEGORIES:Food/Beverage
END:VEVENT
BEGIN:VEVENT
DTSTART;TZID=UTC:20260418T170000
DTEND;TZID=UTC:20260418T190000
DTSTAMP:20260422T151618
CREATED:20230607T014933Z
LAST-MODIFIED:20230722T040328Z
UID:10002778-1776531600-1776538800@burnettcountyfun.com
SUMMARY:Meat Raffle | Lilly Lake Tavern
DESCRIPTION:Meat Raffle | Lilly Lake Tavern\nEvery Saturday 5:00pm\n5891 County Rd A\nWebster\, WI
URL:https://burnettcountyfun.com/event/meat-raffle-lilly-lake-tavern/2026-04-18/
LOCATION:Lilly Lake Tavern\, 5891 County Rd A\, Webster\, WI\, 54893\, United States
CATEGORIES:Food/Beverage
END:VEVENT
END:VCALENDAR