BEGIN:VCALENDAR
VERSION:2.0
PRODID:-//Burnett County, Wisconsin - ECPv6.15.20//NONSGML v1.0//EN
CALSCALE:GREGORIAN
METHOD:PUBLISH
X-WR-CALNAME:Burnett County, Wisconsin
X-ORIGINAL-URL:https://burnettcountyfun.com
X-WR-CALDESC:Events for Burnett County, Wisconsin
REFRESH-INTERVAL;VALUE=DURATION:PT1H
X-Robots-Tag:noindex
X-PUBLISHED-TTL:PT1H
BEGIN:VTIMEZONE
TZID:UTC
BEGIN:STANDARD
TZOFFSETFROM:+0000
TZOFFSETTO:+0000
TZNAME:UTC
DTSTART:20240101T000000
END:STANDARD
END:VTIMEZONE
BEGIN:VTIMEZONE
TZID:America/Chicago
BEGIN:DAYLIGHT
TZOFFSETFROM:-0600
TZOFFSETTO:-0500
TZNAME:CDT
DTSTART:20240310T080000
END:DAYLIGHT
BEGIN:STANDARD
TZOFFSETFROM:-0500
TZOFFSETTO:-0600
TZNAME:CST
DTSTART:20241103T070000
END:STANDARD
BEGIN:DAYLIGHT
TZOFFSETFROM:-0600
TZOFFSETTO:-0500
TZNAME:CDT
DTSTART:20250309T080000
END:DAYLIGHT
BEGIN:STANDARD
TZOFFSETFROM:-0500
TZOFFSETTO:-0600
TZNAME:CST
DTSTART:20251102T070000
END:STANDARD
BEGIN:DAYLIGHT
TZOFFSETFROM:-0600
TZOFFSETTO:-0500
TZNAME:CDT
DTSTART:20260308T080000
END:DAYLIGHT
BEGIN:STANDARD
TZOFFSETFROM:-0500
TZOFFSETTO:-0600
TZNAME:CST
DTSTART:20261101T070000
END:STANDARD
BEGIN:DAYLIGHT
TZOFFSETFROM:-0600
TZOFFSETTO:-0500
TZNAME:CDT
DTSTART:20270314T080000
END:DAYLIGHT
BEGIN:STANDARD
TZOFFSETFROM:-0500
TZOFFSETTO:-0600
TZNAME:CST
DTSTART:20271107T070000
END:STANDARD
END:VTIMEZONE
BEGIN:VEVENT
DTSTART;TZID=UTC:20260101T190000
DTEND;TZID=UTC:20260101T210000
DTSTAMP:20260425T202235
CREATED:20241031T025657Z
LAST-MODIFIED:20260124T062604Z
UID:10009033-1767294000-1767301200@burnettcountyfun.com
SUMMARY:Zingo at Zias
DESCRIPTION:Zingo Night — Every Thursday!\nJoin us for 6 exciting games starting at 7 PM\nWin cool prizes!\nBring your friends and come hang out!
URL:https://burnettcountyfun.com/event/zingo-at-zias-with-jennique/2026-01-01/
LOCATION:Zias Italian\, 26708 Lakeland Ave N\, Webster\, WI\, 54893\, United States
ATTACH;FMTTYPE=image/jpeg:https://burnettcountyfun.com/wp-content/uploads/2024/10/Screenshot_24-1-2026_02525_www.facebook.com_.jpeg
END:VEVENT
BEGIN:VEVENT
DTSTART;TZID=UTC:20260101T180000
DTEND;TZID=UTC:20260101T193000
DTSTAMP:20260425T202235
CREATED:20250221T172146Z
LAST-MODIFIED:20260113T000453Z
UID:10009832-1767290400-1767295800@burnettcountyfun.com
SUMMARY:Siren Lions Meat Raffle
DESCRIPTION:Looking for a fun way to spend your Thursday evening in Siren\, WI? The Siren Lions meat raffle runs every Thursday from 6:00 to 7:30 PM at The Pheasant Inn & Sports Bar\, offering a great chance to support the community and take home some quality cuts while enjoying a fun night out!
URL:https://burnettcountyfun.com/event/siren-lions-meat-raffle/2026-01-01/
LOCATION:The Pheasant Inn & Sports Bar\, 7694 West Main St\, Siren\, WI\, 54872
CATEGORIES:Charity/Fundraiser
ATTACH;FMTTYPE=image/jpeg:https://burnettcountyfun.com/wp-content/uploads/2025/02/inbound6919946331740657901.jpg
END:VEVENT
BEGIN:VEVENT
DTSTART;TZID=UTC:20260101T150000
DTEND;TZID=UTC:20260101T210000
DTSTAMP:20260425T202235
CREATED:20240203T220727Z
LAST-MODIFIED:20240203T220727Z
UID:10006367-1767279600-1767301200@burnettcountyfun.com
SUMMARY:Open Pool | Danbury\, WI
DESCRIPTION:Hey\, pool sharks! Come down to McGraw Lake Tavern for free pool every Thursday from 3-9pm.\nGrab your cue sticks and show off your skills while enjoying great company. See you there!
URL:https://burnettcountyfun.com/event/open-pool-danbury-wi/2026-01-01/
LOCATION:McGraw Lake Tavern\, 34002 State Highway 35\, Danbury\, WI\, United States
ATTACH;FMTTYPE=image/jpeg:https://burnettcountyfun.com/wp-content/uploads/2024/02/424632497_901894755058813_8877861181803262018_n.jpg
END:VEVENT
BEGIN:VEVENT
DTSTART;TZID=America/Chicago:20260101T120000
DTEND;TZID=America/Chicago:20260101T170000
DTSTAMP:20260425T202235
CREATED:20251228T011944Z
LAST-MODIFIED:20251228T011944Z
UID:10011521-1767268800-1767286800@burnettcountyfun.com
SUMMARY:6th Annual Veteran’s Super Raffle in Danbury
DESCRIPTION:At the Wild Water Bar & Grill – American Legion Post 403
URL:https://burnettcountyfun.com/event/6th-annual-veterans-super-raffle-in-danbury/
LOCATION:Wild Water Bar and Grill\, 7516 Main St E\, Danbury\, WI
ATTACH;FMTTYPE=image/png:https://burnettcountyfun.com/wp-content/uploads/2025/12/My-project-1.png
ORGANIZER;CN="American Legion Post 403":MAILTO:Jon@wildwater403.com
END:VEVENT
BEGIN:VEVENT
DTSTART;TZID=UTC:20251231T190000
DTEND;TZID=UTC:20251231T210000
DTSTAMP:20260425T202235
CREATED:20250304T215407Z
LAST-MODIFIED:20251020T221146Z
UID:10010093-1767207600-1767214800@burnettcountyfun.com
SUMMARY:Xtreme Bingo Night WEDNESDAYS!
DESCRIPTION:Xtreme Bar Bingo is on at Voyager Village! \nEvery Wednesday at 7:00 pm!\nFREE to play!\nCash Jackpot up to a jaw-dropping $15\,000!\nThe thrill\, the fun\, and the chance to win HUGE is here!✨\nGrab your friends\, bring your A-game\, and let’s make this bingo night legendary!\nDon’t miss out – it’s about to get Xtreme!
URL:https://burnettcountyfun.com/event/xtreme-bingo-night-wednesdays/2025-12-31/
LOCATION:Voyager Village Restaurant
CATEGORIES:Food/Beverage
ATTACH;FMTTYPE=image/jpeg:https://burnettcountyfun.com/wp-content/uploads/2025/03/CASH-JACKPOT-UP-TO-15000.jpg
END:VEVENT
BEGIN:VEVENT
DTSTART;TZID=America/Chicago:20251231T160000
DTEND;TZID=America/Chicago:20251231T233000
DTSTAMP:20260425T202235
CREATED:20251223T014301Z
LAST-MODIFIED:20251223T014301Z
UID:10011517-1767196800-1767223800@burnettcountyfun.com
SUMMARY:New Year's Eve at The Sand Bar
DESCRIPTION:Join us at The Sand Bar on County Rd A for a special evening to ring in the New Year! Featuring a limited edition menu with delicious favorites sure to make it an evening to remember. Check out our facebook event for more details.
URL:https://burnettcountyfun.com/event/new-years-eve-at-the-sand-bar/
LOCATION:The Sand Bar\, 3896 Co Rd A\, Webster\, WI\, 54893\, United States
ATTACH;FMTTYPE=image/png:https://burnettcountyfun.com/wp-content/uploads/2025/12/inbound5479816126122011535.png
END:VEVENT
BEGIN:VEVENT
DTSTART;TZID=America/Chicago:20251231T140000
DTEND;TZID=America/Chicago:20251231T233000
DTSTAMP:20260425T202235
CREATED:20251216T043332Z
LAST-MODIFIED:20251216T043332Z
UID:10011513-1767189600-1767223800@burnettcountyfun.com
SUMMARY:New Year’s Eve Bash
DESCRIPTION:Join us for our annual English New Year’s Eve Party! Tim Baxter & the Mustangs play 2-6pm! Champagne\, snacks and party favors 6pm.\nRing in the New Year at Midnight with Tribal Fusion from 8-12. Snacks\, champagne and party favors for those that stay up late
URL:https://burnettcountyfun.com/event/new-years-eve-bash/
LOCATION:The Junkyard Bar\, 3784 Shrider Road\, Shell Lake\, WI\, United States
END:VEVENT
BEGIN:VEVENT
DTSTART;TZID=UTC:20251231T000000
DTEND;TZID=UTC:20251231T235959
DTSTAMP:20260425T202235
CREATED:20250127T214139Z
LAST-MODIFIED:20251215T210934Z
UID:10009765-1767139200-1767225599@burnettcountyfun.com
SUMMARY:New Year’s Eve Dinner
DESCRIPTION:
URL:https://burnettcountyfun.com/event/new-years-eve-dinner/
LOCATION:Voyager Village Restaurant
ATTACH;FMTTYPE=image/jpeg:https://burnettcountyfun.com/wp-content/uploads/2025/01/NYE-25-Dinner-Menu-Flyer-4.jpg
END:VEVENT
BEGIN:VEVENT
DTSTART;TZID=UTC:20251228T183000
DTEND;TZID=UTC:20251228T200000
DTSTAMP:20260425T202235
CREATED:20241020T195124Z
LAST-MODIFIED:20251020T221545Z
UID:10008546-1766946600-1766952000@burnettcountyfun.com
SUMMARY:MEAT RAFFLE
DESCRIPTION:Friday night meat raffle supports the Lake Country Riders Snowmobile Club!
URL:https://burnettcountyfun.com/event/meat-raffle/2025-12-28/
LOCATION:Whiskey Joes\, 6699 State Road 70\, Siren\, WI\, 54872\, United States
CATEGORIES:Charity/Fundraiser
ORGANIZER;CN="lake country riders snowmob":MAILTO:ormanp24@gmail.com
END:VEVENT
BEGIN:VEVENT
DTSTART;TZID=UTC:20251228T160000
DTEND;TZID=UTC:20251228T180000
DTSTAMP:20260425T202235
CREATED:20250117T091635Z
LAST-MODIFIED:20250117T091635Z
UID:10009456-1766937600-1766944800@burnettcountyfun.com
SUMMARY:Meat Raffle  at the 10th Hole
DESCRIPTION:Meat Raffle benefiting Wonderland Sno-Trails snowmobile club.  Every Sunday 4:00-6:00 pm
URL:https://burnettcountyfun.com/event/meat-raffle-at-the-10th-hole/2025-12-28/
LOCATION:10th Hole Bar & Grill\, 7768 County Rd U\, Danbury\, WI
ATTACH;FMTTYPE=image/jpeg:https://burnettcountyfun.com/wp-content/uploads/2025/01/IMG_0345.jpeg
END:VEVENT
BEGIN:VEVENT
DTSTART;TZID=UTC:20251228T130000
DTEND;TZID=UTC:20251228T150000
DTSTAMP:20260425T202235
CREATED:20240125T082836Z
LAST-MODIFIED:20240203T065547Z
UID:10005010-1766926800-1766934000@burnettcountyfun.com
SUMMARY:Xtreme Bar Bingo
DESCRIPTION:Join the Junkyard Bar for free bingo starting at 1pm every Sunday!\nContact The Junkyard Bar for more details.
URL:https://burnettcountyfun.com/event/xtreme-bar-bingo/2025-12-28/
LOCATION:The Junkyard Bar\, 3784 Shrider Road\, Shell Lake\, WI\, United States
ATTACH;FMTTYPE=image/jpeg:https://burnettcountyfun.com/wp-content/uploads/2024/01/418487278_254346541014961_1598103938117402126_n.jpg
END:VEVENT
BEGIN:VEVENT
DTSTART;TZID=UTC:20251228T110000
DTEND;TZID=UTC:20251228T123000
DTSTAMP:20260425T202235
CREATED:20230805T051346Z
LAST-MODIFIED:20230805T051346Z
UID:10003078-1766919600-1766925000@burnettcountyfun.com
SUMMARY:Meat Bingo | Coyland Creek
DESCRIPTION:Come visit us at Coyland Creek on Sundays for Meat Bingo\, featuring a bloody mary bar\, starting at 11am!
URL:https://burnettcountyfun.com/event/meat-bingo-coyland-creek/2025-12-28/
LOCATION:Coyland Creek\, 5400 Town Line Road\, Frederic\, WI\, 54837\, United States
CATEGORIES:Food/Beverage
END:VEVENT
BEGIN:VEVENT
DTSTART;TZID=UTC:20251227T180000
DTEND;TZID=UTC:20251227T190000
DTSTAMP:20260425T202235
CREATED:20230607T012542Z
LAST-MODIFIED:20230731T051214Z
UID:10001443-1766858400-1766862000@burnettcountyfun.com
SUMMARY:Meat Raffle | Knotty Pines on Clam Lake
DESCRIPTION:Meat Raffle | Knotty Pines on Clam lake\nEvery Saturday 6:00pm\n24787 Clam Lake Drive\nSiren\, WI
URL:https://burnettcountyfun.com/event/meat-raffle-knotty-pines-on-clam-lake/2025-12-27/
LOCATION:Knotty Pines on Clam Lake\, 24787 Clam lake Drive\, Siren\, WI\, 54872\, United States
CATEGORIES:Food/Beverage
END:VEVENT
BEGIN:VEVENT
DTSTART;TZID=UTC:20251227T170000
DTEND;TZID=UTC:20251227T190000
DTSTAMP:20260425T202235
CREATED:20230607T014933Z
LAST-MODIFIED:20230722T040328Z
UID:10002762-1766854800-1766862000@burnettcountyfun.com
SUMMARY:Meat Raffle | Lilly Lake Tavern
DESCRIPTION:Meat Raffle | Lilly Lake Tavern\nEvery Saturday 5:00pm\n5891 County Rd A\nWebster\, WI
URL:https://burnettcountyfun.com/event/meat-raffle-lilly-lake-tavern/2025-12-27/
LOCATION:Lilly Lake Tavern\, 5891 County Rd A\, Webster\, WI\, 54893\, United States
CATEGORIES:Food/Beverage
END:VEVENT
BEGIN:VEVENT
DTSTART;TZID=UTC:20251227T160000
DTEND;TZID=UTC:20251227T210000
DTSTAMP:20260425T202235
CREATED:20240203T220309Z
LAST-MODIFIED:20240731T214226Z
UID:10006105-1766851200-1766869200@burnettcountyfun.com
SUMMARY:Prime Rib Saturday's | Voyager Village
DESCRIPTION:Come out for our Prime Rib special served 4pm-9pm Saturdays!\nIncludes: Broccoli or Green Beans\, Choice of starch\, fresh roll and dinner salad
URL:https://burnettcountyfun.com/event/prime-rib-saturdays-voyager-village/2025-12-27/
LOCATION:Voyager Village\, 28841 Kilkare Rd\, Danbury\, WI\, United States
ATTACH;FMTTYPE=image/jpeg:https://burnettcountyfun.com/wp-content/uploads/2024/02/425623582_964727672031571_5464457755453123505_n.jpg
END:VEVENT
BEGIN:VEVENT
DTSTART;TZID=UTC:20251227T150000
DTEND;TZID=UTC:20251227T163000
DTSTAMP:20260425T202235
CREATED:20230806T215054Z
LAST-MODIFIED:20230806T215054Z
UID:10003880-1766847600-1766853000@burnettcountyfun.com
SUMMARY:Minnow Races | Knotty Pines on Clam Lake
DESCRIPTION:Minnow Races  | Knotty Pines on Clam lake\nEvery Saturday at 3:00pm
URL:https://burnettcountyfun.com/event/minnow-races-knotty-pines-on-clam-lake/2025-12-27/
LOCATION:Knotty Pines on Clam Lake\, 24787 Clam lake Drive\, Siren\, WI\, 54872\, United States
END:VEVENT
BEGIN:VEVENT
DTSTART;TZID=UTC:20251227T140000
DTEND;TZID=UTC:20251227T160000
DTSTAMP:20260425T202235
CREATED:20230607T014724Z
LAST-MODIFIED:20230731T051102Z
UID:10002240-1766844000-1766851200@burnettcountyfun.com
SUMMARY:Meat Raffle | Last Call
DESCRIPTION:Meat Raffle | Last Call\nEvery Saturday 2:00pm\n7011 WI-70\nSiren\, WI
URL:https://burnettcountyfun.com/event/meat-raffle-last-call/2025-12-27/
LOCATION:Last Call\, 7011 WI 70\, Siren\, WI\, 54872\, United States
CATEGORIES:Food/Beverage
END:VEVENT
BEGIN:VEVENT
DTSTART;TZID=UTC:20251226T183000
DTEND;TZID=UTC:20251226T200000
DTSTAMP:20260425T202235
CREATED:20241020T195124Z
LAST-MODIFIED:20251020T221545Z
UID:10008545-1766773800-1766779200@burnettcountyfun.com
SUMMARY:MEAT RAFFLE
DESCRIPTION:Friday night meat raffle supports the Lake Country Riders Snowmobile Club!
URL:https://burnettcountyfun.com/event/meat-raffle/2025-12-26/
LOCATION:Whiskey Joes\, 6699 State Road 70\, Siren\, WI\, 54872\, United States
CATEGORIES:Charity/Fundraiser
ORGANIZER;CN="lake country riders snowmob":MAILTO:ormanp24@gmail.com
END:VEVENT
BEGIN:VEVENT
DTSTART;TZID=UTC:20251226T180000
DTEND;TZID=UTC:20251226T193000
DTSTAMP:20260425T202235
CREATED:20230805T212211Z
LAST-MODIFIED:20230805T212211Z
UID:10003614-1766772000-1766777400@burnettcountyfun.com
SUMMARY:Meat Raffle | The Junkyard Bar
DESCRIPTION:Meat Raffle | The Junkyard Bar\nEvery Friday 6:00 pm\nFundraiser to support the Burnett Blizzard Hockey Team
URL:https://burnettcountyfun.com/event/meat-raffle-the-junkyard-bar/2025-12-26/
LOCATION:The Junkyard Bar\, 3784 Shrider Road\, Shell Lake\, WI\, United States
END:VEVENT
BEGIN:VEVENT
DTSTART;TZID=UTC:20251226T180000
DTEND;TZID=UTC:20251226T190000
DTSTAMP:20260425T202235
CREATED:20230607T004130Z
LAST-MODIFIED:20230731T051425Z
UID:10000708-1766772000-1766775600@burnettcountyfun.com
SUMMARY:Meat Raffle | Hummers Rendezvous
DESCRIPTION:Meat Raffle | Hummer’s Rendezvous Grantsburg\, WI\nProceeds go to the Squirrels Unlimited\nEvery Friday 6:00pm\n115 E Madison Ave\nGrantsburg\, WI\n715-463-2322
URL:https://burnettcountyfun.com/event/meat-raffle-hummers-rendezvous/2025-12-26/
LOCATION:Hummer’s Rendezvous\, 115 W Madison Ave\, Grantsburg\, WI\, 54840\, United States
CATEGORIES:Charity/Fundraiser,Food/Beverage
END:VEVENT
BEGIN:VEVENT
DTSTART;TZID=UTC:20251226T173000
DTEND;TZID=UTC:20251226T190000
DTSTAMP:20260425T202235
CREATED:20230607T003751Z
LAST-MODIFIED:20230731T050939Z
UID:10000186-1766770200-1766775600@burnettcountyfun.com
SUMMARY:Meat Raffle | Gandy Dancer Saloon
DESCRIPTION:Meat Raffle | Gandy Dancer Saloon\, Webster\, WI\nProceeds go to the Webster Lions Club\nEvery Friday 5:30pm\n7576 County Rd U\nDanbury\, WI\n715-866-9977
URL:https://burnettcountyfun.com/event/meat-raffle-gandy-dancer-saloon/2025-12-26/
LOCATION:Gandy Dancer Saloon\, 7576 County Rd U\, Danbury\, WI\, 54830\, United States
CATEGORIES:Charity/Fundraiser
END:VEVENT
BEGIN:VEVENT
DTSTART;TZID=UTC:20251226T173000
DTEND;TZID=UTC:20251226T183000
DTSTAMP:20260425T202235
CREATED:20230805T074329Z
LAST-MODIFIED:20231116T001856Z
UID:10004647-1766770200-1766773800@burnettcountyfun.com
SUMMARY:Meat Raffle | Salty Steer
DESCRIPTION:Meat Raffle | Salty Steer\nEvery Friday 5:30 – 6:30 \nMeat Raffle to support rotating organizations such as the Burnett County Historical Society and Burnett County Caring Hearts Thriftshop.
URL:https://burnettcountyfun.com/event/meat-raffle-salty-steer/2025-12-26/
LOCATION:Salty Steer\, 30799 State Road 35 77\, Danbury\, WI\, United States
CATEGORIES:Food/Beverage
END:VEVENT
BEGIN:VEVENT
DTSTART;TZID=UTC:20251225T190000
DTEND;TZID=UTC:20251225T210000
DTSTAMP:20260425T202235
CREATED:20241031T025657Z
LAST-MODIFIED:20260124T062604Z
UID:10009032-1766689200-1766696400@burnettcountyfun.com
SUMMARY:Zingo at Zias
DESCRIPTION:Zingo Night — Every Thursday!\nJoin us for 6 exciting games starting at 7 PM\nWin cool prizes!\nBring your friends and come hang out!
URL:https://burnettcountyfun.com/event/zingo-at-zias-with-jennique/2025-12-25/
LOCATION:Zias Italian\, 26708 Lakeland Ave N\, Webster\, WI\, 54893\, United States
ATTACH;FMTTYPE=image/jpeg:https://burnettcountyfun.com/wp-content/uploads/2024/10/Screenshot_24-1-2026_02525_www.facebook.com_.jpeg
END:VEVENT
BEGIN:VEVENT
DTSTART;TZID=UTC:20251225T180000
DTEND;TZID=UTC:20251225T193000
DTSTAMP:20260425T202235
CREATED:20250221T172146Z
LAST-MODIFIED:20260113T000453Z
UID:10009831-1766685600-1766691000@burnettcountyfun.com
SUMMARY:Siren Lions Meat Raffle
DESCRIPTION:Looking for a fun way to spend your Thursday evening in Siren\, WI? The Siren Lions meat raffle runs every Thursday from 6:00 to 7:30 PM at The Pheasant Inn & Sports Bar\, offering a great chance to support the community and take home some quality cuts while enjoying a fun night out!
URL:https://burnettcountyfun.com/event/siren-lions-meat-raffle/2025-12-25/
LOCATION:The Pheasant Inn & Sports Bar\, 7694 West Main St\, Siren\, WI\, 54872
CATEGORIES:Charity/Fundraiser
ATTACH;FMTTYPE=image/jpeg:https://burnettcountyfun.com/wp-content/uploads/2025/02/inbound6919946331740657901.jpg
END:VEVENT
BEGIN:VEVENT
DTSTART;TZID=UTC:20251225T150000
DTEND;TZID=UTC:20251225T210000
DTSTAMP:20260425T202235
CREATED:20240203T220727Z
LAST-MODIFIED:20240203T220727Z
UID:10006366-1766674800-1766696400@burnettcountyfun.com
SUMMARY:Open Pool | Danbury\, WI
DESCRIPTION:Hey\, pool sharks! Come down to McGraw Lake Tavern for free pool every Thursday from 3-9pm.\nGrab your cue sticks and show off your skills while enjoying great company. See you there!
URL:https://burnettcountyfun.com/event/open-pool-danbury-wi/2025-12-25/
LOCATION:McGraw Lake Tavern\, 34002 State Highway 35\, Danbury\, WI\, United States
ATTACH;FMTTYPE=image/jpeg:https://burnettcountyfun.com/wp-content/uploads/2024/02/424632497_901894755058813_8877861181803262018_n.jpg
END:VEVENT
BEGIN:VEVENT
DTSTART;TZID=UTC:20251224T190000
DTEND;TZID=UTC:20251224T210000
DTSTAMP:20260425T202235
CREATED:20250304T215407Z
LAST-MODIFIED:20251020T221146Z
UID:10010092-1766602800-1766610000@burnettcountyfun.com
SUMMARY:Xtreme Bingo Night WEDNESDAYS!
DESCRIPTION:Xtreme Bar Bingo is on at Voyager Village! \nEvery Wednesday at 7:00 pm!\nFREE to play!\nCash Jackpot up to a jaw-dropping $15\,000!\nThe thrill\, the fun\, and the chance to win HUGE is here!✨\nGrab your friends\, bring your A-game\, and let’s make this bingo night legendary!\nDon’t miss out – it’s about to get Xtreme!
URL:https://burnettcountyfun.com/event/xtreme-bingo-night-wednesdays/2025-12-24/
LOCATION:Voyager Village Restaurant
CATEGORIES:Food/Beverage
ATTACH;FMTTYPE=image/jpeg:https://burnettcountyfun.com/wp-content/uploads/2025/03/CASH-JACKPOT-UP-TO-15000.jpg
END:VEVENT
BEGIN:VEVENT
DTSTART;TZID=America/Chicago:20251224T110000
DTEND;TZID=America/Chicago:20251224T160000
DTSTAMP:20260425T202235
CREATED:20251215T211104Z
LAST-MODIFIED:20251215T211104Z
UID:10011510-1766574000-1766592000@burnettcountyfun.com
SUMMARY:Tom & Jerry Party
DESCRIPTION:
URL:https://burnettcountyfun.com/event/tom-jerry-party/
LOCATION:Voyager Village\, 28841 Kilkare Rd\, Danbury\, WI\, United States
ATTACH;FMTTYPE=image/jpeg:https://burnettcountyfun.com/wp-content/uploads/2025/12/Christmas-Eve-Tom-Jerry-Party-1.jpg
END:VEVENT
BEGIN:VEVENT
DTSTART;TZID=UTC:20251221T183000
DTEND;TZID=UTC:20251221T200000
DTSTAMP:20260425T202235
CREATED:20241020T195124Z
LAST-MODIFIED:20251020T221545Z
UID:10008544-1766341800-1766347200@burnettcountyfun.com
SUMMARY:MEAT RAFFLE
DESCRIPTION:Friday night meat raffle supports the Lake Country Riders Snowmobile Club!
URL:https://burnettcountyfun.com/event/meat-raffle/2025-12-21/
LOCATION:Whiskey Joes\, 6699 State Road 70\, Siren\, WI\, 54872\, United States
CATEGORIES:Charity/Fundraiser
ORGANIZER;CN="lake country riders snowmob":MAILTO:ormanp24@gmail.com
END:VEVENT
BEGIN:VEVENT
DTSTART;TZID=UTC:20251221T160000
DTEND;TZID=UTC:20251221T180000
DTSTAMP:20260425T202235
CREATED:20250117T091635Z
LAST-MODIFIED:20250117T091635Z
UID:10009455-1766332800-1766340000@burnettcountyfun.com
SUMMARY:Meat Raffle  at the 10th Hole
DESCRIPTION:Meat Raffle benefiting Wonderland Sno-Trails snowmobile club.  Every Sunday 4:00-6:00 pm
URL:https://burnettcountyfun.com/event/meat-raffle-at-the-10th-hole/2025-12-21/
LOCATION:10th Hole Bar & Grill\, 7768 County Rd U\, Danbury\, WI
ATTACH;FMTTYPE=image/jpeg:https://burnettcountyfun.com/wp-content/uploads/2025/01/IMG_0345.jpeg
END:VEVENT
BEGIN:VEVENT
DTSTART;TZID=UTC:20251221T130000
DTEND;TZID=UTC:20251221T150000
DTSTAMP:20260425T202235
CREATED:20240125T082836Z
LAST-MODIFIED:20240203T065547Z
UID:10005009-1766322000-1766329200@burnettcountyfun.com
SUMMARY:Xtreme Bar Bingo
DESCRIPTION:Join the Junkyard Bar for free bingo starting at 1pm every Sunday!\nContact The Junkyard Bar for more details.
URL:https://burnettcountyfun.com/event/xtreme-bar-bingo/2025-12-21/
LOCATION:The Junkyard Bar\, 3784 Shrider Road\, Shell Lake\, WI\, United States
ATTACH;FMTTYPE=image/jpeg:https://burnettcountyfun.com/wp-content/uploads/2024/01/418487278_254346541014961_1598103938117402126_n.jpg
END:VEVENT
END:VCALENDAR