BEGIN:VCALENDAR
VERSION:2.0
PRODID:-//Burnett County, Wisconsin - ECPv6.15.20//NONSGML v1.0//EN
CALSCALE:GREGORIAN
METHOD:PUBLISH
X-WR-CALNAME:Burnett County, Wisconsin
X-ORIGINAL-URL:https://burnettcountyfun.com
X-WR-CALDESC:Events for Burnett County, Wisconsin
REFRESH-INTERVAL;VALUE=DURATION:PT1H
X-Robots-Tag:noindex
X-PUBLISHED-TTL:PT1H
BEGIN:VTIMEZONE
TZID:America/Chicago
BEGIN:DAYLIGHT
TZOFFSETFROM:-0600
TZOFFSETTO:-0500
TZNAME:CDT
DTSTART:20250309T080000
END:DAYLIGHT
BEGIN:STANDARD
TZOFFSETFROM:-0500
TZOFFSETTO:-0600
TZNAME:CST
DTSTART:20251102T070000
END:STANDARD
BEGIN:DAYLIGHT
TZOFFSETFROM:-0600
TZOFFSETTO:-0500
TZNAME:CDT
DTSTART:20260308T080000
END:DAYLIGHT
BEGIN:STANDARD
TZOFFSETFROM:-0500
TZOFFSETTO:-0600
TZNAME:CST
DTSTART:20261101T070000
END:STANDARD
BEGIN:DAYLIGHT
TZOFFSETFROM:-0600
TZOFFSETTO:-0500
TZNAME:CDT
DTSTART:20270314T080000
END:DAYLIGHT
BEGIN:STANDARD
TZOFFSETFROM:-0500
TZOFFSETTO:-0600
TZNAME:CST
DTSTART:20271107T070000
END:STANDARD
END:VTIMEZONE
BEGIN:VEVENT
DTSTART;TZID=America/Chicago:20260604T183000
DTEND;TZID=America/Chicago:20260604T183000
DTSTAMP:20260419T132342
CREATED:20260408T230908Z
LAST-MODIFIED:20260408T230908Z
UID:10015476-1780597800-1780597800@burnettcountyfun.com
SUMMARY:Music in the Park
DESCRIPTION:Spend your summer Thursday nights at Crooked Lake Park\, enjoying live music in a beautiful outdoor setting! From June through August\, local and regional musicians take the stage at 6:30 PM\, bringing the community together for relaxing evenings by the lake. Bring a chair\, grab some friends\, and soak up the sounds of summer!
URL:https://burnettcountyfun.com/event/music-in-the-park-3/2026-06-04/
LOCATION:Crooked Lake Park\, 24258 Hwy 35/70\, Siren\, WI\, 54872\, United States
CATEGORIES:Music
ATTACH;FMTTYPE=image/jpeg:https://burnettcountyfun.com/wp-content/uploads/2026/04/40005131_10155415018552234_2532989999704440832_n1.jpg
END:VEVENT
BEGIN:VEVENT
DTSTART;TZID=America/Chicago:20260611T183000
DTEND;TZID=America/Chicago:20260611T183000
DTSTAMP:20260419T132342
CREATED:20260408T230908Z
LAST-MODIFIED:20260408T230908Z
UID:10015477-1781202600-1781202600@burnettcountyfun.com
SUMMARY:Music in the Park
DESCRIPTION:Spend your summer Thursday nights at Crooked Lake Park\, enjoying live music in a beautiful outdoor setting! From June through August\, local and regional musicians take the stage at 6:30 PM\, bringing the community together for relaxing evenings by the lake. Bring a chair\, grab some friends\, and soak up the sounds of summer!
URL:https://burnettcountyfun.com/event/music-in-the-park-3/2026-06-11/
LOCATION:Crooked Lake Park\, 24258 Hwy 35/70\, Siren\, WI\, 54872\, United States
CATEGORIES:Music
ATTACH;FMTTYPE=image/jpeg:https://burnettcountyfun.com/wp-content/uploads/2026/04/40005131_10155415018552234_2532989999704440832_n1.jpg
END:VEVENT
BEGIN:VEVENT
DTSTART;TZID=America/Chicago:20260618T183000
DTEND;TZID=America/Chicago:20260618T183000
DTSTAMP:20260419T132342
CREATED:20260408T230908Z
LAST-MODIFIED:20260408T230908Z
UID:10015478-1781807400-1781807400@burnettcountyfun.com
SUMMARY:Music in the Park
DESCRIPTION:Spend your summer Thursday nights at Crooked Lake Park\, enjoying live music in a beautiful outdoor setting! From June through August\, local and regional musicians take the stage at 6:30 PM\, bringing the community together for relaxing evenings by the lake. Bring a chair\, grab some friends\, and soak up the sounds of summer!
URL:https://burnettcountyfun.com/event/music-in-the-park-3/2026-06-18/
LOCATION:Crooked Lake Park\, 24258 Hwy 35/70\, Siren\, WI\, 54872\, United States
CATEGORIES:Music
ATTACH;FMTTYPE=image/jpeg:https://burnettcountyfun.com/wp-content/uploads/2026/04/40005131_10155415018552234_2532989999704440832_n1.jpg
END:VEVENT
BEGIN:VEVENT
DTSTART;TZID=America/Chicago:20260625T183000
DTEND;TZID=America/Chicago:20260625T183000
DTSTAMP:20260419T132342
CREATED:20260408T230908Z
LAST-MODIFIED:20260408T230908Z
UID:10015479-1782412200-1782412200@burnettcountyfun.com
SUMMARY:Music in the Park
DESCRIPTION:Spend your summer Thursday nights at Crooked Lake Park\, enjoying live music in a beautiful outdoor setting! From June through August\, local and regional musicians take the stage at 6:30 PM\, bringing the community together for relaxing evenings by the lake. Bring a chair\, grab some friends\, and soak up the sounds of summer!
URL:https://burnettcountyfun.com/event/music-in-the-park-3/2026-06-25/
LOCATION:Crooked Lake Park\, 24258 Hwy 35/70\, Siren\, WI\, 54872\, United States
CATEGORIES:Music
ATTACH;FMTTYPE=image/jpeg:https://burnettcountyfun.com/wp-content/uploads/2026/04/40005131_10155415018552234_2532989999704440832_n1.jpg
END:VEVENT
BEGIN:VEVENT
DTSTART;TZID=America/Chicago:20260702T183000
DTEND;TZID=America/Chicago:20260702T183000
DTSTAMP:20260419T132342
CREATED:20260408T230908Z
LAST-MODIFIED:20260408T230908Z
UID:10015480-1783017000-1783017000@burnettcountyfun.com
SUMMARY:Music in the Park
DESCRIPTION:Spend your summer Thursday nights at Crooked Lake Park\, enjoying live music in a beautiful outdoor setting! From June through August\, local and regional musicians take the stage at 6:30 PM\, bringing the community together for relaxing evenings by the lake. Bring a chair\, grab some friends\, and soak up the sounds of summer!
URL:https://burnettcountyfun.com/event/music-in-the-park-3/2026-07-02/
LOCATION:Crooked Lake Park\, 24258 Hwy 35/70\, Siren\, WI\, 54872\, United States
CATEGORIES:Music
ATTACH;FMTTYPE=image/jpeg:https://burnettcountyfun.com/wp-content/uploads/2026/04/40005131_10155415018552234_2532989999704440832_n1.jpg
END:VEVENT
BEGIN:VEVENT
DTSTART;TZID=America/Chicago:20260709T183000
DTEND;TZID=America/Chicago:20260709T183000
DTSTAMP:20260419T132342
CREATED:20260408T230908Z
LAST-MODIFIED:20260408T230908Z
UID:10015481-1783621800-1783621800@burnettcountyfun.com
SUMMARY:Music in the Park
DESCRIPTION:Spend your summer Thursday nights at Crooked Lake Park\, enjoying live music in a beautiful outdoor setting! From June through August\, local and regional musicians take the stage at 6:30 PM\, bringing the community together for relaxing evenings by the lake. Bring a chair\, grab some friends\, and soak up the sounds of summer!
URL:https://burnettcountyfun.com/event/music-in-the-park-3/2026-07-09/
LOCATION:Crooked Lake Park\, 24258 Hwy 35/70\, Siren\, WI\, 54872\, United States
CATEGORIES:Music
ATTACH;FMTTYPE=image/jpeg:https://burnettcountyfun.com/wp-content/uploads/2026/04/40005131_10155415018552234_2532989999704440832_n1.jpg
END:VEVENT
BEGIN:VEVENT
DTSTART;TZID=America/Chicago:20260716T183000
DTEND;TZID=America/Chicago:20260716T183000
DTSTAMP:20260419T132342
CREATED:20260408T230908Z
LAST-MODIFIED:20260408T230908Z
UID:10015482-1784226600-1784226600@burnettcountyfun.com
SUMMARY:Music in the Park
DESCRIPTION:Spend your summer Thursday nights at Crooked Lake Park\, enjoying live music in a beautiful outdoor setting! From June through August\, local and regional musicians take the stage at 6:30 PM\, bringing the community together for relaxing evenings by the lake. Bring a chair\, grab some friends\, and soak up the sounds of summer!
URL:https://burnettcountyfun.com/event/music-in-the-park-3/2026-07-16/
LOCATION:Crooked Lake Park\, 24258 Hwy 35/70\, Siren\, WI\, 54872\, United States
CATEGORIES:Music
ATTACH;FMTTYPE=image/jpeg:https://burnettcountyfun.com/wp-content/uploads/2026/04/40005131_10155415018552234_2532989999704440832_n1.jpg
END:VEVENT
BEGIN:VEVENT
DTSTART;TZID=America/Chicago:20260723T183000
DTEND;TZID=America/Chicago:20260723T183000
DTSTAMP:20260419T132342
CREATED:20260408T230908Z
LAST-MODIFIED:20260408T230908Z
UID:10015483-1784831400-1784831400@burnettcountyfun.com
SUMMARY:Music in the Park
DESCRIPTION:Spend your summer Thursday nights at Crooked Lake Park\, enjoying live music in a beautiful outdoor setting! From June through August\, local and regional musicians take the stage at 6:30 PM\, bringing the community together for relaxing evenings by the lake. Bring a chair\, grab some friends\, and soak up the sounds of summer!
URL:https://burnettcountyfun.com/event/music-in-the-park-3/2026-07-23/
LOCATION:Crooked Lake Park\, 24258 Hwy 35/70\, Siren\, WI\, 54872\, United States
CATEGORIES:Music
ATTACH;FMTTYPE=image/jpeg:https://burnettcountyfun.com/wp-content/uploads/2026/04/40005131_10155415018552234_2532989999704440832_n1.jpg
END:VEVENT
BEGIN:VEVENT
DTSTART;TZID=America/Chicago:20260730T183000
DTEND;TZID=America/Chicago:20260730T183000
DTSTAMP:20260419T132342
CREATED:20260408T230908Z
LAST-MODIFIED:20260408T230908Z
UID:10015484-1785436200-1785436200@burnettcountyfun.com
SUMMARY:Music in the Park
DESCRIPTION:Spend your summer Thursday nights at Crooked Lake Park\, enjoying live music in a beautiful outdoor setting! From June through August\, local and regional musicians take the stage at 6:30 PM\, bringing the community together for relaxing evenings by the lake. Bring a chair\, grab some friends\, and soak up the sounds of summer!
URL:https://burnettcountyfun.com/event/music-in-the-park-3/2026-07-30/
LOCATION:Crooked Lake Park\, 24258 Hwy 35/70\, Siren\, WI\, 54872\, United States
CATEGORIES:Music
ATTACH;FMTTYPE=image/jpeg:https://burnettcountyfun.com/wp-content/uploads/2026/04/40005131_10155415018552234_2532989999704440832_n1.jpg
END:VEVENT
BEGIN:VEVENT
DTSTART;TZID=America/Chicago:20260806T183000
DTEND;TZID=America/Chicago:20260806T183000
DTSTAMP:20260419T132342
CREATED:20260408T230908Z
LAST-MODIFIED:20260408T230908Z
UID:10015485-1786041000-1786041000@burnettcountyfun.com
SUMMARY:Music in the Park
DESCRIPTION:Spend your summer Thursday nights at Crooked Lake Park\, enjoying live music in a beautiful outdoor setting! From June through August\, local and regional musicians take the stage at 6:30 PM\, bringing the community together for relaxing evenings by the lake. Bring a chair\, grab some friends\, and soak up the sounds of summer!
URL:https://burnettcountyfun.com/event/music-in-the-park-3/2026-08-06/
LOCATION:Crooked Lake Park\, 24258 Hwy 35/70\, Siren\, WI\, 54872\, United States
CATEGORIES:Music
ATTACH;FMTTYPE=image/jpeg:https://burnettcountyfun.com/wp-content/uploads/2026/04/40005131_10155415018552234_2532989999704440832_n1.jpg
END:VEVENT
BEGIN:VEVENT
DTSTART;TZID=America/Chicago:20260813T183000
DTEND;TZID=America/Chicago:20260813T183000
DTSTAMP:20260419T132342
CREATED:20260408T230908Z
LAST-MODIFIED:20260408T230908Z
UID:10015486-1786645800-1786645800@burnettcountyfun.com
SUMMARY:Music in the Park
DESCRIPTION:Spend your summer Thursday nights at Crooked Lake Park\, enjoying live music in a beautiful outdoor setting! From June through August\, local and regional musicians take the stage at 6:30 PM\, bringing the community together for relaxing evenings by the lake. Bring a chair\, grab some friends\, and soak up the sounds of summer!
URL:https://burnettcountyfun.com/event/music-in-the-park-3/2026-08-13/
LOCATION:Crooked Lake Park\, 24258 Hwy 35/70\, Siren\, WI\, 54872\, United States
CATEGORIES:Music
ATTACH;FMTTYPE=image/jpeg:https://burnettcountyfun.com/wp-content/uploads/2026/04/40005131_10155415018552234_2532989999704440832_n1.jpg
END:VEVENT
BEGIN:VEVENT
DTSTART;TZID=America/Chicago:20260820T183000
DTEND;TZID=America/Chicago:20260820T183000
DTSTAMP:20260419T132342
CREATED:20260408T230908Z
LAST-MODIFIED:20260408T230908Z
UID:10015487-1787250600-1787250600@burnettcountyfun.com
SUMMARY:Music in the Park
DESCRIPTION:Spend your summer Thursday nights at Crooked Lake Park\, enjoying live music in a beautiful outdoor setting! From June through August\, local and regional musicians take the stage at 6:30 PM\, bringing the community together for relaxing evenings by the lake. Bring a chair\, grab some friends\, and soak up the sounds of summer!
URL:https://burnettcountyfun.com/event/music-in-the-park-3/2026-08-20/
LOCATION:Crooked Lake Park\, 24258 Hwy 35/70\, Siren\, WI\, 54872\, United States
CATEGORIES:Music
ATTACH;FMTTYPE=image/jpeg:https://burnettcountyfun.com/wp-content/uploads/2026/04/40005131_10155415018552234_2532989999704440832_n1.jpg
END:VEVENT
BEGIN:VEVENT
DTSTART;TZID=America/Chicago:20260827T183000
DTEND;TZID=America/Chicago:20260827T183000
DTSTAMP:20260419T132342
CREATED:20260408T230908Z
LAST-MODIFIED:20260408T230908Z
UID:10015488-1787855400-1787855400@burnettcountyfun.com
SUMMARY:Music in the Park
DESCRIPTION:Spend your summer Thursday nights at Crooked Lake Park\, enjoying live music in a beautiful outdoor setting! From June through August\, local and regional musicians take the stage at 6:30 PM\, bringing the community together for relaxing evenings by the lake. Bring a chair\, grab some friends\, and soak up the sounds of summer!
URL:https://burnettcountyfun.com/event/music-in-the-park-3/2026-08-27/
LOCATION:Crooked Lake Park\, 24258 Hwy 35/70\, Siren\, WI\, 54872\, United States
CATEGORIES:Music
ATTACH;FMTTYPE=image/jpeg:https://burnettcountyfun.com/wp-content/uploads/2026/04/40005131_10155415018552234_2532989999704440832_n1.jpg
END:VEVENT
END:VCALENDAR