BEGIN:VCALENDAR
VERSION:2.0
PRODID:-//Burnett County, Wisconsin - ECPv6.15.20//NONSGML v1.0//EN
CALSCALE:GREGORIAN
METHOD:PUBLISH
X-WR-CALNAME:Burnett County, Wisconsin
X-ORIGINAL-URL:https://burnettcountyfun.com
X-WR-CALDESC:Events for Burnett County, Wisconsin
REFRESH-INTERVAL;VALUE=DURATION:PT1H
X-Robots-Tag:noindex
X-PUBLISHED-TTL:PT1H
BEGIN:VTIMEZONE
TZID:America/Chicago
BEGIN:DAYLIGHT
TZOFFSETFROM:-0600
TZOFFSETTO:-0500
TZNAME:CDT
DTSTART:20250309T080000
END:DAYLIGHT
BEGIN:STANDARD
TZOFFSETFROM:-0500
TZOFFSETTO:-0600
TZNAME:CST
DTSTART:20251102T070000
END:STANDARD
BEGIN:DAYLIGHT
TZOFFSETFROM:-0600
TZOFFSETTO:-0500
TZNAME:CDT
DTSTART:20260308T080000
END:DAYLIGHT
BEGIN:STANDARD
TZOFFSETFROM:-0500
TZOFFSETTO:-0600
TZNAME:CST
DTSTART:20261101T070000
END:STANDARD
BEGIN:DAYLIGHT
TZOFFSETFROM:-0600
TZOFFSETTO:-0500
TZNAME:CDT
DTSTART:20270314T080000
END:DAYLIGHT
BEGIN:STANDARD
TZOFFSETFROM:-0500
TZOFFSETTO:-0600
TZNAME:CST
DTSTART:20271107T070000
END:STANDARD
END:VTIMEZONE
BEGIN:VEVENT
DTSTART;VALUE=DATE:20260609
DTEND;VALUE=DATE:20260610
DTSTAMP:20260425T104234
CREATED:20260408T231955Z
LAST-MODIFIED:20260408T231955Z
UID:10015503-1780963200-1781049599@burnettcountyfun.com
SUMMARY:Tuesday Ride and Lunch
DESCRIPTION:Enjoy a relaxed day of riding\, good company\, and great food with the Lake Country Pedalers! On June 9th\, cyclists will head out for a scenic Tuesday ride around Burnett County\, followed by a casual group lunch. It’s a fun mid‑week outing for riders who love exploring local routes and sharing a meal together.
URL:https://burnettcountyfun.com/event/tuesday-ride-and-lunch/
END:VEVENT
BEGIN:VEVENT
DTSTART;VALUE=DATE:20260707
DTEND;VALUE=DATE:20260708
DTSTAMP:20260425T104234
CREATED:20260408T231955Z
LAST-MODIFIED:20260419T224053Z
UID:10015536-1783446053-1783446053@burnettcountyfun.com
SUMMARY:Tuesday Ride and Lunch
DESCRIPTION:Enjoy a relaxed day of riding\, good company\, and great food with the Lake Country Pedalers! On June 9th\, cyclists will head out for a scenic Tuesday ride around Burnett County\, followed by a casual group lunch. It’s a fun mid‑week outing for riders who love exploring local routes and sharing a meal together.
URL:https://burnettcountyfun.com/event/tuesday-ride-and-lunch/2026-07-07/
END:VEVENT
BEGIN:VEVENT
DTSTART;VALUE=DATE:20260811
DTEND;VALUE=DATE:20260812
DTSTAMP:20260425T104234
CREATED:20260408T231955Z
LAST-MODIFIED:20260419T224053Z
UID:10015537-1786470053-1786470053@burnettcountyfun.com
SUMMARY:Tuesday Ride and Lunch
DESCRIPTION:Enjoy a relaxed day of riding\, good company\, and great food with the Lake Country Pedalers! On June 9th\, cyclists will head out for a scenic Tuesday ride around Burnett County\, followed by a casual group lunch. It’s a fun mid‑week outing for riders who love exploring local routes and sharing a meal together.
URL:https://burnettcountyfun.com/event/tuesday-ride-and-lunch/2026-08-11/
END:VEVENT
END:VCALENDAR