BEGIN:VCALENDAR
VERSION:2.0
PRODID:-//Burnett County, Wisconsin - ECPv6.15.20//NONSGML v1.0//EN
CALSCALE:GREGORIAN
METHOD:PUBLISH
X-WR-CALNAME:Burnett County, Wisconsin
X-ORIGINAL-URL:https://burnettcountyfun.com
X-WR-CALDESC:Events for Burnett County, Wisconsin
REFRESH-INTERVAL;VALUE=DURATION:PT1H
X-Robots-Tag:noindex
X-PUBLISHED-TTL:PT1H
BEGIN:VTIMEZONE
TZID:UTC
BEGIN:STANDARD
TZOFFSETFROM:+0000
TZOFFSETTO:+0000
TZNAME:UTC
DTSTART:20250101T000000
END:STANDARD
END:VTIMEZONE
BEGIN:VEVENT
DTSTART;TZID=UTC:20260430T190000
DTEND;TZID=UTC:20260430T210000
DTSTAMP:20260424T170825
CREATED:20241031T025657Z
LAST-MODIFIED:20260124T062604Z
UID:10009050-1777575600-1777582800@burnettcountyfun.com
SUMMARY:Zingo at Zias
DESCRIPTION:Zingo Night — Every Thursday!\nJoin us for 6 exciting games starting at 7 PM\nWin cool prizes!\nBring your friends and come hang out!
URL:https://burnettcountyfun.com/event/zingo-at-zias-with-jennique/2026-04-30/
LOCATION:Zias Italian\, 26708 Lakeland Ave N\, Webster\, WI\, 54893\, United States
ATTACH;FMTTYPE=image/jpeg:https://burnettcountyfun.com/wp-content/uploads/2024/10/Screenshot_24-1-2026_02525_www.facebook.com_.jpeg
END:VEVENT
BEGIN:VEVENT
DTSTART;TZID=UTC:20260507T190000
DTEND;TZID=UTC:20260507T210000
DTSTAMP:20260424T170825
CREATED:20241031T025657Z
LAST-MODIFIED:20260124T062604Z
UID:10009051-1778180400-1778187600@burnettcountyfun.com
SUMMARY:Zingo at Zias
DESCRIPTION:Zingo Night — Every Thursday!\nJoin us for 6 exciting games starting at 7 PM\nWin cool prizes!\nBring your friends and come hang out!
URL:https://burnettcountyfun.com/event/zingo-at-zias-with-jennique/2026-05-07/
LOCATION:Zias Italian\, 26708 Lakeland Ave N\, Webster\, WI\, 54893\, United States
ATTACH;FMTTYPE=image/jpeg:https://burnettcountyfun.com/wp-content/uploads/2024/10/Screenshot_24-1-2026_02525_www.facebook.com_.jpeg
END:VEVENT
BEGIN:VEVENT
DTSTART;TZID=UTC:20260514T190000
DTEND;TZID=UTC:20260514T210000
DTSTAMP:20260424T170825
CREATED:20241031T025657Z
LAST-MODIFIED:20260124T062604Z
UID:10009052-1778785200-1778792400@burnettcountyfun.com
SUMMARY:Zingo at Zias
DESCRIPTION:Zingo Night — Every Thursday!\nJoin us for 6 exciting games starting at 7 PM\nWin cool prizes!\nBring your friends and come hang out!
URL:https://burnettcountyfun.com/event/zingo-at-zias-with-jennique/2026-05-14/
LOCATION:Zias Italian\, 26708 Lakeland Ave N\, Webster\, WI\, 54893\, United States
ATTACH;FMTTYPE=image/jpeg:https://burnettcountyfun.com/wp-content/uploads/2024/10/Screenshot_24-1-2026_02525_www.facebook.com_.jpeg
END:VEVENT
BEGIN:VEVENT
DTSTART;TZID=UTC:20260521T190000
DTEND;TZID=UTC:20260521T210000
DTSTAMP:20260424T170825
CREATED:20241031T025657Z
LAST-MODIFIED:20260124T062604Z
UID:10009053-1779390000-1779397200@burnettcountyfun.com
SUMMARY:Zingo at Zias
DESCRIPTION:Zingo Night — Every Thursday!\nJoin us for 6 exciting games starting at 7 PM\nWin cool prizes!\nBring your friends and come hang out!
URL:https://burnettcountyfun.com/event/zingo-at-zias-with-jennique/2026-05-21/
LOCATION:Zias Italian\, 26708 Lakeland Ave N\, Webster\, WI\, 54893\, United States
ATTACH;FMTTYPE=image/jpeg:https://burnettcountyfun.com/wp-content/uploads/2024/10/Screenshot_24-1-2026_02525_www.facebook.com_.jpeg
END:VEVENT
BEGIN:VEVENT
DTSTART;TZID=UTC:20260528T190000
DTEND;TZID=UTC:20260528T210000
DTSTAMP:20260424T170825
CREATED:20241031T025657Z
LAST-MODIFIED:20260124T062604Z
UID:10009054-1779994800-1780002000@burnettcountyfun.com
SUMMARY:Zingo at Zias
DESCRIPTION:Zingo Night — Every Thursday!\nJoin us for 6 exciting games starting at 7 PM\nWin cool prizes!\nBring your friends and come hang out!
URL:https://burnettcountyfun.com/event/zingo-at-zias-with-jennique/2026-05-28/
LOCATION:Zias Italian\, 26708 Lakeland Ave N\, Webster\, WI\, 54893\, United States
ATTACH;FMTTYPE=image/jpeg:https://burnettcountyfun.com/wp-content/uploads/2024/10/Screenshot_24-1-2026_02525_www.facebook.com_.jpeg
END:VEVENT
BEGIN:VEVENT
DTSTART;TZID=UTC:20260604T190000
DTEND;TZID=UTC:20260604T210000
DTSTAMP:20260424T170825
CREATED:20241031T025657Z
LAST-MODIFIED:20260124T062604Z
UID:10009055-1780599600-1780606800@burnettcountyfun.com
SUMMARY:Zingo at Zias
DESCRIPTION:Zingo Night — Every Thursday!\nJoin us for 6 exciting games starting at 7 PM\nWin cool prizes!\nBring your friends and come hang out!
URL:https://burnettcountyfun.com/event/zingo-at-zias-with-jennique/2026-06-04/
LOCATION:Zias Italian\, 26708 Lakeland Ave N\, Webster\, WI\, 54893\, United States
ATTACH;FMTTYPE=image/jpeg:https://burnettcountyfun.com/wp-content/uploads/2024/10/Screenshot_24-1-2026_02525_www.facebook.com_.jpeg
END:VEVENT
BEGIN:VEVENT
DTSTART;TZID=UTC:20260611T190000
DTEND;TZID=UTC:20260611T210000
DTSTAMP:20260424T170825
CREATED:20241031T025657Z
LAST-MODIFIED:20260124T062604Z
UID:10009056-1781204400-1781211600@burnettcountyfun.com
SUMMARY:Zingo at Zias
DESCRIPTION:Zingo Night — Every Thursday!\nJoin us for 6 exciting games starting at 7 PM\nWin cool prizes!\nBring your friends and come hang out!
URL:https://burnettcountyfun.com/event/zingo-at-zias-with-jennique/2026-06-11/
LOCATION:Zias Italian\, 26708 Lakeland Ave N\, Webster\, WI\, 54893\, United States
ATTACH;FMTTYPE=image/jpeg:https://burnettcountyfun.com/wp-content/uploads/2024/10/Screenshot_24-1-2026_02525_www.facebook.com_.jpeg
END:VEVENT
BEGIN:VEVENT
DTSTART;TZID=UTC:20260618T190000
DTEND;TZID=UTC:20260618T210000
DTSTAMP:20260424T170825
CREATED:20241031T025657Z
LAST-MODIFIED:20260124T062604Z
UID:10009057-1781809200-1781816400@burnettcountyfun.com
SUMMARY:Zingo at Zias
DESCRIPTION:Zingo Night — Every Thursday!\nJoin us for 6 exciting games starting at 7 PM\nWin cool prizes!\nBring your friends and come hang out!
URL:https://burnettcountyfun.com/event/zingo-at-zias-with-jennique/2026-06-18/
LOCATION:Zias Italian\, 26708 Lakeland Ave N\, Webster\, WI\, 54893\, United States
ATTACH;FMTTYPE=image/jpeg:https://burnettcountyfun.com/wp-content/uploads/2024/10/Screenshot_24-1-2026_02525_www.facebook.com_.jpeg
END:VEVENT
BEGIN:VEVENT
DTSTART;TZID=UTC:20260625T190000
DTEND;TZID=UTC:20260625T210000
DTSTAMP:20260424T170825
CREATED:20241031T025657Z
LAST-MODIFIED:20260124T062604Z
UID:10009058-1782414000-1782421200@burnettcountyfun.com
SUMMARY:Zingo at Zias
DESCRIPTION:Zingo Night — Every Thursday!\nJoin us for 6 exciting games starting at 7 PM\nWin cool prizes!\nBring your friends and come hang out!
URL:https://burnettcountyfun.com/event/zingo-at-zias-with-jennique/2026-06-25/
LOCATION:Zias Italian\, 26708 Lakeland Ave N\, Webster\, WI\, 54893\, United States
ATTACH;FMTTYPE=image/jpeg:https://burnettcountyfun.com/wp-content/uploads/2024/10/Screenshot_24-1-2026_02525_www.facebook.com_.jpeg
END:VEVENT
BEGIN:VEVENT
DTSTART;TZID=UTC:20260702T190000
DTEND;TZID=UTC:20260702T210000
DTSTAMP:20260424T170825
CREATED:20241031T025657Z
LAST-MODIFIED:20260124T062604Z
UID:10009059-1783018800-1783026000@burnettcountyfun.com
SUMMARY:Zingo at Zias
DESCRIPTION:Zingo Night — Every Thursday!\nJoin us for 6 exciting games starting at 7 PM\nWin cool prizes!\nBring your friends and come hang out!
URL:https://burnettcountyfun.com/event/zingo-at-zias-with-jennique/2026-07-02/
LOCATION:Zias Italian\, 26708 Lakeland Ave N\, Webster\, WI\, 54893\, United States
ATTACH;FMTTYPE=image/jpeg:https://burnettcountyfun.com/wp-content/uploads/2024/10/Screenshot_24-1-2026_02525_www.facebook.com_.jpeg
END:VEVENT
BEGIN:VEVENT
DTSTART;TZID=UTC:20260709T190000
DTEND;TZID=UTC:20260709T210000
DTSTAMP:20260424T170825
CREATED:20241031T025657Z
LAST-MODIFIED:20260124T062604Z
UID:10009060-1783623600-1783630800@burnettcountyfun.com
SUMMARY:Zingo at Zias
DESCRIPTION:Zingo Night — Every Thursday!\nJoin us for 6 exciting games starting at 7 PM\nWin cool prizes!\nBring your friends and come hang out!
URL:https://burnettcountyfun.com/event/zingo-at-zias-with-jennique/2026-07-09/
LOCATION:Zias Italian\, 26708 Lakeland Ave N\, Webster\, WI\, 54893\, United States
ATTACH;FMTTYPE=image/jpeg:https://burnettcountyfun.com/wp-content/uploads/2024/10/Screenshot_24-1-2026_02525_www.facebook.com_.jpeg
END:VEVENT
BEGIN:VEVENT
DTSTART;TZID=UTC:20260716T190000
DTEND;TZID=UTC:20260716T210000
DTSTAMP:20260424T170825
CREATED:20241031T025657Z
LAST-MODIFIED:20260124T062604Z
UID:10009061-1784228400-1784235600@burnettcountyfun.com
SUMMARY:Zingo at Zias
DESCRIPTION:Zingo Night — Every Thursday!\nJoin us for 6 exciting games starting at 7 PM\nWin cool prizes!\nBring your friends and come hang out!
URL:https://burnettcountyfun.com/event/zingo-at-zias-with-jennique/2026-07-16/
LOCATION:Zias Italian\, 26708 Lakeland Ave N\, Webster\, WI\, 54893\, United States
ATTACH;FMTTYPE=image/jpeg:https://burnettcountyfun.com/wp-content/uploads/2024/10/Screenshot_24-1-2026_02525_www.facebook.com_.jpeg
END:VEVENT
BEGIN:VEVENT
DTSTART;TZID=UTC:20260723T190000
DTEND;TZID=UTC:20260723T210000
DTSTAMP:20260424T170825
CREATED:20241031T025657Z
LAST-MODIFIED:20260124T062604Z
UID:10009062-1784833200-1784840400@burnettcountyfun.com
SUMMARY:Zingo at Zias
DESCRIPTION:Zingo Night — Every Thursday!\nJoin us for 6 exciting games starting at 7 PM\nWin cool prizes!\nBring your friends and come hang out!
URL:https://burnettcountyfun.com/event/zingo-at-zias-with-jennique/2026-07-23/
LOCATION:Zias Italian\, 26708 Lakeland Ave N\, Webster\, WI\, 54893\, United States
ATTACH;FMTTYPE=image/jpeg:https://burnettcountyfun.com/wp-content/uploads/2024/10/Screenshot_24-1-2026_02525_www.facebook.com_.jpeg
END:VEVENT
BEGIN:VEVENT
DTSTART;TZID=UTC:20260730T190000
DTEND;TZID=UTC:20260730T210000
DTSTAMP:20260424T170825
CREATED:20241031T025657Z
LAST-MODIFIED:20260124T062604Z
UID:10009063-1785438000-1785445200@burnettcountyfun.com
SUMMARY:Zingo at Zias
DESCRIPTION:Zingo Night — Every Thursday!\nJoin us for 6 exciting games starting at 7 PM\nWin cool prizes!\nBring your friends and come hang out!
URL:https://burnettcountyfun.com/event/zingo-at-zias-with-jennique/2026-07-30/
LOCATION:Zias Italian\, 26708 Lakeland Ave N\, Webster\, WI\, 54893\, United States
ATTACH;FMTTYPE=image/jpeg:https://burnettcountyfun.com/wp-content/uploads/2024/10/Screenshot_24-1-2026_02525_www.facebook.com_.jpeg
END:VEVENT
BEGIN:VEVENT
DTSTART;TZID=UTC:20260806T190000
DTEND;TZID=UTC:20260806T210000
DTSTAMP:20260424T170825
CREATED:20241031T025657Z
LAST-MODIFIED:20260124T062604Z
UID:10009064-1786042800-1786050000@burnettcountyfun.com
SUMMARY:Zingo at Zias
DESCRIPTION:Zingo Night — Every Thursday!\nJoin us for 6 exciting games starting at 7 PM\nWin cool prizes!\nBring your friends and come hang out!
URL:https://burnettcountyfun.com/event/zingo-at-zias-with-jennique/2026-08-06/
LOCATION:Zias Italian\, 26708 Lakeland Ave N\, Webster\, WI\, 54893\, United States
ATTACH;FMTTYPE=image/jpeg:https://burnettcountyfun.com/wp-content/uploads/2024/10/Screenshot_24-1-2026_02525_www.facebook.com_.jpeg
END:VEVENT
BEGIN:VEVENT
DTSTART;TZID=UTC:20260813T190000
DTEND;TZID=UTC:20260813T210000
DTSTAMP:20260424T170825
CREATED:20241031T025657Z
LAST-MODIFIED:20260124T062604Z
UID:10009065-1786647600-1786654800@burnettcountyfun.com
SUMMARY:Zingo at Zias
DESCRIPTION:Zingo Night — Every Thursday!\nJoin us for 6 exciting games starting at 7 PM\nWin cool prizes!\nBring your friends and come hang out!
URL:https://burnettcountyfun.com/event/zingo-at-zias-with-jennique/2026-08-13/
LOCATION:Zias Italian\, 26708 Lakeland Ave N\, Webster\, WI\, 54893\, United States
ATTACH;FMTTYPE=image/jpeg:https://burnettcountyfun.com/wp-content/uploads/2024/10/Screenshot_24-1-2026_02525_www.facebook.com_.jpeg
END:VEVENT
BEGIN:VEVENT
DTSTART;TZID=UTC:20260820T190000
DTEND;TZID=UTC:20260820T210000
DTSTAMP:20260424T170825
CREATED:20241031T025657Z
LAST-MODIFIED:20260124T062604Z
UID:10009066-1787252400-1787259600@burnettcountyfun.com
SUMMARY:Zingo at Zias
DESCRIPTION:Zingo Night — Every Thursday!\nJoin us for 6 exciting games starting at 7 PM\nWin cool prizes!\nBring your friends and come hang out!
URL:https://burnettcountyfun.com/event/zingo-at-zias-with-jennique/2026-08-20/
LOCATION:Zias Italian\, 26708 Lakeland Ave N\, Webster\, WI\, 54893\, United States
ATTACH;FMTTYPE=image/jpeg:https://burnettcountyfun.com/wp-content/uploads/2024/10/Screenshot_24-1-2026_02525_www.facebook.com_.jpeg
END:VEVENT
BEGIN:VEVENT
DTSTART;TZID=UTC:20260827T190000
DTEND;TZID=UTC:20260827T210000
DTSTAMP:20260424T170825
CREATED:20241031T025657Z
LAST-MODIFIED:20260124T062604Z
UID:10009067-1787857200-1787864400@burnettcountyfun.com
SUMMARY:Zingo at Zias
DESCRIPTION:Zingo Night — Every Thursday!\nJoin us for 6 exciting games starting at 7 PM\nWin cool prizes!\nBring your friends and come hang out!
URL:https://burnettcountyfun.com/event/zingo-at-zias-with-jennique/2026-08-27/
LOCATION:Zias Italian\, 26708 Lakeland Ave N\, Webster\, WI\, 54893\, United States
ATTACH;FMTTYPE=image/jpeg:https://burnettcountyfun.com/wp-content/uploads/2024/10/Screenshot_24-1-2026_02525_www.facebook.com_.jpeg
END:VEVENT
BEGIN:VEVENT
DTSTART;TZID=UTC:20260903T190000
DTEND;TZID=UTC:20260903T210000
DTSTAMP:20260424T170825
CREATED:20241031T025657Z
LAST-MODIFIED:20260124T062604Z
UID:10009068-1788462000-1788469200@burnettcountyfun.com
SUMMARY:Zingo at Zias
DESCRIPTION:Zingo Night — Every Thursday!\nJoin us for 6 exciting games starting at 7 PM\nWin cool prizes!\nBring your friends and come hang out!
URL:https://burnettcountyfun.com/event/zingo-at-zias-with-jennique/2026-09-03/
LOCATION:Zias Italian\, 26708 Lakeland Ave N\, Webster\, WI\, 54893\, United States
ATTACH;FMTTYPE=image/jpeg:https://burnettcountyfun.com/wp-content/uploads/2024/10/Screenshot_24-1-2026_02525_www.facebook.com_.jpeg
END:VEVENT
BEGIN:VEVENT
DTSTART;TZID=UTC:20260910T190000
DTEND;TZID=UTC:20260910T210000
DTSTAMP:20260424T170825
CREATED:20241031T025657Z
LAST-MODIFIED:20260124T062604Z
UID:10009069-1789066800-1789074000@burnettcountyfun.com
SUMMARY:Zingo at Zias
DESCRIPTION:Zingo Night — Every Thursday!\nJoin us for 6 exciting games starting at 7 PM\nWin cool prizes!\nBring your friends and come hang out!
URL:https://burnettcountyfun.com/event/zingo-at-zias-with-jennique/2026-09-10/
LOCATION:Zias Italian\, 26708 Lakeland Ave N\, Webster\, WI\, 54893\, United States
ATTACH;FMTTYPE=image/jpeg:https://burnettcountyfun.com/wp-content/uploads/2024/10/Screenshot_24-1-2026_02525_www.facebook.com_.jpeg
END:VEVENT
BEGIN:VEVENT
DTSTART;TZID=UTC:20260917T190000
DTEND;TZID=UTC:20260917T210000
DTSTAMP:20260424T170825
CREATED:20241031T025657Z
LAST-MODIFIED:20260124T062604Z
UID:10009070-1789671600-1789678800@burnettcountyfun.com
SUMMARY:Zingo at Zias
DESCRIPTION:Zingo Night — Every Thursday!\nJoin us for 6 exciting games starting at 7 PM\nWin cool prizes!\nBring your friends and come hang out!
URL:https://burnettcountyfun.com/event/zingo-at-zias-with-jennique/2026-09-17/
LOCATION:Zias Italian\, 26708 Lakeland Ave N\, Webster\, WI\, 54893\, United States
ATTACH;FMTTYPE=image/jpeg:https://burnettcountyfun.com/wp-content/uploads/2024/10/Screenshot_24-1-2026_02525_www.facebook.com_.jpeg
END:VEVENT
BEGIN:VEVENT
DTSTART;TZID=UTC:20260924T190000
DTEND;TZID=UTC:20260924T210000
DTSTAMP:20260424T170825
CREATED:20241031T025657Z
LAST-MODIFIED:20260124T062604Z
UID:10009071-1790276400-1790283600@burnettcountyfun.com
SUMMARY:Zingo at Zias
DESCRIPTION:Zingo Night — Every Thursday!\nJoin us for 6 exciting games starting at 7 PM\nWin cool prizes!\nBring your friends and come hang out!
URL:https://burnettcountyfun.com/event/zingo-at-zias-with-jennique/2026-09-24/
LOCATION:Zias Italian\, 26708 Lakeland Ave N\, Webster\, WI\, 54893\, United States
ATTACH;FMTTYPE=image/jpeg:https://burnettcountyfun.com/wp-content/uploads/2024/10/Screenshot_24-1-2026_02525_www.facebook.com_.jpeg
END:VEVENT
BEGIN:VEVENT
DTSTART;TZID=UTC:20261001T190000
DTEND;TZID=UTC:20261001T210000
DTSTAMP:20260424T170825
CREATED:20241031T025657Z
LAST-MODIFIED:20260124T062604Z
UID:10009072-1790881200-1790888400@burnettcountyfun.com
SUMMARY:Zingo at Zias
DESCRIPTION:Zingo Night — Every Thursday!\nJoin us for 6 exciting games starting at 7 PM\nWin cool prizes!\nBring your friends and come hang out!
URL:https://burnettcountyfun.com/event/zingo-at-zias-with-jennique/2026-10-01/
LOCATION:Zias Italian\, 26708 Lakeland Ave N\, Webster\, WI\, 54893\, United States
ATTACH;FMTTYPE=image/jpeg:https://burnettcountyfun.com/wp-content/uploads/2024/10/Screenshot_24-1-2026_02525_www.facebook.com_.jpeg
END:VEVENT
BEGIN:VEVENT
DTSTART;TZID=UTC:20261008T190000
DTEND;TZID=UTC:20261008T210000
DTSTAMP:20260424T170825
CREATED:20241031T025657Z
LAST-MODIFIED:20260124T062604Z
UID:10009073-1791486000-1791493200@burnettcountyfun.com
SUMMARY:Zingo at Zias
DESCRIPTION:Zingo Night — Every Thursday!\nJoin us for 6 exciting games starting at 7 PM\nWin cool prizes!\nBring your friends and come hang out!
URL:https://burnettcountyfun.com/event/zingo-at-zias-with-jennique/2026-10-08/
LOCATION:Zias Italian\, 26708 Lakeland Ave N\, Webster\, WI\, 54893\, United States
ATTACH;FMTTYPE=image/jpeg:https://burnettcountyfun.com/wp-content/uploads/2024/10/Screenshot_24-1-2026_02525_www.facebook.com_.jpeg
END:VEVENT
BEGIN:VEVENT
DTSTART;TZID=UTC:20261015T190000
DTEND;TZID=UTC:20261015T210000
DTSTAMP:20260424T170825
CREATED:20241031T025657Z
LAST-MODIFIED:20260124T062604Z
UID:10009074-1792090800-1792098000@burnettcountyfun.com
SUMMARY:Zingo at Zias
DESCRIPTION:Zingo Night — Every Thursday!\nJoin us for 6 exciting games starting at 7 PM\nWin cool prizes!\nBring your friends and come hang out!
URL:https://burnettcountyfun.com/event/zingo-at-zias-with-jennique/2026-10-15/
LOCATION:Zias Italian\, 26708 Lakeland Ave N\, Webster\, WI\, 54893\, United States
ATTACH;FMTTYPE=image/jpeg:https://burnettcountyfun.com/wp-content/uploads/2024/10/Screenshot_24-1-2026_02525_www.facebook.com_.jpeg
END:VEVENT
BEGIN:VEVENT
DTSTART;TZID=UTC:20261022T190000
DTEND;TZID=UTC:20261022T210000
DTSTAMP:20260424T170825
CREATED:20241031T025657Z
LAST-MODIFIED:20260124T062604Z
UID:10009075-1792695600-1792702800@burnettcountyfun.com
SUMMARY:Zingo at Zias
DESCRIPTION:Zingo Night — Every Thursday!\nJoin us for 6 exciting games starting at 7 PM\nWin cool prizes!\nBring your friends and come hang out!
URL:https://burnettcountyfun.com/event/zingo-at-zias-with-jennique/2026-10-22/
LOCATION:Zias Italian\, 26708 Lakeland Ave N\, Webster\, WI\, 54893\, United States
ATTACH;FMTTYPE=image/jpeg:https://burnettcountyfun.com/wp-content/uploads/2024/10/Screenshot_24-1-2026_02525_www.facebook.com_.jpeg
END:VEVENT
BEGIN:VEVENT
DTSTART;TZID=UTC:20261029T190000
DTEND;TZID=UTC:20261029T210000
DTSTAMP:20260424T170825
CREATED:20241031T025657Z
LAST-MODIFIED:20260124T062604Z
UID:10009076-1793300400-1793307600@burnettcountyfun.com
SUMMARY:Zingo at Zias
DESCRIPTION:Zingo Night — Every Thursday!\nJoin us for 6 exciting games starting at 7 PM\nWin cool prizes!\nBring your friends and come hang out!
URL:https://burnettcountyfun.com/event/zingo-at-zias-with-jennique/2026-10-29/
LOCATION:Zias Italian\, 26708 Lakeland Ave N\, Webster\, WI\, 54893\, United States
ATTACH;FMTTYPE=image/jpeg:https://burnettcountyfun.com/wp-content/uploads/2024/10/Screenshot_24-1-2026_02525_www.facebook.com_.jpeg
END:VEVENT
BEGIN:VEVENT
DTSTART;TZID=UTC:20261105T190000
DTEND;TZID=UTC:20261105T210000
DTSTAMP:20260424T170825
CREATED:20241031T025657Z
LAST-MODIFIED:20260124T062604Z
UID:10009077-1793905200-1793912400@burnettcountyfun.com
SUMMARY:Zingo at Zias
DESCRIPTION:Zingo Night — Every Thursday!\nJoin us for 6 exciting games starting at 7 PM\nWin cool prizes!\nBring your friends and come hang out!
URL:https://burnettcountyfun.com/event/zingo-at-zias-with-jennique/2026-11-05/
LOCATION:Zias Italian\, 26708 Lakeland Ave N\, Webster\, WI\, 54893\, United States
ATTACH;FMTTYPE=image/jpeg:https://burnettcountyfun.com/wp-content/uploads/2024/10/Screenshot_24-1-2026_02525_www.facebook.com_.jpeg
END:VEVENT
BEGIN:VEVENT
DTSTART;TZID=UTC:20261112T190000
DTEND;TZID=UTC:20261112T210000
DTSTAMP:20260424T170825
CREATED:20241031T025657Z
LAST-MODIFIED:20260124T062604Z
UID:10009078-1794510000-1794517200@burnettcountyfun.com
SUMMARY:Zingo at Zias
DESCRIPTION:Zingo Night — Every Thursday!\nJoin us for 6 exciting games starting at 7 PM\nWin cool prizes!\nBring your friends and come hang out!
URL:https://burnettcountyfun.com/event/zingo-at-zias-with-jennique/2026-11-12/
LOCATION:Zias Italian\, 26708 Lakeland Ave N\, Webster\, WI\, 54893\, United States
ATTACH;FMTTYPE=image/jpeg:https://burnettcountyfun.com/wp-content/uploads/2024/10/Screenshot_24-1-2026_02525_www.facebook.com_.jpeg
END:VEVENT
BEGIN:VEVENT
DTSTART;TZID=UTC:20261119T190000
DTEND;TZID=UTC:20261119T210000
DTSTAMP:20260424T170825
CREATED:20241031T025657Z
LAST-MODIFIED:20260124T062604Z
UID:10009079-1795114800-1795122000@burnettcountyfun.com
SUMMARY:Zingo at Zias
DESCRIPTION:Zingo Night — Every Thursday!\nJoin us for 6 exciting games starting at 7 PM\nWin cool prizes!\nBring your friends and come hang out!
URL:https://burnettcountyfun.com/event/zingo-at-zias-with-jennique/2026-11-19/
LOCATION:Zias Italian\, 26708 Lakeland Ave N\, Webster\, WI\, 54893\, United States
ATTACH;FMTTYPE=image/jpeg:https://burnettcountyfun.com/wp-content/uploads/2024/10/Screenshot_24-1-2026_02525_www.facebook.com_.jpeg
END:VEVENT
END:VCALENDAR