BEGIN:VCALENDAR
VERSION:2.0
PRODID:-//Burnett County, Wisconsin - ECPv6.15.20//NONSGML v1.0//EN
CALSCALE:GREGORIAN
METHOD:PUBLISH
X-WR-CALNAME:Burnett County, Wisconsin
X-ORIGINAL-URL:https://burnettcountyfun.com
X-WR-CALDESC:Events for Burnett County, Wisconsin
REFRESH-INTERVAL;VALUE=DURATION:PT1H
X-Robots-Tag:noindex
X-PUBLISHED-TTL:PT1H
BEGIN:VTIMEZONE
TZID:UTC
BEGIN:STANDARD
TZOFFSETFROM:+0000
TZOFFSETTO:+0000
TZNAME:UTC
DTSTART:20250101T000000
END:STANDARD
END:VTIMEZONE
BEGIN:VEVENT
DTSTART;TZID=UTC:20260423T180000
DTEND;TZID=UTC:20260423T193000
DTSTAMP:20260420T045648
CREATED:20250221T172146Z
LAST-MODIFIED:20260113T000453Z
UID:10009848-1776967200-1776972600@burnettcountyfun.com
SUMMARY:Siren Lions Meat Raffle
DESCRIPTION:Looking for a fun way to spend your Thursday evening in Siren\, WI? The Siren Lions meat raffle runs every Thursday from 6:00 to 7:30 PM at The Pheasant Inn & Sports Bar\, offering a great chance to support the community and take home some quality cuts while enjoying a fun night out!
URL:https://burnettcountyfun.com/event/siren-lions-meat-raffle/2026-04-23/
LOCATION:The Pheasant Inn & Sports Bar\, 7694 West Main St\, Siren\, WI\, 54872
CATEGORIES:Charity/Fundraiser
ATTACH;FMTTYPE=image/jpeg:https://burnettcountyfun.com/wp-content/uploads/2025/02/inbound6919946331740657901.jpg
END:VEVENT
BEGIN:VEVENT
DTSTART;TZID=UTC:20260430T180000
DTEND;TZID=UTC:20260430T193000
DTSTAMP:20260420T045648
CREATED:20250221T172146Z
LAST-MODIFIED:20260113T000453Z
UID:10009849-1777572000-1777577400@burnettcountyfun.com
SUMMARY:Siren Lions Meat Raffle
DESCRIPTION:Looking for a fun way to spend your Thursday evening in Siren\, WI? The Siren Lions meat raffle runs every Thursday from 6:00 to 7:30 PM at The Pheasant Inn & Sports Bar\, offering a great chance to support the community and take home some quality cuts while enjoying a fun night out!
URL:https://burnettcountyfun.com/event/siren-lions-meat-raffle/2026-04-30/
LOCATION:The Pheasant Inn & Sports Bar\, 7694 West Main St\, Siren\, WI\, 54872
CATEGORIES:Charity/Fundraiser
ATTACH;FMTTYPE=image/jpeg:https://burnettcountyfun.com/wp-content/uploads/2025/02/inbound6919946331740657901.jpg
END:VEVENT
BEGIN:VEVENT
DTSTART;TZID=UTC:20260507T180000
DTEND;TZID=UTC:20260507T193000
DTSTAMP:20260420T045648
CREATED:20250221T172146Z
LAST-MODIFIED:20260113T000453Z
UID:10009850-1778176800-1778182200@burnettcountyfun.com
SUMMARY:Siren Lions Meat Raffle
DESCRIPTION:Looking for a fun way to spend your Thursday evening in Siren\, WI? The Siren Lions meat raffle runs every Thursday from 6:00 to 7:30 PM at The Pheasant Inn & Sports Bar\, offering a great chance to support the community and take home some quality cuts while enjoying a fun night out!
URL:https://burnettcountyfun.com/event/siren-lions-meat-raffle/2026-05-07/
LOCATION:The Pheasant Inn & Sports Bar\, 7694 West Main St\, Siren\, WI\, 54872
CATEGORIES:Charity/Fundraiser
ATTACH;FMTTYPE=image/jpeg:https://burnettcountyfun.com/wp-content/uploads/2025/02/inbound6919946331740657901.jpg
END:VEVENT
BEGIN:VEVENT
DTSTART;TZID=UTC:20260514T180000
DTEND;TZID=UTC:20260514T193000
DTSTAMP:20260420T045648
CREATED:20250221T172146Z
LAST-MODIFIED:20260113T000453Z
UID:10009851-1778781600-1778787000@burnettcountyfun.com
SUMMARY:Siren Lions Meat Raffle
DESCRIPTION:Looking for a fun way to spend your Thursday evening in Siren\, WI? The Siren Lions meat raffle runs every Thursday from 6:00 to 7:30 PM at The Pheasant Inn & Sports Bar\, offering a great chance to support the community and take home some quality cuts while enjoying a fun night out!
URL:https://burnettcountyfun.com/event/siren-lions-meat-raffle/2026-05-14/
LOCATION:The Pheasant Inn & Sports Bar\, 7694 West Main St\, Siren\, WI\, 54872
CATEGORIES:Charity/Fundraiser
ATTACH;FMTTYPE=image/jpeg:https://burnettcountyfun.com/wp-content/uploads/2025/02/inbound6919946331740657901.jpg
END:VEVENT
BEGIN:VEVENT
DTSTART;TZID=UTC:20260521T180000
DTEND;TZID=UTC:20260521T193000
DTSTAMP:20260420T045648
CREATED:20250221T172146Z
LAST-MODIFIED:20260113T000453Z
UID:10009852-1779386400-1779391800@burnettcountyfun.com
SUMMARY:Siren Lions Meat Raffle
DESCRIPTION:Looking for a fun way to spend your Thursday evening in Siren\, WI? The Siren Lions meat raffle runs every Thursday from 6:00 to 7:30 PM at The Pheasant Inn & Sports Bar\, offering a great chance to support the community and take home some quality cuts while enjoying a fun night out!
URL:https://burnettcountyfun.com/event/siren-lions-meat-raffle/2026-05-21/
LOCATION:The Pheasant Inn & Sports Bar\, 7694 West Main St\, Siren\, WI\, 54872
CATEGORIES:Charity/Fundraiser
ATTACH;FMTTYPE=image/jpeg:https://burnettcountyfun.com/wp-content/uploads/2025/02/inbound6919946331740657901.jpg
END:VEVENT
BEGIN:VEVENT
DTSTART;TZID=UTC:20260528T180000
DTEND;TZID=UTC:20260528T193000
DTSTAMP:20260420T045648
CREATED:20250221T172146Z
LAST-MODIFIED:20260113T000453Z
UID:10009853-1779991200-1779996600@burnettcountyfun.com
SUMMARY:Siren Lions Meat Raffle
DESCRIPTION:Looking for a fun way to spend your Thursday evening in Siren\, WI? The Siren Lions meat raffle runs every Thursday from 6:00 to 7:30 PM at The Pheasant Inn & Sports Bar\, offering a great chance to support the community and take home some quality cuts while enjoying a fun night out!
URL:https://burnettcountyfun.com/event/siren-lions-meat-raffle/2026-05-28/
LOCATION:The Pheasant Inn & Sports Bar\, 7694 West Main St\, Siren\, WI\, 54872
CATEGORIES:Charity/Fundraiser
ATTACH;FMTTYPE=image/jpeg:https://burnettcountyfun.com/wp-content/uploads/2025/02/inbound6919946331740657901.jpg
END:VEVENT
BEGIN:VEVENT
DTSTART;TZID=UTC:20260604T180000
DTEND;TZID=UTC:20260604T193000
DTSTAMP:20260420T045648
CREATED:20250221T172146Z
LAST-MODIFIED:20260113T000453Z
UID:10009854-1780596000-1780601400@burnettcountyfun.com
SUMMARY:Siren Lions Meat Raffle
DESCRIPTION:Looking for a fun way to spend your Thursday evening in Siren\, WI? The Siren Lions meat raffle runs every Thursday from 6:00 to 7:30 PM at The Pheasant Inn & Sports Bar\, offering a great chance to support the community and take home some quality cuts while enjoying a fun night out!
URL:https://burnettcountyfun.com/event/siren-lions-meat-raffle/2026-06-04/
LOCATION:The Pheasant Inn & Sports Bar\, 7694 West Main St\, Siren\, WI\, 54872
CATEGORIES:Charity/Fundraiser
ATTACH;FMTTYPE=image/jpeg:https://burnettcountyfun.com/wp-content/uploads/2025/02/inbound6919946331740657901.jpg
END:VEVENT
BEGIN:VEVENT
DTSTART;TZID=UTC:20260611T180000
DTEND;TZID=UTC:20260611T193000
DTSTAMP:20260420T045648
CREATED:20250221T172146Z
LAST-MODIFIED:20260113T000453Z
UID:10009855-1781200800-1781206200@burnettcountyfun.com
SUMMARY:Siren Lions Meat Raffle
DESCRIPTION:Looking for a fun way to spend your Thursday evening in Siren\, WI? The Siren Lions meat raffle runs every Thursday from 6:00 to 7:30 PM at The Pheasant Inn & Sports Bar\, offering a great chance to support the community and take home some quality cuts while enjoying a fun night out!
URL:https://burnettcountyfun.com/event/siren-lions-meat-raffle/2026-06-11/
LOCATION:The Pheasant Inn & Sports Bar\, 7694 West Main St\, Siren\, WI\, 54872
CATEGORIES:Charity/Fundraiser
ATTACH;FMTTYPE=image/jpeg:https://burnettcountyfun.com/wp-content/uploads/2025/02/inbound6919946331740657901.jpg
END:VEVENT
BEGIN:VEVENT
DTSTART;TZID=UTC:20260618T180000
DTEND;TZID=UTC:20260618T193000
DTSTAMP:20260420T045648
CREATED:20250221T172146Z
LAST-MODIFIED:20260113T000453Z
UID:10009856-1781805600-1781811000@burnettcountyfun.com
SUMMARY:Siren Lions Meat Raffle
DESCRIPTION:Looking for a fun way to spend your Thursday evening in Siren\, WI? The Siren Lions meat raffle runs every Thursday from 6:00 to 7:30 PM at The Pheasant Inn & Sports Bar\, offering a great chance to support the community and take home some quality cuts while enjoying a fun night out!
URL:https://burnettcountyfun.com/event/siren-lions-meat-raffle/2026-06-18/
LOCATION:The Pheasant Inn & Sports Bar\, 7694 West Main St\, Siren\, WI\, 54872
CATEGORIES:Charity/Fundraiser
ATTACH;FMTTYPE=image/jpeg:https://burnettcountyfun.com/wp-content/uploads/2025/02/inbound6919946331740657901.jpg
END:VEVENT
BEGIN:VEVENT
DTSTART;TZID=UTC:20260625T180000
DTEND;TZID=UTC:20260625T193000
DTSTAMP:20260420T045648
CREATED:20250221T172146Z
LAST-MODIFIED:20260113T000453Z
UID:10009857-1782410400-1782415800@burnettcountyfun.com
SUMMARY:Siren Lions Meat Raffle
DESCRIPTION:Looking for a fun way to spend your Thursday evening in Siren\, WI? The Siren Lions meat raffle runs every Thursday from 6:00 to 7:30 PM at The Pheasant Inn & Sports Bar\, offering a great chance to support the community and take home some quality cuts while enjoying a fun night out!
URL:https://burnettcountyfun.com/event/siren-lions-meat-raffle/2026-06-25/
LOCATION:The Pheasant Inn & Sports Bar\, 7694 West Main St\, Siren\, WI\, 54872
CATEGORIES:Charity/Fundraiser
ATTACH;FMTTYPE=image/jpeg:https://burnettcountyfun.com/wp-content/uploads/2025/02/inbound6919946331740657901.jpg
END:VEVENT
BEGIN:VEVENT
DTSTART;TZID=UTC:20260702T180000
DTEND;TZID=UTC:20260702T193000
DTSTAMP:20260420T045648
CREATED:20250221T172146Z
LAST-MODIFIED:20260113T000453Z
UID:10009858-1783015200-1783020600@burnettcountyfun.com
SUMMARY:Siren Lions Meat Raffle
DESCRIPTION:Looking for a fun way to spend your Thursday evening in Siren\, WI? The Siren Lions meat raffle runs every Thursday from 6:00 to 7:30 PM at The Pheasant Inn & Sports Bar\, offering a great chance to support the community and take home some quality cuts while enjoying a fun night out!
URL:https://burnettcountyfun.com/event/siren-lions-meat-raffle/2026-07-02/
LOCATION:The Pheasant Inn & Sports Bar\, 7694 West Main St\, Siren\, WI\, 54872
CATEGORIES:Charity/Fundraiser
ATTACH;FMTTYPE=image/jpeg:https://burnettcountyfun.com/wp-content/uploads/2025/02/inbound6919946331740657901.jpg
END:VEVENT
BEGIN:VEVENT
DTSTART;TZID=UTC:20260709T180000
DTEND;TZID=UTC:20260709T193000
DTSTAMP:20260420T045648
CREATED:20250221T172146Z
LAST-MODIFIED:20260113T000453Z
UID:10009859-1783620000-1783625400@burnettcountyfun.com
SUMMARY:Siren Lions Meat Raffle
DESCRIPTION:Looking for a fun way to spend your Thursday evening in Siren\, WI? The Siren Lions meat raffle runs every Thursday from 6:00 to 7:30 PM at The Pheasant Inn & Sports Bar\, offering a great chance to support the community and take home some quality cuts while enjoying a fun night out!
URL:https://burnettcountyfun.com/event/siren-lions-meat-raffle/2026-07-09/
LOCATION:The Pheasant Inn & Sports Bar\, 7694 West Main St\, Siren\, WI\, 54872
CATEGORIES:Charity/Fundraiser
ATTACH;FMTTYPE=image/jpeg:https://burnettcountyfun.com/wp-content/uploads/2025/02/inbound6919946331740657901.jpg
END:VEVENT
BEGIN:VEVENT
DTSTART;TZID=UTC:20260716T180000
DTEND;TZID=UTC:20260716T193000
DTSTAMP:20260420T045648
CREATED:20250221T172146Z
LAST-MODIFIED:20260113T000453Z
UID:10009860-1784224800-1784230200@burnettcountyfun.com
SUMMARY:Siren Lions Meat Raffle
DESCRIPTION:Looking for a fun way to spend your Thursday evening in Siren\, WI? The Siren Lions meat raffle runs every Thursday from 6:00 to 7:30 PM at The Pheasant Inn & Sports Bar\, offering a great chance to support the community and take home some quality cuts while enjoying a fun night out!
URL:https://burnettcountyfun.com/event/siren-lions-meat-raffle/2026-07-16/
LOCATION:The Pheasant Inn & Sports Bar\, 7694 West Main St\, Siren\, WI\, 54872
CATEGORIES:Charity/Fundraiser
ATTACH;FMTTYPE=image/jpeg:https://burnettcountyfun.com/wp-content/uploads/2025/02/inbound6919946331740657901.jpg
END:VEVENT
BEGIN:VEVENT
DTSTART;TZID=UTC:20260723T180000
DTEND;TZID=UTC:20260723T193000
DTSTAMP:20260420T045648
CREATED:20250221T172146Z
LAST-MODIFIED:20260113T000453Z
UID:10009861-1784829600-1784835000@burnettcountyfun.com
SUMMARY:Siren Lions Meat Raffle
DESCRIPTION:Looking for a fun way to spend your Thursday evening in Siren\, WI? The Siren Lions meat raffle runs every Thursday from 6:00 to 7:30 PM at The Pheasant Inn & Sports Bar\, offering a great chance to support the community and take home some quality cuts while enjoying a fun night out!
URL:https://burnettcountyfun.com/event/siren-lions-meat-raffle/2026-07-23/
LOCATION:The Pheasant Inn & Sports Bar\, 7694 West Main St\, Siren\, WI\, 54872
CATEGORIES:Charity/Fundraiser
ATTACH;FMTTYPE=image/jpeg:https://burnettcountyfun.com/wp-content/uploads/2025/02/inbound6919946331740657901.jpg
END:VEVENT
BEGIN:VEVENT
DTSTART;TZID=UTC:20260730T180000
DTEND;TZID=UTC:20260730T193000
DTSTAMP:20260420T045648
CREATED:20250221T172146Z
LAST-MODIFIED:20260113T000453Z
UID:10009862-1785434400-1785439800@burnettcountyfun.com
SUMMARY:Siren Lions Meat Raffle
DESCRIPTION:Looking for a fun way to spend your Thursday evening in Siren\, WI? The Siren Lions meat raffle runs every Thursday from 6:00 to 7:30 PM at The Pheasant Inn & Sports Bar\, offering a great chance to support the community and take home some quality cuts while enjoying a fun night out!
URL:https://burnettcountyfun.com/event/siren-lions-meat-raffle/2026-07-30/
LOCATION:The Pheasant Inn & Sports Bar\, 7694 West Main St\, Siren\, WI\, 54872
CATEGORIES:Charity/Fundraiser
ATTACH;FMTTYPE=image/jpeg:https://burnettcountyfun.com/wp-content/uploads/2025/02/inbound6919946331740657901.jpg
END:VEVENT
BEGIN:VEVENT
DTSTART;TZID=UTC:20260806T180000
DTEND;TZID=UTC:20260806T193000
DTSTAMP:20260420T045648
CREATED:20250221T172146Z
LAST-MODIFIED:20260113T000453Z
UID:10009863-1786039200-1786044600@burnettcountyfun.com
SUMMARY:Siren Lions Meat Raffle
DESCRIPTION:Looking for a fun way to spend your Thursday evening in Siren\, WI? The Siren Lions meat raffle runs every Thursday from 6:00 to 7:30 PM at The Pheasant Inn & Sports Bar\, offering a great chance to support the community and take home some quality cuts while enjoying a fun night out!
URL:https://burnettcountyfun.com/event/siren-lions-meat-raffle/2026-08-06/
LOCATION:The Pheasant Inn & Sports Bar\, 7694 West Main St\, Siren\, WI\, 54872
CATEGORIES:Charity/Fundraiser
ATTACH;FMTTYPE=image/jpeg:https://burnettcountyfun.com/wp-content/uploads/2025/02/inbound6919946331740657901.jpg
END:VEVENT
BEGIN:VEVENT
DTSTART;TZID=UTC:20260813T180000
DTEND;TZID=UTC:20260813T193000
DTSTAMP:20260420T045648
CREATED:20250221T172146Z
LAST-MODIFIED:20260113T000453Z
UID:10009864-1786644000-1786649400@burnettcountyfun.com
SUMMARY:Siren Lions Meat Raffle
DESCRIPTION:Looking for a fun way to spend your Thursday evening in Siren\, WI? The Siren Lions meat raffle runs every Thursday from 6:00 to 7:30 PM at The Pheasant Inn & Sports Bar\, offering a great chance to support the community and take home some quality cuts while enjoying a fun night out!
URL:https://burnettcountyfun.com/event/siren-lions-meat-raffle/2026-08-13/
LOCATION:The Pheasant Inn & Sports Bar\, 7694 West Main St\, Siren\, WI\, 54872
CATEGORIES:Charity/Fundraiser
ATTACH;FMTTYPE=image/jpeg:https://burnettcountyfun.com/wp-content/uploads/2025/02/inbound6919946331740657901.jpg
END:VEVENT
BEGIN:VEVENT
DTSTART;TZID=UTC:20260820T180000
DTEND;TZID=UTC:20260820T193000
DTSTAMP:20260420T045648
CREATED:20250221T172146Z
LAST-MODIFIED:20260113T000453Z
UID:10009865-1787248800-1787254200@burnettcountyfun.com
SUMMARY:Siren Lions Meat Raffle
DESCRIPTION:Looking for a fun way to spend your Thursday evening in Siren\, WI? The Siren Lions meat raffle runs every Thursday from 6:00 to 7:30 PM at The Pheasant Inn & Sports Bar\, offering a great chance to support the community and take home some quality cuts while enjoying a fun night out!
URL:https://burnettcountyfun.com/event/siren-lions-meat-raffle/2026-08-20/
LOCATION:The Pheasant Inn & Sports Bar\, 7694 West Main St\, Siren\, WI\, 54872
CATEGORIES:Charity/Fundraiser
ATTACH;FMTTYPE=image/jpeg:https://burnettcountyfun.com/wp-content/uploads/2025/02/inbound6919946331740657901.jpg
END:VEVENT
BEGIN:VEVENT
DTSTART;TZID=UTC:20260827T180000
DTEND;TZID=UTC:20260827T193000
DTSTAMP:20260420T045648
CREATED:20250221T172146Z
LAST-MODIFIED:20260113T000453Z
UID:10009866-1787853600-1787859000@burnettcountyfun.com
SUMMARY:Siren Lions Meat Raffle
DESCRIPTION:Looking for a fun way to spend your Thursday evening in Siren\, WI? The Siren Lions meat raffle runs every Thursday from 6:00 to 7:30 PM at The Pheasant Inn & Sports Bar\, offering a great chance to support the community and take home some quality cuts while enjoying a fun night out!
URL:https://burnettcountyfun.com/event/siren-lions-meat-raffle/2026-08-27/
LOCATION:The Pheasant Inn & Sports Bar\, 7694 West Main St\, Siren\, WI\, 54872
CATEGORIES:Charity/Fundraiser
ATTACH;FMTTYPE=image/jpeg:https://burnettcountyfun.com/wp-content/uploads/2025/02/inbound6919946331740657901.jpg
END:VEVENT
BEGIN:VEVENT
DTSTART;TZID=UTC:20260903T180000
DTEND;TZID=UTC:20260903T193000
DTSTAMP:20260420T045648
CREATED:20250221T172146Z
LAST-MODIFIED:20260113T000453Z
UID:10009867-1788458400-1788463800@burnettcountyfun.com
SUMMARY:Siren Lions Meat Raffle
DESCRIPTION:Looking for a fun way to spend your Thursday evening in Siren\, WI? The Siren Lions meat raffle runs every Thursday from 6:00 to 7:30 PM at The Pheasant Inn & Sports Bar\, offering a great chance to support the community and take home some quality cuts while enjoying a fun night out!
URL:https://burnettcountyfun.com/event/siren-lions-meat-raffle/2026-09-03/
LOCATION:The Pheasant Inn & Sports Bar\, 7694 West Main St\, Siren\, WI\, 54872
CATEGORIES:Charity/Fundraiser
ATTACH;FMTTYPE=image/jpeg:https://burnettcountyfun.com/wp-content/uploads/2025/02/inbound6919946331740657901.jpg
END:VEVENT
BEGIN:VEVENT
DTSTART;TZID=UTC:20260910T180000
DTEND;TZID=UTC:20260910T193000
DTSTAMP:20260420T045648
CREATED:20250221T172146Z
LAST-MODIFIED:20260113T000453Z
UID:10009868-1789063200-1789068600@burnettcountyfun.com
SUMMARY:Siren Lions Meat Raffle
DESCRIPTION:Looking for a fun way to spend your Thursday evening in Siren\, WI? The Siren Lions meat raffle runs every Thursday from 6:00 to 7:30 PM at The Pheasant Inn & Sports Bar\, offering a great chance to support the community and take home some quality cuts while enjoying a fun night out!
URL:https://burnettcountyfun.com/event/siren-lions-meat-raffle/2026-09-10/
LOCATION:The Pheasant Inn & Sports Bar\, 7694 West Main St\, Siren\, WI\, 54872
CATEGORIES:Charity/Fundraiser
ATTACH;FMTTYPE=image/jpeg:https://burnettcountyfun.com/wp-content/uploads/2025/02/inbound6919946331740657901.jpg
END:VEVENT
BEGIN:VEVENT
DTSTART;TZID=UTC:20260917T180000
DTEND;TZID=UTC:20260917T193000
DTSTAMP:20260420T045648
CREATED:20250221T172146Z
LAST-MODIFIED:20260113T000453Z
UID:10009869-1789668000-1789673400@burnettcountyfun.com
SUMMARY:Siren Lions Meat Raffle
DESCRIPTION:Looking for a fun way to spend your Thursday evening in Siren\, WI? The Siren Lions meat raffle runs every Thursday from 6:00 to 7:30 PM at The Pheasant Inn & Sports Bar\, offering a great chance to support the community and take home some quality cuts while enjoying a fun night out!
URL:https://burnettcountyfun.com/event/siren-lions-meat-raffle/2026-09-17/
LOCATION:The Pheasant Inn & Sports Bar\, 7694 West Main St\, Siren\, WI\, 54872
CATEGORIES:Charity/Fundraiser
ATTACH;FMTTYPE=image/jpeg:https://burnettcountyfun.com/wp-content/uploads/2025/02/inbound6919946331740657901.jpg
END:VEVENT
BEGIN:VEVENT
DTSTART;TZID=UTC:20260924T180000
DTEND;TZID=UTC:20260924T193000
DTSTAMP:20260420T045648
CREATED:20250221T172146Z
LAST-MODIFIED:20260113T000453Z
UID:10009870-1790272800-1790278200@burnettcountyfun.com
SUMMARY:Siren Lions Meat Raffle
DESCRIPTION:Looking for a fun way to spend your Thursday evening in Siren\, WI? The Siren Lions meat raffle runs every Thursday from 6:00 to 7:30 PM at The Pheasant Inn & Sports Bar\, offering a great chance to support the community and take home some quality cuts while enjoying a fun night out!
URL:https://burnettcountyfun.com/event/siren-lions-meat-raffle/2026-09-24/
LOCATION:The Pheasant Inn & Sports Bar\, 7694 West Main St\, Siren\, WI\, 54872
CATEGORIES:Charity/Fundraiser
ATTACH;FMTTYPE=image/jpeg:https://burnettcountyfun.com/wp-content/uploads/2025/02/inbound6919946331740657901.jpg
END:VEVENT
BEGIN:VEVENT
DTSTART;TZID=UTC:20261001T180000
DTEND;TZID=UTC:20261001T193000
DTSTAMP:20260420T045648
CREATED:20250221T172146Z
LAST-MODIFIED:20260113T000453Z
UID:10009871-1790877600-1790883000@burnettcountyfun.com
SUMMARY:Siren Lions Meat Raffle
DESCRIPTION:Looking for a fun way to spend your Thursday evening in Siren\, WI? The Siren Lions meat raffle runs every Thursday from 6:00 to 7:30 PM at The Pheasant Inn & Sports Bar\, offering a great chance to support the community and take home some quality cuts while enjoying a fun night out!
URL:https://burnettcountyfun.com/event/siren-lions-meat-raffle/2026-10-01/
LOCATION:The Pheasant Inn & Sports Bar\, 7694 West Main St\, Siren\, WI\, 54872
CATEGORIES:Charity/Fundraiser
ATTACH;FMTTYPE=image/jpeg:https://burnettcountyfun.com/wp-content/uploads/2025/02/inbound6919946331740657901.jpg
END:VEVENT
BEGIN:VEVENT
DTSTART;TZID=UTC:20261008T180000
DTEND;TZID=UTC:20261008T193000
DTSTAMP:20260420T045648
CREATED:20250221T172146Z
LAST-MODIFIED:20260113T000453Z
UID:10009872-1791482400-1791487800@burnettcountyfun.com
SUMMARY:Siren Lions Meat Raffle
DESCRIPTION:Looking for a fun way to spend your Thursday evening in Siren\, WI? The Siren Lions meat raffle runs every Thursday from 6:00 to 7:30 PM at The Pheasant Inn & Sports Bar\, offering a great chance to support the community and take home some quality cuts while enjoying a fun night out!
URL:https://burnettcountyfun.com/event/siren-lions-meat-raffle/2026-10-08/
LOCATION:The Pheasant Inn & Sports Bar\, 7694 West Main St\, Siren\, WI\, 54872
CATEGORIES:Charity/Fundraiser
ATTACH;FMTTYPE=image/jpeg:https://burnettcountyfun.com/wp-content/uploads/2025/02/inbound6919946331740657901.jpg
END:VEVENT
BEGIN:VEVENT
DTSTART;TZID=UTC:20261015T180000
DTEND;TZID=UTC:20261015T193000
DTSTAMP:20260420T045648
CREATED:20250221T172146Z
LAST-MODIFIED:20260113T000453Z
UID:10009873-1792087200-1792092600@burnettcountyfun.com
SUMMARY:Siren Lions Meat Raffle
DESCRIPTION:Looking for a fun way to spend your Thursday evening in Siren\, WI? The Siren Lions meat raffle runs every Thursday from 6:00 to 7:30 PM at The Pheasant Inn & Sports Bar\, offering a great chance to support the community and take home some quality cuts while enjoying a fun night out!
URL:https://burnettcountyfun.com/event/siren-lions-meat-raffle/2026-10-15/
LOCATION:The Pheasant Inn & Sports Bar\, 7694 West Main St\, Siren\, WI\, 54872
CATEGORIES:Charity/Fundraiser
ATTACH;FMTTYPE=image/jpeg:https://burnettcountyfun.com/wp-content/uploads/2025/02/inbound6919946331740657901.jpg
END:VEVENT
BEGIN:VEVENT
DTSTART;TZID=UTC:20261022T180000
DTEND;TZID=UTC:20261022T193000
DTSTAMP:20260420T045648
CREATED:20250221T172146Z
LAST-MODIFIED:20260113T000453Z
UID:10009874-1792692000-1792697400@burnettcountyfun.com
SUMMARY:Siren Lions Meat Raffle
DESCRIPTION:Looking for a fun way to spend your Thursday evening in Siren\, WI? The Siren Lions meat raffle runs every Thursday from 6:00 to 7:30 PM at The Pheasant Inn & Sports Bar\, offering a great chance to support the community and take home some quality cuts while enjoying a fun night out!
URL:https://burnettcountyfun.com/event/siren-lions-meat-raffle/2026-10-22/
LOCATION:The Pheasant Inn & Sports Bar\, 7694 West Main St\, Siren\, WI\, 54872
CATEGORIES:Charity/Fundraiser
ATTACH;FMTTYPE=image/jpeg:https://burnettcountyfun.com/wp-content/uploads/2025/02/inbound6919946331740657901.jpg
END:VEVENT
BEGIN:VEVENT
DTSTART;TZID=UTC:20261029T180000
DTEND;TZID=UTC:20261029T193000
DTSTAMP:20260420T045648
CREATED:20250221T172146Z
LAST-MODIFIED:20260113T000453Z
UID:10009875-1793296800-1793302200@burnettcountyfun.com
SUMMARY:Siren Lions Meat Raffle
DESCRIPTION:Looking for a fun way to spend your Thursday evening in Siren\, WI? The Siren Lions meat raffle runs every Thursday from 6:00 to 7:30 PM at The Pheasant Inn & Sports Bar\, offering a great chance to support the community and take home some quality cuts while enjoying a fun night out!
URL:https://burnettcountyfun.com/event/siren-lions-meat-raffle/2026-10-29/
LOCATION:The Pheasant Inn & Sports Bar\, 7694 West Main St\, Siren\, WI\, 54872
CATEGORIES:Charity/Fundraiser
ATTACH;FMTTYPE=image/jpeg:https://burnettcountyfun.com/wp-content/uploads/2025/02/inbound6919946331740657901.jpg
END:VEVENT
BEGIN:VEVENT
DTSTART;TZID=UTC:20261105T180000
DTEND;TZID=UTC:20261105T193000
DTSTAMP:20260420T045648
CREATED:20250221T172146Z
LAST-MODIFIED:20260113T000453Z
UID:10009876-1793901600-1793907000@burnettcountyfun.com
SUMMARY:Siren Lions Meat Raffle
DESCRIPTION:Looking for a fun way to spend your Thursday evening in Siren\, WI? The Siren Lions meat raffle runs every Thursday from 6:00 to 7:30 PM at The Pheasant Inn & Sports Bar\, offering a great chance to support the community and take home some quality cuts while enjoying a fun night out!
URL:https://burnettcountyfun.com/event/siren-lions-meat-raffle/2026-11-05/
LOCATION:The Pheasant Inn & Sports Bar\, 7694 West Main St\, Siren\, WI\, 54872
CATEGORIES:Charity/Fundraiser
ATTACH;FMTTYPE=image/jpeg:https://burnettcountyfun.com/wp-content/uploads/2025/02/inbound6919946331740657901.jpg
END:VEVENT
BEGIN:VEVENT
DTSTART;TZID=UTC:20261112T180000
DTEND;TZID=UTC:20261112T193000
DTSTAMP:20260420T045648
CREATED:20250221T172146Z
LAST-MODIFIED:20260113T000453Z
UID:10009877-1794506400-1794511800@burnettcountyfun.com
SUMMARY:Siren Lions Meat Raffle
DESCRIPTION:Looking for a fun way to spend your Thursday evening in Siren\, WI? The Siren Lions meat raffle runs every Thursday from 6:00 to 7:30 PM at The Pheasant Inn & Sports Bar\, offering a great chance to support the community and take home some quality cuts while enjoying a fun night out!
URL:https://burnettcountyfun.com/event/siren-lions-meat-raffle/2026-11-12/
LOCATION:The Pheasant Inn & Sports Bar\, 7694 West Main St\, Siren\, WI\, 54872
CATEGORIES:Charity/Fundraiser
ATTACH;FMTTYPE=image/jpeg:https://burnettcountyfun.com/wp-content/uploads/2025/02/inbound6919946331740657901.jpg
END:VEVENT
END:VCALENDAR