BEGIN:VCALENDAR
VERSION:2.0
PRODID:-//Burnett County, Wisconsin - ECPv6.15.20//NONSGML v1.0//EN
CALSCALE:GREGORIAN
METHOD:PUBLISH
X-WR-CALNAME:Burnett County, Wisconsin
X-ORIGINAL-URL:https://burnettcountyfun.com
X-WR-CALDESC:Events for Burnett County, Wisconsin
REFRESH-INTERVAL;VALUE=DURATION:PT1H
X-Robots-Tag:noindex
X-PUBLISHED-TTL:PT1H
BEGIN:VTIMEZONE
TZID:America/Chicago
BEGIN:DAYLIGHT
TZOFFSETFROM:-0600
TZOFFSETTO:-0500
TZNAME:CDT
DTSTART:20250309T080000
END:DAYLIGHT
BEGIN:STANDARD
TZOFFSETFROM:-0500
TZOFFSETTO:-0600
TZNAME:CST
DTSTART:20251102T070000
END:STANDARD
BEGIN:DAYLIGHT
TZOFFSETFROM:-0600
TZOFFSETTO:-0500
TZNAME:CDT
DTSTART:20260308T080000
END:DAYLIGHT
BEGIN:STANDARD
TZOFFSETFROM:-0500
TZOFFSETTO:-0600
TZNAME:CST
DTSTART:20261101T070000
END:STANDARD
BEGIN:DAYLIGHT
TZOFFSETFROM:-0600
TZOFFSETTO:-0500
TZNAME:CDT
DTSTART:20270314T080000
END:DAYLIGHT
BEGIN:STANDARD
TZOFFSETFROM:-0500
TZOFFSETTO:-0600
TZNAME:CST
DTSTART:20271107T070000
END:STANDARD
END:VTIMEZONE
BEGIN:VEVENT
DTSTART;TZID=America/Chicago:20260807T130000
DTEND;TZID=America/Chicago:20260807T183000
DTSTAMP:20260422T200043
CREATED:20251117T015305Z
LAST-MODIFIED:20251117T015305Z
UID:10011498-1786107600-1786127400@burnettcountyfun.com
SUMMARY:WEF 13th Annual Golf Scramble
DESCRIPTION:Shotgun start at the beautiful Voyager Village Golf course at 1:00 pm for a full afternoon of golf for teams of 4.  Dinner\, games\, prizes and lots of fun!  OUr golf roster fills up quickly\, so register early!
URL:https://burnettcountyfun.com/event/wef-13th-annual-golf-scramble/
LOCATION:Voyager Village Golf Course\, 28851 Kilkare Rd\, Danbury\, WI\, 54830\, United States
CATEGORIES:Charity/Fundraiser
ATTACH;FMTTYPE=image/jpeg:https://burnettcountyfun.com/wp-content/uploads/2025/11/526537773_10235921482430780_2101250879475719447_n.jpg
ORGANIZER;CN="Webster Education Foundation":MAILTO:WEF@webster.k12.wi.us
END:VEVENT
END:VCALENDAR