BEGIN:VCALENDAR
VERSION:2.0
PRODID:-//Burnett County, Wisconsin - ECPv6.15.20//NONSGML v1.0//EN
CALSCALE:GREGORIAN
METHOD:PUBLISH
X-WR-CALNAME:Burnett County, Wisconsin
X-ORIGINAL-URL:https://burnettcountyfun.com
X-WR-CALDESC:Events for Burnett County, Wisconsin
REFRESH-INTERVAL;VALUE=DURATION:PT1H
X-Robots-Tag:noindex
X-PUBLISHED-TTL:PT1H
BEGIN:VTIMEZONE
TZID:America/Chicago
BEGIN:DAYLIGHT
TZOFFSETFROM:-0600
TZOFFSETTO:-0500
TZNAME:CDT
DTSTART:20240310T080000
END:DAYLIGHT
BEGIN:STANDARD
TZOFFSETFROM:-0500
TZOFFSETTO:-0600
TZNAME:CST
DTSTART:20241103T070000
END:STANDARD
BEGIN:DAYLIGHT
TZOFFSETFROM:-0600
TZOFFSETTO:-0500
TZNAME:CDT
DTSTART:20250309T080000
END:DAYLIGHT
BEGIN:STANDARD
TZOFFSETFROM:-0500
TZOFFSETTO:-0600
TZNAME:CST
DTSTART:20251102T070000
END:STANDARD
BEGIN:DAYLIGHT
TZOFFSETFROM:-0600
TZOFFSETTO:-0500
TZNAME:CDT
DTSTART:20260308T080000
END:DAYLIGHT
BEGIN:STANDARD
TZOFFSETFROM:-0500
TZOFFSETTO:-0600
TZNAME:CST
DTSTART:20261101T070000
END:STANDARD
END:VTIMEZONE
BEGIN:VEVENT
DTSTART;VALUE=DATE:20251213
DTEND;VALUE=DATE:20251214
DTSTAMP:20260421T220228
CREATED:20251201T194035Z
LAST-MODIFIED:20251201T194035Z
UID:10011507-1765584000-1765670399@burnettcountyfun.com
SUMMARY:Medallion Hunt
DESCRIPTION:Get ready\, treasure hunters! The Siren Area Chamber’s annual Medallion Hunt kicks off Friday\, December 13th at 9:00 AM — and this year’s prize is worth the search!\n💰 Winner Receives:\n$200 in Chamber Bucks to spend at participating local businesses!\n🕵️ How to Play:\nStarting at 9AM on December 13th\, daily clues will be posted right here on the Siren Area Chamber Facebook Page. Follow along\, decipher the hints\, and be the first to uncover the hidden medallion! There is no need to access private property\, all clues lead you to public land.\nThis is a fun and festive way to explore Siren\, support our local businesses\, and celebrate the season. Grab your gloves\, gather your team\, and let the hunt begin!\nGood luck\, detectives! ❄️🔎🎉
URL:https://burnettcountyfun.com/event/medallion-hunt/
LOCATION:Siren\, WI\, Main Street\, Siren\, WI\, 54872\, United States
CATEGORIES:Family Friendly
ATTACH;FMTTYPE=image/jpeg:https://burnettcountyfun.com/wp-content/uploads/2025/12/Medallion-Hunt-2025_Page_01-scaled.jpg
ORGANIZER;CN="Siren Chamber of Commerce":MAILTO:info@visitsiren.com
END:VEVENT
BEGIN:VEVENT
DTSTART;TZID=America/Chicago:20251213T170000
DTEND;TZID=America/Chicago:20251213T180000
DTSTAMP:20260421T220228
CREATED:20251201T193343Z
LAST-MODIFIED:20251201T193343Z
UID:10011506-1765645200-1765648800@burnettcountyfun.com
SUMMARY:Light Up the Night Parade & Lighting of the Tree
DESCRIPTION:Siren’s most magical holiday tradition is almost here!\nJoin us Saturday\, December 13th at 5:00 PM as the Light Up the Night Parade brings Main Street to life with festive floats\, sparkling lights\, and holiday cheer for all ages. Grab your family\, bundle up\, and enjoy the sights as the parade travels down Main Street in the heart of Siren.\nAfter the parade\, Bethany Lutheran Church warmly invites everyone to stop by for free hot cocoa—the perfect way to warm up and keep the holiday spirit going!\nAny and all lit vehicles are welcome to join the Parade! Line up is in the Zhashagiins parking lot at 4:30pm.\nLet’s kick off the season together. We can’t wait to see you there! ❄️🎅✨
URL:https://burnettcountyfun.com/event/light-up-the-night-parade-lighting-of-the-tree-5/
LOCATION:Main Street\, Siren Wi
CATEGORIES:Family Friendly
ATTACH;FMTTYPE=image/png:https://burnettcountyfun.com/wp-content/uploads/2025/12/Light-Up-the-Night-Parade-2025.png
ORGANIZER;CN="Siren Chamber of Commerce":MAILTO:info@visitsiren.com
END:VEVENT
END:VCALENDAR