BEGIN:VCALENDAR
VERSION:2.0
PRODID:-//Burnett County, Wisconsin - ECPv6.15.20//NONSGML v1.0//EN
CALSCALE:GREGORIAN
METHOD:PUBLISH
X-ORIGINAL-URL:https://burnettcountyfun.com
X-WR-CALDESC:Events for Burnett County, Wisconsin
REFRESH-INTERVAL;VALUE=DURATION:PT1H
X-Robots-Tag:noindex
X-PUBLISHED-TTL:PT1H
BEGIN:VTIMEZONE
TZID:UTC
BEGIN:STANDARD
TZOFFSETFROM:+0000
TZOFFSETTO:+0000
TZNAME:UTC
DTSTART:20240101T000000
END:STANDARD
END:VTIMEZONE
BEGIN:VEVENT
DTSTART;TZID=UTC:20260423T180000
DTEND;TZID=UTC:20260423T193000
DTSTAMP:20260424T023104
CREATED:20250221T172146Z
LAST-MODIFIED:20260113T000453Z
UID:10009848-1776967200-1776972600@burnettcountyfun.com
SUMMARY:Siren Lions Meat Raffle
DESCRIPTION:Looking for a fun way to spend your Thursday evening in Siren\, WI? The Siren Lions meat raffle runs every Thursday from 6:00 to 7:30 PM at The Pheasant Inn & Sports Bar\, offering a great chance to support the community and take home some quality cuts while enjoying a fun night out!
URL:https://burnettcountyfun.com/event/siren-lions-meat-raffle/2026-04-23/
LOCATION:The Pheasant Inn & Sports Bar\, 7694 West Main St\, Siren\, WI\, 54872
CATEGORIES:Charity/Fundraiser
ATTACH;FMTTYPE=image/jpeg:https://burnettcountyfun.com/wp-content/uploads/2025/02/inbound6919946331740657901.jpg
END:VEVENT
BEGIN:VEVENT
DTSTART;TZID=UTC:20260416T180000
DTEND;TZID=UTC:20260416T193000
DTSTAMP:20260424T023104
CREATED:20250221T172146Z
LAST-MODIFIED:20260113T000453Z
UID:10009847-1776362400-1776367800@burnettcountyfun.com
SUMMARY:Siren Lions Meat Raffle
DESCRIPTION:Looking for a fun way to spend your Thursday evening in Siren\, WI? The Siren Lions meat raffle runs every Thursday from 6:00 to 7:30 PM at The Pheasant Inn & Sports Bar\, offering a great chance to support the community and take home some quality cuts while enjoying a fun night out!
URL:https://burnettcountyfun.com/event/siren-lions-meat-raffle/2026-04-16/
LOCATION:The Pheasant Inn & Sports Bar\, 7694 West Main St\, Siren\, WI\, 54872
CATEGORIES:Charity/Fundraiser
ATTACH;FMTTYPE=image/jpeg:https://burnettcountyfun.com/wp-content/uploads/2025/02/inbound6919946331740657901.jpg
END:VEVENT
BEGIN:VEVENT
DTSTART;TZID=UTC:20260409T180000
DTEND;TZID=UTC:20260409T193000
DTSTAMP:20260424T023104
CREATED:20250221T172146Z
LAST-MODIFIED:20260113T000453Z
UID:10009846-1775757600-1775763000@burnettcountyfun.com
SUMMARY:Siren Lions Meat Raffle
DESCRIPTION:Looking for a fun way to spend your Thursday evening in Siren\, WI? The Siren Lions meat raffle runs every Thursday from 6:00 to 7:30 PM at The Pheasant Inn & Sports Bar\, offering a great chance to support the community and take home some quality cuts while enjoying a fun night out!
URL:https://burnettcountyfun.com/event/siren-lions-meat-raffle/2026-04-09/
LOCATION:The Pheasant Inn & Sports Bar\, 7694 West Main St\, Siren\, WI\, 54872
CATEGORIES:Charity/Fundraiser
ATTACH;FMTTYPE=image/jpeg:https://burnettcountyfun.com/wp-content/uploads/2025/02/inbound6919946331740657901.jpg
END:VEVENT
BEGIN:VEVENT
DTSTART;TZID=UTC:20260402T180000
DTEND;TZID=UTC:20260402T193000
DTSTAMP:20260424T023104
CREATED:20250221T172146Z
LAST-MODIFIED:20260113T000453Z
UID:10009845-1775152800-1775158200@burnettcountyfun.com
SUMMARY:Siren Lions Meat Raffle
DESCRIPTION:Looking for a fun way to spend your Thursday evening in Siren\, WI? The Siren Lions meat raffle runs every Thursday from 6:00 to 7:30 PM at The Pheasant Inn & Sports Bar\, offering a great chance to support the community and take home some quality cuts while enjoying a fun night out!
URL:https://burnettcountyfun.com/event/siren-lions-meat-raffle/2026-04-02/
LOCATION:The Pheasant Inn & Sports Bar\, 7694 West Main St\, Siren\, WI\, 54872
CATEGORIES:Charity/Fundraiser
ATTACH;FMTTYPE=image/jpeg:https://burnettcountyfun.com/wp-content/uploads/2025/02/inbound6919946331740657901.jpg
END:VEVENT
BEGIN:VEVENT
DTSTART;TZID=UTC:20260326T180000
DTEND;TZID=UTC:20260326T193000
DTSTAMP:20260424T023104
CREATED:20250221T172146Z
LAST-MODIFIED:20260113T000453Z
UID:10009844-1774548000-1774553400@burnettcountyfun.com
SUMMARY:Siren Lions Meat Raffle
DESCRIPTION:Looking for a fun way to spend your Thursday evening in Siren\, WI? The Siren Lions meat raffle runs every Thursday from 6:00 to 7:30 PM at The Pheasant Inn & Sports Bar\, offering a great chance to support the community and take home some quality cuts while enjoying a fun night out!
URL:https://burnettcountyfun.com/event/siren-lions-meat-raffle/2026-03-26/
LOCATION:The Pheasant Inn & Sports Bar\, 7694 West Main St\, Siren\, WI\, 54872
CATEGORIES:Charity/Fundraiser
ATTACH;FMTTYPE=image/jpeg:https://burnettcountyfun.com/wp-content/uploads/2025/02/inbound6919946331740657901.jpg
END:VEVENT
BEGIN:VEVENT
DTSTART;TZID=UTC:20260319T180000
DTEND;TZID=UTC:20260319T193000
DTSTAMP:20260424T023104
CREATED:20250221T172146Z
LAST-MODIFIED:20260113T000453Z
UID:10009843-1773943200-1773948600@burnettcountyfun.com
SUMMARY:Siren Lions Meat Raffle
DESCRIPTION:Looking for a fun way to spend your Thursday evening in Siren\, WI? The Siren Lions meat raffle runs every Thursday from 6:00 to 7:30 PM at The Pheasant Inn & Sports Bar\, offering a great chance to support the community and take home some quality cuts while enjoying a fun night out!
URL:https://burnettcountyfun.com/event/siren-lions-meat-raffle/2026-03-19/
LOCATION:The Pheasant Inn & Sports Bar\, 7694 West Main St\, Siren\, WI\, 54872
CATEGORIES:Charity/Fundraiser
ATTACH;FMTTYPE=image/jpeg:https://burnettcountyfun.com/wp-content/uploads/2025/02/inbound6919946331740657901.jpg
END:VEVENT
BEGIN:VEVENT
DTSTART;TZID=UTC:20260312T180000
DTEND;TZID=UTC:20260312T193000
DTSTAMP:20260424T023104
CREATED:20250221T172146Z
LAST-MODIFIED:20260113T000453Z
UID:10009842-1773338400-1773343800@burnettcountyfun.com
SUMMARY:Siren Lions Meat Raffle
DESCRIPTION:Looking for a fun way to spend your Thursday evening in Siren\, WI? The Siren Lions meat raffle runs every Thursday from 6:00 to 7:30 PM at The Pheasant Inn & Sports Bar\, offering a great chance to support the community and take home some quality cuts while enjoying a fun night out!
URL:https://burnettcountyfun.com/event/siren-lions-meat-raffle/2026-03-12/
LOCATION:The Pheasant Inn & Sports Bar\, 7694 West Main St\, Siren\, WI\, 54872
CATEGORIES:Charity/Fundraiser
ATTACH;FMTTYPE=image/jpeg:https://burnettcountyfun.com/wp-content/uploads/2025/02/inbound6919946331740657901.jpg
END:VEVENT
BEGIN:VEVENT
DTSTART;TZID=UTC:20260305T180000
DTEND;TZID=UTC:20260305T193000
DTSTAMP:20260424T023104
CREATED:20250221T172146Z
LAST-MODIFIED:20260113T000453Z
UID:10009841-1772733600-1772739000@burnettcountyfun.com
SUMMARY:Siren Lions Meat Raffle
DESCRIPTION:Looking for a fun way to spend your Thursday evening in Siren\, WI? The Siren Lions meat raffle runs every Thursday from 6:00 to 7:30 PM at The Pheasant Inn & Sports Bar\, offering a great chance to support the community and take home some quality cuts while enjoying a fun night out!
URL:https://burnettcountyfun.com/event/siren-lions-meat-raffle/2026-03-05/
LOCATION:The Pheasant Inn & Sports Bar\, 7694 West Main St\, Siren\, WI\, 54872
CATEGORIES:Charity/Fundraiser
ATTACH;FMTTYPE=image/jpeg:https://burnettcountyfun.com/wp-content/uploads/2025/02/inbound6919946331740657901.jpg
END:VEVENT
BEGIN:VEVENT
DTSTART;TZID=UTC:20260226T180000
DTEND;TZID=UTC:20260226T193000
DTSTAMP:20260424T023104
CREATED:20250221T172146Z
LAST-MODIFIED:20260113T000453Z
UID:10009840-1772128800-1772134200@burnettcountyfun.com
SUMMARY:Siren Lions Meat Raffle
DESCRIPTION:Looking for a fun way to spend your Thursday evening in Siren\, WI? The Siren Lions meat raffle runs every Thursday from 6:00 to 7:30 PM at The Pheasant Inn & Sports Bar\, offering a great chance to support the community and take home some quality cuts while enjoying a fun night out!
URL:https://burnettcountyfun.com/event/siren-lions-meat-raffle/2026-02-26/
LOCATION:The Pheasant Inn & Sports Bar\, 7694 West Main St\, Siren\, WI\, 54872
CATEGORIES:Charity/Fundraiser
ATTACH;FMTTYPE=image/jpeg:https://burnettcountyfun.com/wp-content/uploads/2025/02/inbound6919946331740657901.jpg
END:VEVENT
BEGIN:VEVENT
DTSTART;TZID=UTC:20260219T180000
DTEND;TZID=UTC:20260219T193000
DTSTAMP:20260424T023104
CREATED:20250221T172146Z
LAST-MODIFIED:20260113T000453Z
UID:10009839-1771524000-1771529400@burnettcountyfun.com
SUMMARY:Siren Lions Meat Raffle
DESCRIPTION:Looking for a fun way to spend your Thursday evening in Siren\, WI? The Siren Lions meat raffle runs every Thursday from 6:00 to 7:30 PM at The Pheasant Inn & Sports Bar\, offering a great chance to support the community and take home some quality cuts while enjoying a fun night out!
URL:https://burnettcountyfun.com/event/siren-lions-meat-raffle/2026-02-19/
LOCATION:The Pheasant Inn & Sports Bar\, 7694 West Main St\, Siren\, WI\, 54872
CATEGORIES:Charity/Fundraiser
ATTACH;FMTTYPE=image/jpeg:https://burnettcountyfun.com/wp-content/uploads/2025/02/inbound6919946331740657901.jpg
END:VEVENT
BEGIN:VEVENT
DTSTART;TZID=UTC:20260212T180000
DTEND;TZID=UTC:20260212T193000
DTSTAMP:20260424T023104
CREATED:20250221T172146Z
LAST-MODIFIED:20260113T000453Z
UID:10009838-1770919200-1770924600@burnettcountyfun.com
SUMMARY:Siren Lions Meat Raffle
DESCRIPTION:Looking for a fun way to spend your Thursday evening in Siren\, WI? The Siren Lions meat raffle runs every Thursday from 6:00 to 7:30 PM at The Pheasant Inn & Sports Bar\, offering a great chance to support the community and take home some quality cuts while enjoying a fun night out!
URL:https://burnettcountyfun.com/event/siren-lions-meat-raffle/2026-02-12/
LOCATION:The Pheasant Inn & Sports Bar\, 7694 West Main St\, Siren\, WI\, 54872
CATEGORIES:Charity/Fundraiser
ATTACH;FMTTYPE=image/jpeg:https://burnettcountyfun.com/wp-content/uploads/2025/02/inbound6919946331740657901.jpg
END:VEVENT
BEGIN:VEVENT
DTSTART;TZID=UTC:20260205T180000
DTEND;TZID=UTC:20260205T193000
DTSTAMP:20260424T023104
CREATED:20250221T172146Z
LAST-MODIFIED:20260113T000453Z
UID:10009837-1770314400-1770319800@burnettcountyfun.com
SUMMARY:Siren Lions Meat Raffle
DESCRIPTION:Looking for a fun way to spend your Thursday evening in Siren\, WI? The Siren Lions meat raffle runs every Thursday from 6:00 to 7:30 PM at The Pheasant Inn & Sports Bar\, offering a great chance to support the community and take home some quality cuts while enjoying a fun night out!
URL:https://burnettcountyfun.com/event/siren-lions-meat-raffle/2026-02-05/
LOCATION:The Pheasant Inn & Sports Bar\, 7694 West Main St\, Siren\, WI\, 54872
CATEGORIES:Charity/Fundraiser
ATTACH;FMTTYPE=image/jpeg:https://burnettcountyfun.com/wp-content/uploads/2025/02/inbound6919946331740657901.jpg
END:VEVENT
BEGIN:VEVENT
DTSTART;TZID=UTC:20260129T180000
DTEND;TZID=UTC:20260129T193000
DTSTAMP:20260424T023104
CREATED:20250221T172146Z
LAST-MODIFIED:20260113T000453Z
UID:10009836-1769709600-1769715000@burnettcountyfun.com
SUMMARY:Siren Lions Meat Raffle
DESCRIPTION:Looking for a fun way to spend your Thursday evening in Siren\, WI? The Siren Lions meat raffle runs every Thursday from 6:00 to 7:30 PM at The Pheasant Inn & Sports Bar\, offering a great chance to support the community and take home some quality cuts while enjoying a fun night out!
URL:https://burnettcountyfun.com/event/siren-lions-meat-raffle/2026-01-29/
LOCATION:The Pheasant Inn & Sports Bar\, 7694 West Main St\, Siren\, WI\, 54872
CATEGORIES:Charity/Fundraiser
ATTACH;FMTTYPE=image/jpeg:https://burnettcountyfun.com/wp-content/uploads/2025/02/inbound6919946331740657901.jpg
END:VEVENT
BEGIN:VEVENT
DTSTART;TZID=UTC:20260122T180000
DTEND;TZID=UTC:20260122T193000
DTSTAMP:20260424T023104
CREATED:20250221T172146Z
LAST-MODIFIED:20260113T000453Z
UID:10009835-1769104800-1769110200@burnettcountyfun.com
SUMMARY:Siren Lions Meat Raffle
DESCRIPTION:Looking for a fun way to spend your Thursday evening in Siren\, WI? The Siren Lions meat raffle runs every Thursday from 6:00 to 7:30 PM at The Pheasant Inn & Sports Bar\, offering a great chance to support the community and take home some quality cuts while enjoying a fun night out!
URL:https://burnettcountyfun.com/event/siren-lions-meat-raffle/2026-01-22/
LOCATION:The Pheasant Inn & Sports Bar\, 7694 West Main St\, Siren\, WI\, 54872
CATEGORIES:Charity/Fundraiser
ATTACH;FMTTYPE=image/jpeg:https://burnettcountyfun.com/wp-content/uploads/2025/02/inbound6919946331740657901.jpg
END:VEVENT
BEGIN:VEVENT
DTSTART;TZID=UTC:20260115T180000
DTEND;TZID=UTC:20260115T193000
DTSTAMP:20260424T023104
CREATED:20250221T172146Z
LAST-MODIFIED:20260113T000453Z
UID:10009834-1768500000-1768505400@burnettcountyfun.com
SUMMARY:Siren Lions Meat Raffle
DESCRIPTION:Looking for a fun way to spend your Thursday evening in Siren\, WI? The Siren Lions meat raffle runs every Thursday from 6:00 to 7:30 PM at The Pheasant Inn & Sports Bar\, offering a great chance to support the community and take home some quality cuts while enjoying a fun night out!
URL:https://burnettcountyfun.com/event/siren-lions-meat-raffle/2026-01-15/
LOCATION:The Pheasant Inn & Sports Bar\, 7694 West Main St\, Siren\, WI\, 54872
CATEGORIES:Charity/Fundraiser
ATTACH;FMTTYPE=image/jpeg:https://burnettcountyfun.com/wp-content/uploads/2025/02/inbound6919946331740657901.jpg
END:VEVENT
BEGIN:VEVENT
DTSTART;TZID=UTC:20260108T180000
DTEND;TZID=UTC:20260108T193000
DTSTAMP:20260424T023104
CREATED:20250221T172146Z
LAST-MODIFIED:20260113T000453Z
UID:10009833-1767895200-1767900600@burnettcountyfun.com
SUMMARY:Siren Lions Meat Raffle
DESCRIPTION:Looking for a fun way to spend your Thursday evening in Siren\, WI? The Siren Lions meat raffle runs every Thursday from 6:00 to 7:30 PM at The Pheasant Inn & Sports Bar\, offering a great chance to support the community and take home some quality cuts while enjoying a fun night out!
URL:https://burnettcountyfun.com/event/siren-lions-meat-raffle/2026-01-08/
LOCATION:The Pheasant Inn & Sports Bar\, 7694 West Main St\, Siren\, WI\, 54872
CATEGORIES:Charity/Fundraiser
ATTACH;FMTTYPE=image/jpeg:https://burnettcountyfun.com/wp-content/uploads/2025/02/inbound6919946331740657901.jpg
END:VEVENT
BEGIN:VEVENT
DTSTART;TZID=UTC:20260101T180000
DTEND;TZID=UTC:20260101T193000
DTSTAMP:20260424T023104
CREATED:20250221T172146Z
LAST-MODIFIED:20260113T000453Z
UID:10009832-1767290400-1767295800@burnettcountyfun.com
SUMMARY:Siren Lions Meat Raffle
DESCRIPTION:Looking for a fun way to spend your Thursday evening in Siren\, WI? The Siren Lions meat raffle runs every Thursday from 6:00 to 7:30 PM at The Pheasant Inn & Sports Bar\, offering a great chance to support the community and take home some quality cuts while enjoying a fun night out!
URL:https://burnettcountyfun.com/event/siren-lions-meat-raffle/2026-01-01/
LOCATION:The Pheasant Inn & Sports Bar\, 7694 West Main St\, Siren\, WI\, 54872
CATEGORIES:Charity/Fundraiser
ATTACH;FMTTYPE=image/jpeg:https://burnettcountyfun.com/wp-content/uploads/2025/02/inbound6919946331740657901.jpg
END:VEVENT
BEGIN:VEVENT
DTSTART;TZID=UTC:20251225T180000
DTEND;TZID=UTC:20251225T193000
DTSTAMP:20260424T023104
CREATED:20250221T172146Z
LAST-MODIFIED:20260113T000453Z
UID:10009831-1766685600-1766691000@burnettcountyfun.com
SUMMARY:Siren Lions Meat Raffle
DESCRIPTION:Looking for a fun way to spend your Thursday evening in Siren\, WI? The Siren Lions meat raffle runs every Thursday from 6:00 to 7:30 PM at The Pheasant Inn & Sports Bar\, offering a great chance to support the community and take home some quality cuts while enjoying a fun night out!
URL:https://burnettcountyfun.com/event/siren-lions-meat-raffle/2025-12-25/
LOCATION:The Pheasant Inn & Sports Bar\, 7694 West Main St\, Siren\, WI\, 54872
CATEGORIES:Charity/Fundraiser
ATTACH;FMTTYPE=image/jpeg:https://burnettcountyfun.com/wp-content/uploads/2025/02/inbound6919946331740657901.jpg
END:VEVENT
BEGIN:VEVENT
DTSTART;TZID=UTC:20251218T180000
DTEND;TZID=UTC:20251218T193000
DTSTAMP:20260424T023104
CREATED:20250221T172146Z
LAST-MODIFIED:20260113T000453Z
UID:10009830-1766080800-1766086200@burnettcountyfun.com
SUMMARY:Siren Lions Meat Raffle
DESCRIPTION:Looking for a fun way to spend your Thursday evening in Siren\, WI? The Siren Lions meat raffle runs every Thursday from 6:00 to 7:30 PM at The Pheasant Inn & Sports Bar\, offering a great chance to support the community and take home some quality cuts while enjoying a fun night out!
URL:https://burnettcountyfun.com/event/siren-lions-meat-raffle/2025-12-18/
LOCATION:The Pheasant Inn & Sports Bar\, 7694 West Main St\, Siren\, WI\, 54872
CATEGORIES:Charity/Fundraiser
ATTACH;FMTTYPE=image/jpeg:https://burnettcountyfun.com/wp-content/uploads/2025/02/inbound6919946331740657901.jpg
END:VEVENT
BEGIN:VEVENT
DTSTART;TZID=UTC:20251211T180000
DTEND;TZID=UTC:20251211T193000
DTSTAMP:20260424T023104
CREATED:20250221T172146Z
LAST-MODIFIED:20260113T000453Z
UID:10009829-1765476000-1765481400@burnettcountyfun.com
SUMMARY:Siren Lions Meat Raffle
DESCRIPTION:Looking for a fun way to spend your Thursday evening in Siren\, WI? The Siren Lions meat raffle runs every Thursday from 6:00 to 7:30 PM at The Pheasant Inn & Sports Bar\, offering a great chance to support the community and take home some quality cuts while enjoying a fun night out!
URL:https://burnettcountyfun.com/event/siren-lions-meat-raffle/2025-12-11/
LOCATION:The Pheasant Inn & Sports Bar\, 7694 West Main St\, Siren\, WI\, 54872
CATEGORIES:Charity/Fundraiser
ATTACH;FMTTYPE=image/jpeg:https://burnettcountyfun.com/wp-content/uploads/2025/02/inbound6919946331740657901.jpg
END:VEVENT
BEGIN:VEVENT
DTSTART;TZID=UTC:20251204T180000
DTEND;TZID=UTC:20251204T193000
DTSTAMP:20260424T023104
CREATED:20250221T172146Z
LAST-MODIFIED:20260113T000453Z
UID:10009828-1764871200-1764876600@burnettcountyfun.com
SUMMARY:Siren Lions Meat Raffle
DESCRIPTION:Looking for a fun way to spend your Thursday evening in Siren\, WI? The Siren Lions meat raffle runs every Thursday from 6:00 to 7:30 PM at The Pheasant Inn & Sports Bar\, offering a great chance to support the community and take home some quality cuts while enjoying a fun night out!
URL:https://burnettcountyfun.com/event/siren-lions-meat-raffle/2025-12-04/
LOCATION:The Pheasant Inn & Sports Bar\, 7694 West Main St\, Siren\, WI\, 54872
CATEGORIES:Charity/Fundraiser
ATTACH;FMTTYPE=image/jpeg:https://burnettcountyfun.com/wp-content/uploads/2025/02/inbound6919946331740657901.jpg
END:VEVENT
BEGIN:VEVENT
DTSTART;TZID=UTC:20251127T180000
DTEND;TZID=UTC:20251127T193000
DTSTAMP:20260424T023104
CREATED:20250221T172146Z
LAST-MODIFIED:20260113T000453Z
UID:10009827-1764266400-1764271800@burnettcountyfun.com
SUMMARY:Siren Lions Meat Raffle
DESCRIPTION:Looking for a fun way to spend your Thursday evening in Siren\, WI? The Siren Lions meat raffle runs every Thursday from 6:00 to 7:30 PM at The Pheasant Inn & Sports Bar\, offering a great chance to support the community and take home some quality cuts while enjoying a fun night out!
URL:https://burnettcountyfun.com/event/siren-lions-meat-raffle/2025-11-27/
LOCATION:The Pheasant Inn & Sports Bar\, 7694 West Main St\, Siren\, WI\, 54872
CATEGORIES:Charity/Fundraiser
ATTACH;FMTTYPE=image/jpeg:https://burnettcountyfun.com/wp-content/uploads/2025/02/inbound6919946331740657901.jpg
END:VEVENT
BEGIN:VEVENT
DTSTART;TZID=UTC:20251120T180000
DTEND;TZID=UTC:20251120T193000
DTSTAMP:20260424T023104
CREATED:20250221T172146Z
LAST-MODIFIED:20260113T000453Z
UID:10009826-1763661600-1763667000@burnettcountyfun.com
SUMMARY:Siren Lions Meat Raffle
DESCRIPTION:Looking for a fun way to spend your Thursday evening in Siren\, WI? The Siren Lions meat raffle runs every Thursday from 6:00 to 7:30 PM at The Pheasant Inn & Sports Bar\, offering a great chance to support the community and take home some quality cuts while enjoying a fun night out!
URL:https://burnettcountyfun.com/event/siren-lions-meat-raffle/2025-11-20/
LOCATION:The Pheasant Inn & Sports Bar\, 7694 West Main St\, Siren\, WI\, 54872
CATEGORIES:Charity/Fundraiser
ATTACH;FMTTYPE=image/jpeg:https://burnettcountyfun.com/wp-content/uploads/2025/02/inbound6919946331740657901.jpg
END:VEVENT
BEGIN:VEVENT
DTSTART;TZID=UTC:20251113T180000
DTEND;TZID=UTC:20251113T193000
DTSTAMP:20260424T023104
CREATED:20250221T172146Z
LAST-MODIFIED:20260113T000453Z
UID:10009825-1763056800-1763062200@burnettcountyfun.com
SUMMARY:Siren Lions Meat Raffle
DESCRIPTION:Looking for a fun way to spend your Thursday evening in Siren\, WI? The Siren Lions meat raffle runs every Thursday from 6:00 to 7:30 PM at The Pheasant Inn & Sports Bar\, offering a great chance to support the community and take home some quality cuts while enjoying a fun night out!
URL:https://burnettcountyfun.com/event/siren-lions-meat-raffle/2025-11-13/
LOCATION:The Pheasant Inn & Sports Bar\, 7694 West Main St\, Siren\, WI\, 54872
CATEGORIES:Charity/Fundraiser
ATTACH;FMTTYPE=image/jpeg:https://burnettcountyfun.com/wp-content/uploads/2025/02/inbound6919946331740657901.jpg
END:VEVENT
BEGIN:VEVENT
DTSTART;TZID=UTC:20251106T180000
DTEND;TZID=UTC:20251106T193000
DTSTAMP:20260424T023104
CREATED:20250221T172146Z
LAST-MODIFIED:20260113T000453Z
UID:10009824-1762452000-1762457400@burnettcountyfun.com
SUMMARY:Siren Lions Meat Raffle
DESCRIPTION:Looking for a fun way to spend your Thursday evening in Siren\, WI? The Siren Lions meat raffle runs every Thursday from 6:00 to 7:30 PM at The Pheasant Inn & Sports Bar\, offering a great chance to support the community and take home some quality cuts while enjoying a fun night out!
URL:https://burnettcountyfun.com/event/siren-lions-meat-raffle/2025-11-06/
LOCATION:The Pheasant Inn & Sports Bar\, 7694 West Main St\, Siren\, WI\, 54872
CATEGORIES:Charity/Fundraiser
ATTACH;FMTTYPE=image/jpeg:https://burnettcountyfun.com/wp-content/uploads/2025/02/inbound6919946331740657901.jpg
END:VEVENT
BEGIN:VEVENT
DTSTART;TZID=UTC:20251030T180000
DTEND;TZID=UTC:20251030T193000
DTSTAMP:20260424T023104
CREATED:20250221T172146Z
LAST-MODIFIED:20260113T000453Z
UID:10009823-1761847200-1761852600@burnettcountyfun.com
SUMMARY:Siren Lions Meat Raffle
DESCRIPTION:Looking for a fun way to spend your Thursday evening in Siren\, WI? The Siren Lions meat raffle runs every Thursday from 6:00 to 7:30 PM at The Pheasant Inn & Sports Bar\, offering a great chance to support the community and take home some quality cuts while enjoying a fun night out!
URL:https://burnettcountyfun.com/event/siren-lions-meat-raffle/2025-10-30/
LOCATION:The Pheasant Inn & Sports Bar\, 7694 West Main St\, Siren\, WI\, 54872
CATEGORIES:Charity/Fundraiser
ATTACH;FMTTYPE=image/jpeg:https://burnettcountyfun.com/wp-content/uploads/2025/02/inbound6919946331740657901.jpg
END:VEVENT
BEGIN:VEVENT
DTSTART;TZID=UTC:20251023T180000
DTEND;TZID=UTC:20251023T193000
DTSTAMP:20260424T023104
CREATED:20250221T172146Z
LAST-MODIFIED:20260113T000453Z
UID:10009822-1761242400-1761247800@burnettcountyfun.com
SUMMARY:Siren Lions Meat Raffle
DESCRIPTION:Looking for a fun way to spend your Thursday evening in Siren\, WI? The Siren Lions meat raffle runs every Thursday from 6:00 to 7:30 PM at The Pheasant Inn & Sports Bar\, offering a great chance to support the community and take home some quality cuts while enjoying a fun night out!
URL:https://burnettcountyfun.com/event/siren-lions-meat-raffle/2025-10-23/
LOCATION:The Pheasant Inn & Sports Bar\, 7694 West Main St\, Siren\, WI\, 54872
CATEGORIES:Charity/Fundraiser
ATTACH;FMTTYPE=image/jpeg:https://burnettcountyfun.com/wp-content/uploads/2025/02/inbound6919946331740657901.jpg
END:VEVENT
BEGIN:VEVENT
DTSTART;TZID=UTC:20251016T180000
DTEND;TZID=UTC:20251016T193000
DTSTAMP:20260424T023104
CREATED:20250221T172146Z
LAST-MODIFIED:20260113T000453Z
UID:10009821-1760637600-1760643000@burnettcountyfun.com
SUMMARY:Siren Lions Meat Raffle
DESCRIPTION:Looking for a fun way to spend your Thursday evening in Siren\, WI? The Siren Lions meat raffle runs every Thursday from 6:00 to 7:30 PM at The Pheasant Inn & Sports Bar\, offering a great chance to support the community and take home some quality cuts while enjoying a fun night out!
URL:https://burnettcountyfun.com/event/siren-lions-meat-raffle/2025-10-16/
LOCATION:The Pheasant Inn & Sports Bar\, 7694 West Main St\, Siren\, WI\, 54872
CATEGORIES:Charity/Fundraiser
ATTACH;FMTTYPE=image/jpeg:https://burnettcountyfun.com/wp-content/uploads/2025/02/inbound6919946331740657901.jpg
END:VEVENT
BEGIN:VEVENT
DTSTART;TZID=UTC:20251009T180000
DTEND;TZID=UTC:20251009T193000
DTSTAMP:20260424T023104
CREATED:20250221T172146Z
LAST-MODIFIED:20260113T000453Z
UID:10009820-1760032800-1760038200@burnettcountyfun.com
SUMMARY:Siren Lions Meat Raffle
DESCRIPTION:Looking for a fun way to spend your Thursday evening in Siren\, WI? The Siren Lions meat raffle runs every Thursday from 6:00 to 7:30 PM at The Pheasant Inn & Sports Bar\, offering a great chance to support the community and take home some quality cuts while enjoying a fun night out!
URL:https://burnettcountyfun.com/event/siren-lions-meat-raffle/2025-10-09/
LOCATION:The Pheasant Inn & Sports Bar\, 7694 West Main St\, Siren\, WI\, 54872
CATEGORIES:Charity/Fundraiser
ATTACH;FMTTYPE=image/jpeg:https://burnettcountyfun.com/wp-content/uploads/2025/02/inbound6919946331740657901.jpg
END:VEVENT
BEGIN:VEVENT
DTSTART;TZID=UTC:20251002T180000
DTEND;TZID=UTC:20251002T193000
DTSTAMP:20260424T023104
CREATED:20250221T172146Z
LAST-MODIFIED:20260113T000453Z
UID:10009819-1759428000-1759433400@burnettcountyfun.com
SUMMARY:Siren Lions Meat Raffle
DESCRIPTION:Looking for a fun way to spend your Thursday evening in Siren\, WI? The Siren Lions meat raffle runs every Thursday from 6:00 to 7:30 PM at The Pheasant Inn & Sports Bar\, offering a great chance to support the community and take home some quality cuts while enjoying a fun night out!
URL:https://burnettcountyfun.com/event/siren-lions-meat-raffle/2025-10-02/
LOCATION:The Pheasant Inn & Sports Bar\, 7694 West Main St\, Siren\, WI\, 54872
CATEGORIES:Charity/Fundraiser
ATTACH;FMTTYPE=image/jpeg:https://burnettcountyfun.com/wp-content/uploads/2025/02/inbound6919946331740657901.jpg
END:VEVENT
END:VCALENDAR