BEGIN:VCALENDAR
VERSION:2.0
PRODID:-//Burnett County, Wisconsin - ECPv6.15.20//NONSGML v1.0//EN
CALSCALE:GREGORIAN
METHOD:PUBLISH
X-ORIGINAL-URL:https://burnettcountyfun.com
X-WR-CALDESC:Events for Burnett County, Wisconsin
REFRESH-INTERVAL;VALUE=DURATION:PT1H
X-Robots-Tag:noindex
X-PUBLISHED-TTL:PT1H
BEGIN:VTIMEZONE
TZID:UTC
BEGIN:STANDARD
TZOFFSETFROM:+0000
TZOFFSETTO:+0000
TZNAME:UTC
DTSTART:20250101T000000
END:STANDARD
END:VTIMEZONE
BEGIN:VTIMEZONE
TZID:America/Chicago
BEGIN:DAYLIGHT
TZOFFSETFROM:-0600
TZOFFSETTO:-0500
TZNAME:CDT
DTSTART:20250309T080000
END:DAYLIGHT
BEGIN:STANDARD
TZOFFSETFROM:-0500
TZOFFSETTO:-0600
TZNAME:CST
DTSTART:20251102T070000
END:STANDARD
BEGIN:DAYLIGHT
TZOFFSETFROM:-0600
TZOFFSETTO:-0500
TZNAME:CDT
DTSTART:20260308T080000
END:DAYLIGHT
BEGIN:STANDARD
TZOFFSETFROM:-0500
TZOFFSETTO:-0600
TZNAME:CST
DTSTART:20261101T070000
END:STANDARD
BEGIN:DAYLIGHT
TZOFFSETFROM:-0600
TZOFFSETTO:-0500
TZNAME:CDT
DTSTART:20270314T080000
END:DAYLIGHT
BEGIN:STANDARD
TZOFFSETFROM:-0500
TZOFFSETTO:-0600
TZNAME:CST
DTSTART:20271107T070000
END:STANDARD
END:VTIMEZONE
BEGIN:VEVENT
DTSTART;TZID=UTC:20260426T110000
DTEND;TZID=UTC:20260426T123000
DTSTAMP:20260423T100155
CREATED:20230805T051346Z
LAST-MODIFIED:20230805T051346Z
UID:10003095-1777201200-1777206600@burnettcountyfun.com
SUMMARY:Meat Bingo | Coyland Creek
DESCRIPTION:Come visit us at Coyland Creek on Sundays for Meat Bingo\, featuring a bloody mary bar\, starting at 11am!
URL:https://burnettcountyfun.com/event/meat-bingo-coyland-creek/2026-04-26/
LOCATION:Coyland Creek\, 5400 Town Line Road\, Frederic\, WI\, 54837\, United States
CATEGORIES:Food/Beverage
END:VEVENT
BEGIN:VEVENT
DTSTART;TZID=UTC:20260503T110000
DTEND;TZID=UTC:20260503T123000
DTSTAMP:20260423T100155
CREATED:20230805T051346Z
LAST-MODIFIED:20230805T051346Z
UID:10003096-1777806000-1777811400@burnettcountyfun.com
SUMMARY:Meat Bingo | Coyland Creek
DESCRIPTION:Come visit us at Coyland Creek on Sundays for Meat Bingo\, featuring a bloody mary bar\, starting at 11am!
URL:https://burnettcountyfun.com/event/meat-bingo-coyland-creek/2026-05-03/
LOCATION:Coyland Creek\, 5400 Town Line Road\, Frederic\, WI\, 54837\, United States
CATEGORIES:Food/Beverage
END:VEVENT
BEGIN:VEVENT
DTSTART;TZID=America/Chicago:20260509T130000
DTEND;TZID=America/Chicago:20260509T170000
DTSTAMP:20260423T100155
CREATED:20260325T004225Z
LAST-MODIFIED:20260325T004225Z
UID:10015452-1778331600-1778346000@burnettcountyfun.com
SUMMARY:Mothers day Purse bingo!
DESCRIPTION:PURSE BINGO AT COYLAND. SOCIAL HOUR AT 1~2\, BINGO STARTS AT 2! 12 REGULAR PACKET GAMES AND 3 BONUS GAMES. TICKETS ARE $45/ PACKET (Bonus packets are Extra $20 at the door if you wish). Extra fun free random games for purses as well! DAUBERS will be available for purchase at the door $2! 70 PEOPLE MAX PM me you would like to attend & Venmo me your $45 (mine is kelsie-coyour and the last four of my phone is 6012). YOu can also call in with payment to coyland or stop by and sign up & pay at the bar. 715.653.4273. PICK UP PACKETS THE DAY OF. NO DOOR ENTRIES 🙂 CASH BAR FOR DRINKS. NO KIDS~NO MEN! WE WILL POST PICS OF THE PURSES SHORTLY! Bingo will be in the pavilion 🙂 Great Mothers day Gift
URL:https://burnettcountyfun.com/event/mothers-day-purse-bingo/
LOCATION:Coyland Creek\, 5400 Town Line Road\, Frederic\, WI\, 54837\, United States
CATEGORIES:Food/Beverage
ATTACH;FMTTYPE=image/jpeg:https://burnettcountyfun.com/wp-content/uploads/2026/03/purse-bingo.jpg
END:VEVENT
BEGIN:VEVENT
DTSTART;TZID=UTC:20260510T110000
DTEND;TZID=UTC:20260510T123000
DTSTAMP:20260423T100155
CREATED:20230805T051346Z
LAST-MODIFIED:20230805T051346Z
UID:10003097-1778410800-1778416200@burnettcountyfun.com
SUMMARY:Meat Bingo | Coyland Creek
DESCRIPTION:Come visit us at Coyland Creek on Sundays for Meat Bingo\, featuring a bloody mary bar\, starting at 11am!
URL:https://burnettcountyfun.com/event/meat-bingo-coyland-creek/2026-05-10/
LOCATION:Coyland Creek\, 5400 Town Line Road\, Frederic\, WI\, 54837\, United States
CATEGORIES:Food/Beverage
END:VEVENT
BEGIN:VEVENT
DTSTART;TZID=America/Chicago:20260516T130000
DTEND;TZID=America/Chicago:20260516T170000
DTSTAMP:20260423T100155
CREATED:20260325T004511Z
LAST-MODIFIED:20260325T004511Z
UID:10015453-1778936400-1778950800@burnettcountyfun.com
SUMMARY:Gun Bingo
DESCRIPTION:Join us for Gun Bingo on Saturday May 16th! Tickets are limited to 100 people\, and priced at $100. There will be 12 regular games and 3 bonus games (for purchase at the door)\, and the average cost per gun is $800.00.\nSocial hour is at 1PM and bingo starts at 2pm.\nCall Coyland\, send us a message\, or come on out to grab your ticket! Tickets only sold ahead of time! No kids 🙂\nCall 715.653.4273 or PM to sign up and you can venmo kelsie-coyour and the last 4 of my phone are 6012
URL:https://burnettcountyfun.com/event/gun-bingo/
LOCATION:Coyland Creek\, 5400 Town Line Road\, Frederic\, WI\, 54837\, United States
CATEGORIES:Food/Beverage,Sports
ATTACH;FMTTYPE=image/jpeg:https://burnettcountyfun.com/wp-content/uploads/2026/03/gun-bingo.jpg
END:VEVENT
BEGIN:VEVENT
DTSTART;TZID=UTC:20260517T110000
DTEND;TZID=UTC:20260517T123000
DTSTAMP:20260423T100155
CREATED:20230805T051346Z
LAST-MODIFIED:20230805T051346Z
UID:10003098-1779015600-1779021000@burnettcountyfun.com
SUMMARY:Meat Bingo | Coyland Creek
DESCRIPTION:Come visit us at Coyland Creek on Sundays for Meat Bingo\, featuring a bloody mary bar\, starting at 11am!
URL:https://burnettcountyfun.com/event/meat-bingo-coyland-creek/2026-05-17/
LOCATION:Coyland Creek\, 5400 Town Line Road\, Frederic\, WI\, 54837\, United States
CATEGORIES:Food/Beverage
END:VEVENT
BEGIN:VEVENT
DTSTART;TZID=America/Chicago:20260522T160000
DTEND;TZID=America/Chicago:20260523T000000
DTSTAMP:20260423T100155
CREATED:20260325T005358Z
LAST-MODIFIED:20260325T005358Z
UID:10015454-1779465600-1779494400@burnettcountyfun.com
SUMMARY:Summer Kick off Party
DESCRIPTION:🎉 **SAVE THE DATE!** 🎉\nKick off your summer with us at **The Bins** ☀️🍻\n🎶 **Friday\, May 22nd**\n🔥 Live music by *Legacy of the Loud* starting at 7PM\nGet ready for a night full of:\n🍺 Cold beer 4PM~midnight\n🍔 Yummy eats 5:30~8:30PM\n🎵 Great tunes starting at 7PM\n😎 Good times with even better people\nGrab your friends\, mark your calendars\, and let’s start summer the right way! We can’t wait to see you all there 🙌🎉
URL:https://burnettcountyfun.com/event/summer-kick-off-party/
LOCATION:Coyland Creek\, 5400 Town Line Road\, Frederic\, WI\, 54837\, United States
CATEGORIES:Festival,Food/Beverage,Music
ATTACH;FMTTYPE=image/jpeg:https://burnettcountyfun.com/wp-content/uploads/2026/03/bins-2026.jpg
END:VEVENT
BEGIN:VEVENT
DTSTART;TZID=UTC:20260524T110000
DTEND;TZID=UTC:20260524T123000
DTSTAMP:20260423T100155
CREATED:20230805T051346Z
LAST-MODIFIED:20230805T051346Z
UID:10003099-1779620400-1779625800@burnettcountyfun.com
SUMMARY:Meat Bingo | Coyland Creek
DESCRIPTION:Come visit us at Coyland Creek on Sundays for Meat Bingo\, featuring a bloody mary bar\, starting at 11am!
URL:https://burnettcountyfun.com/event/meat-bingo-coyland-creek/2026-05-24/
LOCATION:Coyland Creek\, 5400 Town Line Road\, Frederic\, WI\, 54837\, United States
CATEGORIES:Food/Beverage
END:VEVENT
BEGIN:VEVENT
DTSTART;TZID=UTC:20260531T110000
DTEND;TZID=UTC:20260531T123000
DTSTAMP:20260423T100155
CREATED:20230805T051346Z
LAST-MODIFIED:20230805T051346Z
UID:10003100-1780225200-1780230600@burnettcountyfun.com
SUMMARY:Meat Bingo | Coyland Creek
DESCRIPTION:Come visit us at Coyland Creek on Sundays for Meat Bingo\, featuring a bloody mary bar\, starting at 11am!
URL:https://burnettcountyfun.com/event/meat-bingo-coyland-creek/2026-05-31/
LOCATION:Coyland Creek\, 5400 Town Line Road\, Frederic\, WI\, 54837\, United States
CATEGORIES:Food/Beverage
END:VEVENT
BEGIN:VEVENT
DTSTART;TZID=UTC:20260607T110000
DTEND;TZID=UTC:20260607T123000
DTSTAMP:20260423T100155
CREATED:20230805T051346Z
LAST-MODIFIED:20230805T051346Z
UID:10003101-1780830000-1780835400@burnettcountyfun.com
SUMMARY:Meat Bingo | Coyland Creek
DESCRIPTION:Come visit us at Coyland Creek on Sundays for Meat Bingo\, featuring a bloody mary bar\, starting at 11am!
URL:https://burnettcountyfun.com/event/meat-bingo-coyland-creek/2026-06-07/
LOCATION:Coyland Creek\, 5400 Town Line Road\, Frederic\, WI\, 54837\, United States
CATEGORIES:Food/Beverage
END:VEVENT
BEGIN:VEVENT
DTSTART;TZID=UTC:20260614T110000
DTEND;TZID=UTC:20260614T123000
DTSTAMP:20260423T100155
CREATED:20230805T051346Z
LAST-MODIFIED:20230805T051346Z
UID:10003102-1781434800-1781440200@burnettcountyfun.com
SUMMARY:Meat Bingo | Coyland Creek
DESCRIPTION:Come visit us at Coyland Creek on Sundays for Meat Bingo\, featuring a bloody mary bar\, starting at 11am!
URL:https://burnettcountyfun.com/event/meat-bingo-coyland-creek/2026-06-14/
LOCATION:Coyland Creek\, 5400 Town Line Road\, Frederic\, WI\, 54837\, United States
CATEGORIES:Food/Beverage
END:VEVENT
BEGIN:VEVENT
DTSTART;TZID=UTC:20260621T110000
DTEND;TZID=UTC:20260621T123000
DTSTAMP:20260423T100155
CREATED:20230805T051346Z
LAST-MODIFIED:20230805T051346Z
UID:10003103-1782039600-1782045000@burnettcountyfun.com
SUMMARY:Meat Bingo | Coyland Creek
DESCRIPTION:Come visit us at Coyland Creek on Sundays for Meat Bingo\, featuring a bloody mary bar\, starting at 11am!
URL:https://burnettcountyfun.com/event/meat-bingo-coyland-creek/2026-06-21/
LOCATION:Coyland Creek\, 5400 Town Line Road\, Frederic\, WI\, 54837\, United States
CATEGORIES:Food/Beverage
END:VEVENT
BEGIN:VEVENT
DTSTART;TZID=UTC:20260628T110000
DTEND;TZID=UTC:20260628T123000
DTSTAMP:20260423T100155
CREATED:20230805T051346Z
LAST-MODIFIED:20230805T051346Z
UID:10003104-1782644400-1782649800@burnettcountyfun.com
SUMMARY:Meat Bingo | Coyland Creek
DESCRIPTION:Come visit us at Coyland Creek on Sundays for Meat Bingo\, featuring a bloody mary bar\, starting at 11am!
URL:https://burnettcountyfun.com/event/meat-bingo-coyland-creek/2026-06-28/
LOCATION:Coyland Creek\, 5400 Town Line Road\, Frederic\, WI\, 54837\, United States
CATEGORIES:Food/Beverage
END:VEVENT
BEGIN:VEVENT
DTSTART;TZID=UTC:20260705T110000
DTEND;TZID=UTC:20260705T123000
DTSTAMP:20260423T100155
CREATED:20230805T051346Z
LAST-MODIFIED:20230805T051346Z
UID:10003105-1783249200-1783254600@burnettcountyfun.com
SUMMARY:Meat Bingo | Coyland Creek
DESCRIPTION:Come visit us at Coyland Creek on Sundays for Meat Bingo\, featuring a bloody mary bar\, starting at 11am!
URL:https://burnettcountyfun.com/event/meat-bingo-coyland-creek/2026-07-05/
LOCATION:Coyland Creek\, 5400 Town Line Road\, Frederic\, WI\, 54837\, United States
CATEGORIES:Food/Beverage
END:VEVENT
BEGIN:VEVENT
DTSTART;TZID=UTC:20260712T110000
DTEND;TZID=UTC:20260712T123000
DTSTAMP:20260423T100155
CREATED:20230805T051346Z
LAST-MODIFIED:20230805T051346Z
UID:10003106-1783854000-1783859400@burnettcountyfun.com
SUMMARY:Meat Bingo | Coyland Creek
DESCRIPTION:Come visit us at Coyland Creek on Sundays for Meat Bingo\, featuring a bloody mary bar\, starting at 11am!
URL:https://burnettcountyfun.com/event/meat-bingo-coyland-creek/2026-07-12/
LOCATION:Coyland Creek\, 5400 Town Line Road\, Frederic\, WI\, 54837\, United States
CATEGORIES:Food/Beverage
END:VEVENT
BEGIN:VEVENT
DTSTART;TZID=UTC:20260719T110000
DTEND;TZID=UTC:20260719T123000
DTSTAMP:20260423T100155
CREATED:20230805T051346Z
LAST-MODIFIED:20230805T051346Z
UID:10003107-1784458800-1784464200@burnettcountyfun.com
SUMMARY:Meat Bingo | Coyland Creek
DESCRIPTION:Come visit us at Coyland Creek on Sundays for Meat Bingo\, featuring a bloody mary bar\, starting at 11am!
URL:https://burnettcountyfun.com/event/meat-bingo-coyland-creek/2026-07-19/
LOCATION:Coyland Creek\, 5400 Town Line Road\, Frederic\, WI\, 54837\, United States
CATEGORIES:Food/Beverage
END:VEVENT
BEGIN:VEVENT
DTSTART;TZID=UTC:20260726T110000
DTEND;TZID=UTC:20260726T123000
DTSTAMP:20260423T100155
CREATED:20230805T051346Z
LAST-MODIFIED:20230805T051346Z
UID:10003108-1785063600-1785069000@burnettcountyfun.com
SUMMARY:Meat Bingo | Coyland Creek
DESCRIPTION:Come visit us at Coyland Creek on Sundays for Meat Bingo\, featuring a bloody mary bar\, starting at 11am!
URL:https://burnettcountyfun.com/event/meat-bingo-coyland-creek/2026-07-26/
LOCATION:Coyland Creek\, 5400 Town Line Road\, Frederic\, WI\, 54837\, United States
CATEGORIES:Food/Beverage
END:VEVENT
BEGIN:VEVENT
DTSTART;TZID=UTC:20260802T110000
DTEND;TZID=UTC:20260802T123000
DTSTAMP:20260423T100155
CREATED:20230805T051346Z
LAST-MODIFIED:20230805T051346Z
UID:10003109-1785668400-1785673800@burnettcountyfun.com
SUMMARY:Meat Bingo | Coyland Creek
DESCRIPTION:Come visit us at Coyland Creek on Sundays for Meat Bingo\, featuring a bloody mary bar\, starting at 11am!
URL:https://burnettcountyfun.com/event/meat-bingo-coyland-creek/2026-08-02/
LOCATION:Coyland Creek\, 5400 Town Line Road\, Frederic\, WI\, 54837\, United States
CATEGORIES:Food/Beverage
END:VEVENT
BEGIN:VEVENT
DTSTART;TZID=UTC:20260809T110000
DTEND;TZID=UTC:20260809T123000
DTSTAMP:20260423T100155
CREATED:20230805T051346Z
LAST-MODIFIED:20230805T051346Z
UID:10003110-1786273200-1786278600@burnettcountyfun.com
SUMMARY:Meat Bingo | Coyland Creek
DESCRIPTION:Come visit us at Coyland Creek on Sundays for Meat Bingo\, featuring a bloody mary bar\, starting at 11am!
URL:https://burnettcountyfun.com/event/meat-bingo-coyland-creek/2026-08-09/
LOCATION:Coyland Creek\, 5400 Town Line Road\, Frederic\, WI\, 54837\, United States
CATEGORIES:Food/Beverage
END:VEVENT
BEGIN:VEVENT
DTSTART;TZID=UTC:20260816T110000
DTEND;TZID=UTC:20260816T123000
DTSTAMP:20260423T100155
CREATED:20230805T051346Z
LAST-MODIFIED:20230805T051346Z
UID:10003111-1786878000-1786883400@burnettcountyfun.com
SUMMARY:Meat Bingo | Coyland Creek
DESCRIPTION:Come visit us at Coyland Creek on Sundays for Meat Bingo\, featuring a bloody mary bar\, starting at 11am!
URL:https://burnettcountyfun.com/event/meat-bingo-coyland-creek/2026-08-16/
LOCATION:Coyland Creek\, 5400 Town Line Road\, Frederic\, WI\, 54837\, United States
CATEGORIES:Food/Beverage
END:VEVENT
BEGIN:VEVENT
DTSTART;TZID=UTC:20260823T110000
DTEND;TZID=UTC:20260823T123000
DTSTAMP:20260423T100155
CREATED:20230805T051346Z
LAST-MODIFIED:20230805T051346Z
UID:10003112-1787482800-1787488200@burnettcountyfun.com
SUMMARY:Meat Bingo | Coyland Creek
DESCRIPTION:Come visit us at Coyland Creek on Sundays for Meat Bingo\, featuring a bloody mary bar\, starting at 11am!
URL:https://burnettcountyfun.com/event/meat-bingo-coyland-creek/2026-08-23/
LOCATION:Coyland Creek\, 5400 Town Line Road\, Frederic\, WI\, 54837\, United States
CATEGORIES:Food/Beverage
END:VEVENT
BEGIN:VEVENT
DTSTART;TZID=UTC:20260830T110000
DTEND;TZID=UTC:20260830T123000
DTSTAMP:20260423T100155
CREATED:20230805T051346Z
LAST-MODIFIED:20230805T051346Z
UID:10003113-1788087600-1788093000@burnettcountyfun.com
SUMMARY:Meat Bingo | Coyland Creek
DESCRIPTION:Come visit us at Coyland Creek on Sundays for Meat Bingo\, featuring a bloody mary bar\, starting at 11am!
URL:https://burnettcountyfun.com/event/meat-bingo-coyland-creek/2026-08-30/
LOCATION:Coyland Creek\, 5400 Town Line Road\, Frederic\, WI\, 54837\, United States
CATEGORIES:Food/Beverage
END:VEVENT
BEGIN:VEVENT
DTSTART;TZID=UTC:20260906T110000
DTEND;TZID=UTC:20260906T123000
DTSTAMP:20260423T100155
CREATED:20230805T051346Z
LAST-MODIFIED:20230805T051346Z
UID:10003114-1788692400-1788697800@burnettcountyfun.com
SUMMARY:Meat Bingo | Coyland Creek
DESCRIPTION:Come visit us at Coyland Creek on Sundays for Meat Bingo\, featuring a bloody mary bar\, starting at 11am!
URL:https://burnettcountyfun.com/event/meat-bingo-coyland-creek/2026-09-06/
LOCATION:Coyland Creek\, 5400 Town Line Road\, Frederic\, WI\, 54837\, United States
CATEGORIES:Food/Beverage
END:VEVENT
BEGIN:VEVENT
DTSTART;TZID=UTC:20260913T110000
DTEND;TZID=UTC:20260913T123000
DTSTAMP:20260423T100155
CREATED:20230805T051346Z
LAST-MODIFIED:20230805T051346Z
UID:10003115-1789297200-1789302600@burnettcountyfun.com
SUMMARY:Meat Bingo | Coyland Creek
DESCRIPTION:Come visit us at Coyland Creek on Sundays for Meat Bingo\, featuring a bloody mary bar\, starting at 11am!
URL:https://burnettcountyfun.com/event/meat-bingo-coyland-creek/2026-09-13/
LOCATION:Coyland Creek\, 5400 Town Line Road\, Frederic\, WI\, 54837\, United States
CATEGORIES:Food/Beverage
END:VEVENT
BEGIN:VEVENT
DTSTART;TZID=UTC:20260920T110000
DTEND;TZID=UTC:20260920T123000
DTSTAMP:20260423T100155
CREATED:20230805T051346Z
LAST-MODIFIED:20230805T051346Z
UID:10003116-1789902000-1789907400@burnettcountyfun.com
SUMMARY:Meat Bingo | Coyland Creek
DESCRIPTION:Come visit us at Coyland Creek on Sundays for Meat Bingo\, featuring a bloody mary bar\, starting at 11am!
URL:https://burnettcountyfun.com/event/meat-bingo-coyland-creek/2026-09-20/
LOCATION:Coyland Creek\, 5400 Town Line Road\, Frederic\, WI\, 54837\, United States
CATEGORIES:Food/Beverage
END:VEVENT
BEGIN:VEVENT
DTSTART;TZID=UTC:20260927T110000
DTEND;TZID=UTC:20260927T123000
DTSTAMP:20260423T100155
CREATED:20230805T051346Z
LAST-MODIFIED:20230805T051346Z
UID:10003117-1790506800-1790512200@burnettcountyfun.com
SUMMARY:Meat Bingo | Coyland Creek
DESCRIPTION:Come visit us at Coyland Creek on Sundays for Meat Bingo\, featuring a bloody mary bar\, starting at 11am!
URL:https://burnettcountyfun.com/event/meat-bingo-coyland-creek/2026-09-27/
LOCATION:Coyland Creek\, 5400 Town Line Road\, Frederic\, WI\, 54837\, United States
CATEGORIES:Food/Beverage
END:VEVENT
BEGIN:VEVENT
DTSTART;TZID=UTC:20261004T110000
DTEND;TZID=UTC:20261004T123000
DTSTAMP:20260423T100155
CREATED:20230805T051346Z
LAST-MODIFIED:20230805T051346Z
UID:10003118-1791111600-1791117000@burnettcountyfun.com
SUMMARY:Meat Bingo | Coyland Creek
DESCRIPTION:Come visit us at Coyland Creek on Sundays for Meat Bingo\, featuring a bloody mary bar\, starting at 11am!
URL:https://burnettcountyfun.com/event/meat-bingo-coyland-creek/2026-10-04/
LOCATION:Coyland Creek\, 5400 Town Line Road\, Frederic\, WI\, 54837\, United States
CATEGORIES:Food/Beverage
END:VEVENT
BEGIN:VEVENT
DTSTART;TZID=UTC:20261011T110000
DTEND;TZID=UTC:20261011T123000
DTSTAMP:20260423T100155
CREATED:20230805T051346Z
LAST-MODIFIED:20230805T051346Z
UID:10003119-1791716400-1791721800@burnettcountyfun.com
SUMMARY:Meat Bingo | Coyland Creek
DESCRIPTION:Come visit us at Coyland Creek on Sundays for Meat Bingo\, featuring a bloody mary bar\, starting at 11am!
URL:https://burnettcountyfun.com/event/meat-bingo-coyland-creek/2026-10-11/
LOCATION:Coyland Creek\, 5400 Town Line Road\, Frederic\, WI\, 54837\, United States
CATEGORIES:Food/Beverage
END:VEVENT
BEGIN:VEVENT
DTSTART;TZID=UTC:20261018T110000
DTEND;TZID=UTC:20261018T123000
DTSTAMP:20260423T100155
CREATED:20230805T051346Z
LAST-MODIFIED:20230805T051346Z
UID:10003120-1792321200-1792326600@burnettcountyfun.com
SUMMARY:Meat Bingo | Coyland Creek
DESCRIPTION:Come visit us at Coyland Creek on Sundays for Meat Bingo\, featuring a bloody mary bar\, starting at 11am!
URL:https://burnettcountyfun.com/event/meat-bingo-coyland-creek/2026-10-18/
LOCATION:Coyland Creek\, 5400 Town Line Road\, Frederic\, WI\, 54837\, United States
CATEGORIES:Food/Beverage
END:VEVENT
BEGIN:VEVENT
DTSTART;TZID=UTC:20261025T110000
DTEND;TZID=UTC:20261025T123000
DTSTAMP:20260423T100155
CREATED:20230805T051346Z
LAST-MODIFIED:20230805T051346Z
UID:10003121-1792926000-1792931400@burnettcountyfun.com
SUMMARY:Meat Bingo | Coyland Creek
DESCRIPTION:Come visit us at Coyland Creek on Sundays for Meat Bingo\, featuring a bloody mary bar\, starting at 11am!
URL:https://burnettcountyfun.com/event/meat-bingo-coyland-creek/2026-10-25/
LOCATION:Coyland Creek\, 5400 Town Line Road\, Frederic\, WI\, 54837\, United States
CATEGORIES:Food/Beverage
END:VEVENT
END:VCALENDAR