BEGIN:VCALENDAR
VERSION:2.0
PRODID:-//Burnett County, Wisconsin - ECPv6.15.20//NONSGML v1.0//EN
CALSCALE:GREGORIAN
METHOD:PUBLISH
X-ORIGINAL-URL:https://burnettcountyfun.com
X-WR-CALDESC:Events for Burnett County, Wisconsin
REFRESH-INTERVAL;VALUE=DURATION:PT1H
X-Robots-Tag:noindex
X-PUBLISHED-TTL:PT1H
BEGIN:VTIMEZONE
TZID:America/Chicago
BEGIN:DAYLIGHT
TZOFFSETFROM:-0600
TZOFFSETTO:-0500
TZNAME:CDT
DTSTART:20290311T080000
END:DAYLIGHT
BEGIN:STANDARD
TZOFFSETFROM:-0500
TZOFFSETTO:-0600
TZNAME:CST
DTSTART:20291104T070000
END:STANDARD
BEGIN:DAYLIGHT
TZOFFSETFROM:-0600
TZOFFSETTO:-0500
TZNAME:CDT
DTSTART:20300310T080000
END:DAYLIGHT
BEGIN:STANDARD
TZOFFSETFROM:-0500
TZOFFSETTO:-0600
TZNAME:CST
DTSTART:20301103T070000
END:STANDARD
BEGIN:DAYLIGHT
TZOFFSETFROM:-0600
TZOFFSETTO:-0500
TZNAME:CDT
DTSTART:20310309T080000
END:DAYLIGHT
BEGIN:STANDARD
TZOFFSETFROM:-0500
TZOFFSETTO:-0600
TZNAME:CST
DTSTART:20311102T070000
END:STANDARD
END:VTIMEZONE
BEGIN:VEVENT
DTSTART;TZID=America/Chicago:20300217T173000
DTEND;TZID=America/Chicago:20300217T190000
DTSTAMP:20260424T063256
CREATED:20260113T015627Z
LAST-MODIFIED:20260113T015627Z
UID:10012338-1897579800-1897585200@burnettcountyfun.com
SUMMARY:Soup and Spirit
DESCRIPTION:Enjoy a free meal of soup and bread\, followed by an evening worship service! Faith Community Church in Grantsburg\, WI\, welcomes everyone every Sunday from 5:30 to 7:00 PM. It’s a warm\, welcoming way to end the weekend and connect with others!
URL:https://burnettcountyfun.com/event/soup-and-spirit-3/2030-02-17/
LOCATION:Faith Community Church\, 7535 Peet St\, Danbury\, WI\, 54830\, United States
CATEGORIES:Food/Beverage,Music
END:VEVENT
BEGIN:VEVENT
DTSTART;TZID=America/Chicago:20300224T173000
DTEND;TZID=America/Chicago:20300224T190000
DTSTAMP:20260424T063256
CREATED:20260113T015627Z
LAST-MODIFIED:20260113T015627Z
UID:10012339-1898184600-1898190000@burnettcountyfun.com
SUMMARY:Soup and Spirit
DESCRIPTION:Enjoy a free meal of soup and bread\, followed by an evening worship service! Faith Community Church in Grantsburg\, WI\, welcomes everyone every Sunday from 5:30 to 7:00 PM. It’s a warm\, welcoming way to end the weekend and connect with others!
URL:https://burnettcountyfun.com/event/soup-and-spirit-3/2030-02-24/
LOCATION:Faith Community Church\, 7535 Peet St\, Danbury\, WI\, 54830\, United States
CATEGORIES:Food/Beverage,Music
END:VEVENT
BEGIN:VEVENT
DTSTART;TZID=America/Chicago:20300302T080000
DTEND;TZID=America/Chicago:20300302T100000
DTSTAMP:20260424T063256
CREATED:20251010T002948Z
LAST-MODIFIED:20251010T002948Z
UID:10011117-1898668800-1898676000@burnettcountyfun.com
SUMMARY:Ladies Breakfast
DESCRIPTION:Join us for a morning of God’s Word\, delicious food\, and wonderful fellowship! \nThis event is FREE\, but feel free to bring a dish to share if you’d like. \nCome\, relax\, and enjoy time with other women of faith as we encourage and uplift one another. \nFaith Community Church\n7535 Peet Street\nDanbury\, WI 54830
URL:https://burnettcountyfun.com/event/ladies-breakfast/2030-03-02/
LOCATION:Faith Community Church\, 7535 Peet St\, Danbury\, WI\, 54830\, United States
ORGANIZER;CN="Faith Community Church":MAILTO:Fccndanbury@gmail.com
END:VEVENT
BEGIN:VEVENT
DTSTART;TZID=America/Chicago:20300303T173000
DTEND;TZID=America/Chicago:20300303T190000
DTSTAMP:20260424T063256
CREATED:20260113T015627Z
LAST-MODIFIED:20260113T015627Z
UID:10012340-1898789400-1898794800@burnettcountyfun.com
SUMMARY:Soup and Spirit
DESCRIPTION:Enjoy a free meal of soup and bread\, followed by an evening worship service! Faith Community Church in Grantsburg\, WI\, welcomes everyone every Sunday from 5:30 to 7:00 PM. It’s a warm\, welcoming way to end the weekend and connect with others!
URL:https://burnettcountyfun.com/event/soup-and-spirit-3/2030-03-03/
LOCATION:Faith Community Church\, 7535 Peet St\, Danbury\, WI\, 54830\, United States
CATEGORIES:Food/Beverage,Music
END:VEVENT
BEGIN:VEVENT
DTSTART;TZID=America/Chicago:20300309T183000
DTEND;TZID=America/Chicago:20300309T200000
DTSTAMP:20260424T063256
CREATED:20251010T004220Z
LAST-MODIFIED:20251010T004220Z
UID:10011178-1899311400-1899316800@burnettcountyfun.com
SUMMARY:Praise and Worship Night
DESCRIPTION:Join us for an evening of uplifting music\, heartfelt worship\, and God’s presence! \nLet’s come together to sing\, pray\, and celebrate His goodness. All are welcome! \nFaith Community Church\n7535 Peet Street\nDanbury\, WI 54830
URL:https://burnettcountyfun.com/event/praise-and-worship-night-2/2030-03-09/
LOCATION:Faith Community Church\, 7535 Peet St\, Danbury\, WI\, 54830\, United States
ORGANIZER;CN="Faith Community Church":MAILTO:Fccndanbury@gmail.com
END:VEVENT
BEGIN:VEVENT
DTSTART;TZID=America/Chicago:20300310T173000
DTEND;TZID=America/Chicago:20300310T190000
DTSTAMP:20260424T063256
CREATED:20260113T015627Z
LAST-MODIFIED:20260113T015627Z
UID:10012341-1899394200-1899399600@burnettcountyfun.com
SUMMARY:Soup and Spirit
DESCRIPTION:Enjoy a free meal of soup and bread\, followed by an evening worship service! Faith Community Church in Grantsburg\, WI\, welcomes everyone every Sunday from 5:30 to 7:00 PM. It’s a warm\, welcoming way to end the weekend and connect with others!
URL:https://burnettcountyfun.com/event/soup-and-spirit-3/2030-03-10/
LOCATION:Faith Community Church\, 7535 Peet St\, Danbury\, WI\, 54830\, United States
CATEGORIES:Food/Beverage,Music
END:VEVENT
BEGIN:VEVENT
DTSTART;TZID=America/Chicago:20300317T173000
DTEND;TZID=America/Chicago:20300317T190000
DTSTAMP:20260424T063256
CREATED:20260113T015627Z
LAST-MODIFIED:20260113T015627Z
UID:10012342-1899999000-1900004400@burnettcountyfun.com
SUMMARY:Soup and Spirit
DESCRIPTION:Enjoy a free meal of soup and bread\, followed by an evening worship service! Faith Community Church in Grantsburg\, WI\, welcomes everyone every Sunday from 5:30 to 7:00 PM. It’s a warm\, welcoming way to end the weekend and connect with others!
URL:https://burnettcountyfun.com/event/soup-and-spirit-3/2030-03-17/
LOCATION:Faith Community Church\, 7535 Peet St\, Danbury\, WI\, 54830\, United States
CATEGORIES:Food/Beverage,Music
END:VEVENT
BEGIN:VEVENT
DTSTART;TZID=America/Chicago:20300324T173000
DTEND;TZID=America/Chicago:20300324T190000
DTSTAMP:20260424T063256
CREATED:20260113T015627Z
LAST-MODIFIED:20260113T015627Z
UID:10012343-1900603800-1900609200@burnettcountyfun.com
SUMMARY:Soup and Spirit
DESCRIPTION:Enjoy a free meal of soup and bread\, followed by an evening worship service! Faith Community Church in Grantsburg\, WI\, welcomes everyone every Sunday from 5:30 to 7:00 PM. It’s a warm\, welcoming way to end the weekend and connect with others!
URL:https://burnettcountyfun.com/event/soup-and-spirit-3/2030-03-24/
LOCATION:Faith Community Church\, 7535 Peet St\, Danbury\, WI\, 54830\, United States
CATEGORIES:Food/Beverage,Music
END:VEVENT
BEGIN:VEVENT
DTSTART;TZID=America/Chicago:20300331T173000
DTEND;TZID=America/Chicago:20300331T190000
DTSTAMP:20260424T063256
CREATED:20260113T015627Z
LAST-MODIFIED:20260113T015627Z
UID:10012344-1901208600-1901214000@burnettcountyfun.com
SUMMARY:Soup and Spirit
DESCRIPTION:Enjoy a free meal of soup and bread\, followed by an evening worship service! Faith Community Church in Grantsburg\, WI\, welcomes everyone every Sunday from 5:30 to 7:00 PM. It’s a warm\, welcoming way to end the weekend and connect with others!
URL:https://burnettcountyfun.com/event/soup-and-spirit-3/2030-03-31/
LOCATION:Faith Community Church\, 7535 Peet St\, Danbury\, WI\, 54830\, United States
CATEGORIES:Food/Beverage,Music
END:VEVENT
BEGIN:VEVENT
DTSTART;TZID=America/Chicago:20300406T080000
DTEND;TZID=America/Chicago:20300406T100000
DTSTAMP:20260424T063256
CREATED:20251010T002948Z
LAST-MODIFIED:20251010T002948Z
UID:10011118-1901692800-1901700000@burnettcountyfun.com
SUMMARY:Ladies Breakfast
DESCRIPTION:Join us for a morning of God’s Word\, delicious food\, and wonderful fellowship! \nThis event is FREE\, but feel free to bring a dish to share if you’d like. \nCome\, relax\, and enjoy time with other women of faith as we encourage and uplift one another. \nFaith Community Church\n7535 Peet Street\nDanbury\, WI 54830
URL:https://burnettcountyfun.com/event/ladies-breakfast/2030-04-06/
LOCATION:Faith Community Church\, 7535 Peet St\, Danbury\, WI\, 54830\, United States
ORGANIZER;CN="Faith Community Church":MAILTO:Fccndanbury@gmail.com
END:VEVENT
BEGIN:VEVENT
DTSTART;TZID=America/Chicago:20300407T173000
DTEND;TZID=America/Chicago:20300407T190000
DTSTAMP:20260424T063256
CREATED:20260113T015627Z
LAST-MODIFIED:20260113T015627Z
UID:10012345-1901813400-1901818800@burnettcountyfun.com
SUMMARY:Soup and Spirit
DESCRIPTION:Enjoy a free meal of soup and bread\, followed by an evening worship service! Faith Community Church in Grantsburg\, WI\, welcomes everyone every Sunday from 5:30 to 7:00 PM. It’s a warm\, welcoming way to end the weekend and connect with others!
URL:https://burnettcountyfun.com/event/soup-and-spirit-3/2030-04-07/
LOCATION:Faith Community Church\, 7535 Peet St\, Danbury\, WI\, 54830\, United States
CATEGORIES:Food/Beverage,Music
END:VEVENT
BEGIN:VEVENT
DTSTART;TZID=America/Chicago:20300413T183000
DTEND;TZID=America/Chicago:20300413T200000
DTSTAMP:20260424T063256
CREATED:20251010T004220Z
LAST-MODIFIED:20251010T004220Z
UID:10011179-1902335400-1902340800@burnettcountyfun.com
SUMMARY:Praise and Worship Night
DESCRIPTION:Join us for an evening of uplifting music\, heartfelt worship\, and God’s presence! \nLet’s come together to sing\, pray\, and celebrate His goodness. All are welcome! \nFaith Community Church\n7535 Peet Street\nDanbury\, WI 54830
URL:https://burnettcountyfun.com/event/praise-and-worship-night-2/2030-04-13/
LOCATION:Faith Community Church\, 7535 Peet St\, Danbury\, WI\, 54830\, United States
ORGANIZER;CN="Faith Community Church":MAILTO:Fccndanbury@gmail.com
END:VEVENT
BEGIN:VEVENT
DTSTART;TZID=America/Chicago:20300414T173000
DTEND;TZID=America/Chicago:20300414T190000
DTSTAMP:20260424T063256
CREATED:20260113T015627Z
LAST-MODIFIED:20260113T015627Z
UID:10012346-1902418200-1902423600@burnettcountyfun.com
SUMMARY:Soup and Spirit
DESCRIPTION:Enjoy a free meal of soup and bread\, followed by an evening worship service! Faith Community Church in Grantsburg\, WI\, welcomes everyone every Sunday from 5:30 to 7:00 PM. It’s a warm\, welcoming way to end the weekend and connect with others!
URL:https://burnettcountyfun.com/event/soup-and-spirit-3/2030-04-14/
LOCATION:Faith Community Church\, 7535 Peet St\, Danbury\, WI\, 54830\, United States
CATEGORIES:Food/Beverage,Music
END:VEVENT
BEGIN:VEVENT
DTSTART;TZID=America/Chicago:20300421T173000
DTEND;TZID=America/Chicago:20300421T190000
DTSTAMP:20260424T063256
CREATED:20260113T015627Z
LAST-MODIFIED:20260113T015627Z
UID:10012347-1903023000-1903028400@burnettcountyfun.com
SUMMARY:Soup and Spirit
DESCRIPTION:Enjoy a free meal of soup and bread\, followed by an evening worship service! Faith Community Church in Grantsburg\, WI\, welcomes everyone every Sunday from 5:30 to 7:00 PM. It’s a warm\, welcoming way to end the weekend and connect with others!
URL:https://burnettcountyfun.com/event/soup-and-spirit-3/2030-04-21/
LOCATION:Faith Community Church\, 7535 Peet St\, Danbury\, WI\, 54830\, United States
CATEGORIES:Food/Beverage,Music
END:VEVENT
BEGIN:VEVENT
DTSTART;TZID=America/Chicago:20300428T173000
DTEND;TZID=America/Chicago:20300428T190000
DTSTAMP:20260424T063256
CREATED:20260113T015627Z
LAST-MODIFIED:20260113T015627Z
UID:10012348-1903627800-1903633200@burnettcountyfun.com
SUMMARY:Soup and Spirit
DESCRIPTION:Enjoy a free meal of soup and bread\, followed by an evening worship service! Faith Community Church in Grantsburg\, WI\, welcomes everyone every Sunday from 5:30 to 7:00 PM. It’s a warm\, welcoming way to end the weekend and connect with others!
URL:https://burnettcountyfun.com/event/soup-and-spirit-3/2030-04-28/
LOCATION:Faith Community Church\, 7535 Peet St\, Danbury\, WI\, 54830\, United States
CATEGORIES:Food/Beverage,Music
END:VEVENT
BEGIN:VEVENT
DTSTART;TZID=America/Chicago:20300504T080000
DTEND;TZID=America/Chicago:20300504T100000
DTSTAMP:20260424T063256
CREATED:20251010T002948Z
LAST-MODIFIED:20251010T002948Z
UID:10011119-1904112000-1904119200@burnettcountyfun.com
SUMMARY:Ladies Breakfast
DESCRIPTION:Join us for a morning of God’s Word\, delicious food\, and wonderful fellowship! \nThis event is FREE\, but feel free to bring a dish to share if you’d like. \nCome\, relax\, and enjoy time with other women of faith as we encourage and uplift one another. \nFaith Community Church\n7535 Peet Street\nDanbury\, WI 54830
URL:https://burnettcountyfun.com/event/ladies-breakfast/2030-05-04/
LOCATION:Faith Community Church\, 7535 Peet St\, Danbury\, WI\, 54830\, United States
ORGANIZER;CN="Faith Community Church":MAILTO:Fccndanbury@gmail.com
END:VEVENT
BEGIN:VEVENT
DTSTART;TZID=America/Chicago:20300505T173000
DTEND;TZID=America/Chicago:20300505T190000
DTSTAMP:20260424T063256
CREATED:20260113T015627Z
LAST-MODIFIED:20260113T015627Z
UID:10012349-1904232600-1904238000@burnettcountyfun.com
SUMMARY:Soup and Spirit
DESCRIPTION:Enjoy a free meal of soup and bread\, followed by an evening worship service! Faith Community Church in Grantsburg\, WI\, welcomes everyone every Sunday from 5:30 to 7:00 PM. It’s a warm\, welcoming way to end the weekend and connect with others!
URL:https://burnettcountyfun.com/event/soup-and-spirit-3/2030-05-05/
LOCATION:Faith Community Church\, 7535 Peet St\, Danbury\, WI\, 54830\, United States
CATEGORIES:Food/Beverage,Music
END:VEVENT
BEGIN:VEVENT
DTSTART;TZID=America/Chicago:20300511T183000
DTEND;TZID=America/Chicago:20300511T200000
DTSTAMP:20260424T063256
CREATED:20251010T004220Z
LAST-MODIFIED:20251010T004220Z
UID:10011180-1904754600-1904760000@burnettcountyfun.com
SUMMARY:Praise and Worship Night
DESCRIPTION:Join us for an evening of uplifting music\, heartfelt worship\, and God’s presence! \nLet’s come together to sing\, pray\, and celebrate His goodness. All are welcome! \nFaith Community Church\n7535 Peet Street\nDanbury\, WI 54830
URL:https://burnettcountyfun.com/event/praise-and-worship-night-2/2030-05-11/
LOCATION:Faith Community Church\, 7535 Peet St\, Danbury\, WI\, 54830\, United States
ORGANIZER;CN="Faith Community Church":MAILTO:Fccndanbury@gmail.com
END:VEVENT
BEGIN:VEVENT
DTSTART;TZID=America/Chicago:20300512T173000
DTEND;TZID=America/Chicago:20300512T190000
DTSTAMP:20260424T063256
CREATED:20260113T015627Z
LAST-MODIFIED:20260113T015627Z
UID:10012350-1904837400-1904842800@burnettcountyfun.com
SUMMARY:Soup and Spirit
DESCRIPTION:Enjoy a free meal of soup and bread\, followed by an evening worship service! Faith Community Church in Grantsburg\, WI\, welcomes everyone every Sunday from 5:30 to 7:00 PM. It’s a warm\, welcoming way to end the weekend and connect with others!
URL:https://burnettcountyfun.com/event/soup-and-spirit-3/2030-05-12/
LOCATION:Faith Community Church\, 7535 Peet St\, Danbury\, WI\, 54830\, United States
CATEGORIES:Food/Beverage,Music
END:VEVENT
BEGIN:VEVENT
DTSTART;TZID=America/Chicago:20300519T173000
DTEND;TZID=America/Chicago:20300519T190000
DTSTAMP:20260424T063256
CREATED:20260113T015627Z
LAST-MODIFIED:20260113T015627Z
UID:10012351-1905442200-1905447600@burnettcountyfun.com
SUMMARY:Soup and Spirit
DESCRIPTION:Enjoy a free meal of soup and bread\, followed by an evening worship service! Faith Community Church in Grantsburg\, WI\, welcomes everyone every Sunday from 5:30 to 7:00 PM. It’s a warm\, welcoming way to end the weekend and connect with others!
URL:https://burnettcountyfun.com/event/soup-and-spirit-3/2030-05-19/
LOCATION:Faith Community Church\, 7535 Peet St\, Danbury\, WI\, 54830\, United States
CATEGORIES:Food/Beverage,Music
END:VEVENT
BEGIN:VEVENT
DTSTART;TZID=America/Chicago:20300526T173000
DTEND;TZID=America/Chicago:20300526T190000
DTSTAMP:20260424T063256
CREATED:20260113T015627Z
LAST-MODIFIED:20260113T015627Z
UID:10012352-1906047000-1906052400@burnettcountyfun.com
SUMMARY:Soup and Spirit
DESCRIPTION:Enjoy a free meal of soup and bread\, followed by an evening worship service! Faith Community Church in Grantsburg\, WI\, welcomes everyone every Sunday from 5:30 to 7:00 PM. It’s a warm\, welcoming way to end the weekend and connect with others!
URL:https://burnettcountyfun.com/event/soup-and-spirit-3/2030-05-26/
LOCATION:Faith Community Church\, 7535 Peet St\, Danbury\, WI\, 54830\, United States
CATEGORIES:Food/Beverage,Music
END:VEVENT
BEGIN:VEVENT
DTSTART;TZID=America/Chicago:20300601T080000
DTEND;TZID=America/Chicago:20300601T100000
DTSTAMP:20260424T063256
CREATED:20251010T002948Z
LAST-MODIFIED:20251010T002948Z
UID:10011120-1906531200-1906538400@burnettcountyfun.com
SUMMARY:Ladies Breakfast
DESCRIPTION:Join us for a morning of God’s Word\, delicious food\, and wonderful fellowship! \nThis event is FREE\, but feel free to bring a dish to share if you’d like. \nCome\, relax\, and enjoy time with other women of faith as we encourage and uplift one another. \nFaith Community Church\n7535 Peet Street\nDanbury\, WI 54830
URL:https://burnettcountyfun.com/event/ladies-breakfast/2030-06-01/
LOCATION:Faith Community Church\, 7535 Peet St\, Danbury\, WI\, 54830\, United States
ORGANIZER;CN="Faith Community Church":MAILTO:Fccndanbury@gmail.com
END:VEVENT
BEGIN:VEVENT
DTSTART;TZID=America/Chicago:20300602T173000
DTEND;TZID=America/Chicago:20300602T190000
DTSTAMP:20260424T063256
CREATED:20260113T015627Z
LAST-MODIFIED:20260113T015627Z
UID:10012353-1906651800-1906657200@burnettcountyfun.com
SUMMARY:Soup and Spirit
DESCRIPTION:Enjoy a free meal of soup and bread\, followed by an evening worship service! Faith Community Church in Grantsburg\, WI\, welcomes everyone every Sunday from 5:30 to 7:00 PM. It’s a warm\, welcoming way to end the weekend and connect with others!
URL:https://burnettcountyfun.com/event/soup-and-spirit-3/2030-06-02/
LOCATION:Faith Community Church\, 7535 Peet St\, Danbury\, WI\, 54830\, United States
CATEGORIES:Food/Beverage,Music
END:VEVENT
BEGIN:VEVENT
DTSTART;TZID=America/Chicago:20300608T183000
DTEND;TZID=America/Chicago:20300608T200000
DTSTAMP:20260424T063256
CREATED:20251010T004220Z
LAST-MODIFIED:20251010T004220Z
UID:10011181-1907173800-1907179200@burnettcountyfun.com
SUMMARY:Praise and Worship Night
DESCRIPTION:Join us for an evening of uplifting music\, heartfelt worship\, and God’s presence! \nLet’s come together to sing\, pray\, and celebrate His goodness. All are welcome! \nFaith Community Church\n7535 Peet Street\nDanbury\, WI 54830
URL:https://burnettcountyfun.com/event/praise-and-worship-night-2/2030-06-08/
LOCATION:Faith Community Church\, 7535 Peet St\, Danbury\, WI\, 54830\, United States
ORGANIZER;CN="Faith Community Church":MAILTO:Fccndanbury@gmail.com
END:VEVENT
BEGIN:VEVENT
DTSTART;TZID=America/Chicago:20300609T173000
DTEND;TZID=America/Chicago:20300609T190000
DTSTAMP:20260424T063257
CREATED:20260113T015627Z
LAST-MODIFIED:20260113T015627Z
UID:10012354-1907256600-1907262000@burnettcountyfun.com
SUMMARY:Soup and Spirit
DESCRIPTION:Enjoy a free meal of soup and bread\, followed by an evening worship service! Faith Community Church in Grantsburg\, WI\, welcomes everyone every Sunday from 5:30 to 7:00 PM. It’s a warm\, welcoming way to end the weekend and connect with others!
URL:https://burnettcountyfun.com/event/soup-and-spirit-3/2030-06-09/
LOCATION:Faith Community Church\, 7535 Peet St\, Danbury\, WI\, 54830\, United States
CATEGORIES:Food/Beverage,Music
END:VEVENT
BEGIN:VEVENT
DTSTART;TZID=America/Chicago:20300616T173000
DTEND;TZID=America/Chicago:20300616T190000
DTSTAMP:20260424T063257
CREATED:20260113T015627Z
LAST-MODIFIED:20260113T015627Z
UID:10012355-1907861400-1907866800@burnettcountyfun.com
SUMMARY:Soup and Spirit
DESCRIPTION:Enjoy a free meal of soup and bread\, followed by an evening worship service! Faith Community Church in Grantsburg\, WI\, welcomes everyone every Sunday from 5:30 to 7:00 PM. It’s a warm\, welcoming way to end the weekend and connect with others!
URL:https://burnettcountyfun.com/event/soup-and-spirit-3/2030-06-16/
LOCATION:Faith Community Church\, 7535 Peet St\, Danbury\, WI\, 54830\, United States
CATEGORIES:Food/Beverage,Music
END:VEVENT
BEGIN:VEVENT
DTSTART;TZID=America/Chicago:20300623T173000
DTEND;TZID=America/Chicago:20300623T190000
DTSTAMP:20260424T063257
CREATED:20260113T015627Z
LAST-MODIFIED:20260113T015627Z
UID:10012356-1908466200-1908471600@burnettcountyfun.com
SUMMARY:Soup and Spirit
DESCRIPTION:Enjoy a free meal of soup and bread\, followed by an evening worship service! Faith Community Church in Grantsburg\, WI\, welcomes everyone every Sunday from 5:30 to 7:00 PM. It’s a warm\, welcoming way to end the weekend and connect with others!
URL:https://burnettcountyfun.com/event/soup-and-spirit-3/2030-06-23/
LOCATION:Faith Community Church\, 7535 Peet St\, Danbury\, WI\, 54830\, United States
CATEGORIES:Food/Beverage,Music
END:VEVENT
BEGIN:VEVENT
DTSTART;TZID=America/Chicago:20300630T173000
DTEND;TZID=America/Chicago:20300630T190000
DTSTAMP:20260424T063257
CREATED:20260113T015627Z
LAST-MODIFIED:20260113T015627Z
UID:10012357-1909071000-1909076400@burnettcountyfun.com
SUMMARY:Soup and Spirit
DESCRIPTION:Enjoy a free meal of soup and bread\, followed by an evening worship service! Faith Community Church in Grantsburg\, WI\, welcomes everyone every Sunday from 5:30 to 7:00 PM. It’s a warm\, welcoming way to end the weekend and connect with others!
URL:https://burnettcountyfun.com/event/soup-and-spirit-3/2030-06-30/
LOCATION:Faith Community Church\, 7535 Peet St\, Danbury\, WI\, 54830\, United States
CATEGORIES:Food/Beverage,Music
END:VEVENT
BEGIN:VEVENT
DTSTART;TZID=America/Chicago:20300706T080000
DTEND;TZID=America/Chicago:20300706T100000
DTSTAMP:20260424T063257
CREATED:20251010T002948Z
LAST-MODIFIED:20251010T002948Z
UID:10011121-1909555200-1909562400@burnettcountyfun.com
SUMMARY:Ladies Breakfast
DESCRIPTION:Join us for a morning of God’s Word\, delicious food\, and wonderful fellowship! \nThis event is FREE\, but feel free to bring a dish to share if you’d like. \nCome\, relax\, and enjoy time with other women of faith as we encourage and uplift one another. \nFaith Community Church\n7535 Peet Street\nDanbury\, WI 54830
URL:https://burnettcountyfun.com/event/ladies-breakfast/2030-07-06/
LOCATION:Faith Community Church\, 7535 Peet St\, Danbury\, WI\, 54830\, United States
ORGANIZER;CN="Faith Community Church":MAILTO:Fccndanbury@gmail.com
END:VEVENT
BEGIN:VEVENT
DTSTART;TZID=America/Chicago:20300707T173000
DTEND;TZID=America/Chicago:20300707T190000
DTSTAMP:20260424T063257
CREATED:20260113T015627Z
LAST-MODIFIED:20260113T015627Z
UID:10012358-1909675800-1909681200@burnettcountyfun.com
SUMMARY:Soup and Spirit
DESCRIPTION:Enjoy a free meal of soup and bread\, followed by an evening worship service! Faith Community Church in Grantsburg\, WI\, welcomes everyone every Sunday from 5:30 to 7:00 PM. It’s a warm\, welcoming way to end the weekend and connect with others!
URL:https://burnettcountyfun.com/event/soup-and-spirit-3/2030-07-07/
LOCATION:Faith Community Church\, 7535 Peet St\, Danbury\, WI\, 54830\, United States
CATEGORIES:Food/Beverage,Music
END:VEVENT
END:VCALENDAR