BEGIN:VCALENDAR
VERSION:2.0
PRODID:-//Burnett County, Wisconsin - ECPv6.15.20//NONSGML v1.0//EN
CALSCALE:GREGORIAN
METHOD:PUBLISH
X-WR-CALNAME:Burnett County, Wisconsin
X-ORIGINAL-URL:https://burnettcountyfun.com
X-WR-CALDESC:Events for Burnett County, Wisconsin
REFRESH-INTERVAL;VALUE=DURATION:PT1H
X-Robots-Tag:noindex
X-PUBLISHED-TTL:PT1H
BEGIN:VTIMEZONE
TZID:UTC
BEGIN:STANDARD
TZOFFSETFROM:+0000
TZOFFSETTO:+0000
TZNAME:UTC
DTSTART:20220101T000000
END:STANDARD
END:VTIMEZONE
BEGIN:VEVENT
DTSTART;VALUE=DATE:20250301
DTEND;VALUE=DATE:20250302
DTSTAMP:20260420T080245
CREATED:20250110T213139Z
LAST-MODIFIED:20250110T213139Z
UID:10009256-1740787200-1740873599@burnettcountyfun.com
SUMMARY:Cozy Corner 50th Booya
DESCRIPTION:
URL:https://burnettcountyfun.com/event/cozy-corner-50th-booya/
LOCATION:Hillside Inn\, 33595 State Rd 35\, Danbury\, WI\, United States
END:VEVENT
BEGIN:VEVENT
DTSTART;TZID=UTC:20231216T130000
DTEND;TZID=UTC:20231216T160000
DTSTAMP:20260420T080245
CREATED:20231215T093820Z
LAST-MODIFIED:20231215T093820Z
UID:10004877-1702731600-1702742400@burnettcountyfun.com
SUMMARY:Santa | Hillside Inn
DESCRIPTION:Guess who’s coming to town?! \nSanta will be here December 16th from 1:00-4:00 we will have milk and cookies available for allThis is a free event!!\n\n\nToys For Tots Toy Drive!!!
URL:https://burnettcountyfun.com/event/santa-hillside-inn/
LOCATION:Hillside Inn\, 33595 State Rd 35\, Danbury\, WI\, United States
END:VEVENT
BEGIN:VEVENT
DTSTART;TZID=UTC:20230701T203000
DTEND;TZID=UTC:20230701T203000
DTSTAMP:20260420T080245
CREATED:20230623T083332Z
LAST-MODIFIED:20230623T083506Z
UID:10002894-1688243400-1688243400@burnettcountyfun.com
SUMMARY:Fireworks at Hillside Inn
DESCRIPTION:Saturday\, July 1\nStarts at 9pm or Dusk
URL:https://burnettcountyfun.com/event/fireworks-at-hillside-inn/
LOCATION:Hillside Inn\, 33595 State Rd 35\, Danbury\, WI\, United States
CATEGORIES:Family Friendly,Festival
ATTACH;FMTTYPE=image/jpeg:https://burnettcountyfun.com/wp-content/uploads/2023/06/bobby-overturf-qkWPOTjHdrI-unsplash-scaled.jpg
END:VEVENT
END:VCALENDAR