BEGIN:VCALENDAR
VERSION:2.0
PRODID:-//Burnett County, Wisconsin - ECPv6.15.20//NONSGML v1.0//EN
CALSCALE:GREGORIAN
METHOD:PUBLISH
X-ORIGINAL-URL:https://burnettcountyfun.com
X-WR-CALDESC:Events for Burnett County, Wisconsin
REFRESH-INTERVAL;VALUE=DURATION:PT1H
X-Robots-Tag:noindex
X-PUBLISHED-TTL:PT1H
BEGIN:VTIMEZONE
TZID:UTC
BEGIN:STANDARD
TZOFFSETFROM:+0000
TZOFFSETTO:+0000
TZNAME:UTC
DTSTART:20260101T000000
END:STANDARD
END:VTIMEZONE
BEGIN:VEVENT
DTSTART;TZID=UTC:20270101T180000
DTEND;TZID=UTC:20270101T190000
DTSTAMP:20260419T204343
CREATED:20230607T004130Z
LAST-MODIFIED:20230731T051425Z
UID:10000761-1798826400-1798830000@burnettcountyfun.com
SUMMARY:Meat Raffle | Hummers Rendezvous
DESCRIPTION:Meat Raffle | Hummer’s Rendezvous Grantsburg\, WI\nProceeds go to the Squirrels Unlimited\nEvery Friday 6:00pm\n115 E Madison Ave\nGrantsburg\, WI\n715-463-2322
URL:https://burnettcountyfun.com/event/meat-raffle-hummers-rendezvous/2027-01-01/
LOCATION:Hummer’s Rendezvous\, 115 W Madison Ave\, Grantsburg\, WI\, 54840\, United States
CATEGORIES:Charity/Fundraiser,Food/Beverage
END:VEVENT
BEGIN:VEVENT
DTSTART;TZID=UTC:20270108T180000
DTEND;TZID=UTC:20270108T190000
DTSTAMP:20260419T204343
CREATED:20230607T004130Z
LAST-MODIFIED:20230731T051425Z
UID:10000762-1799431200-1799434800@burnettcountyfun.com
SUMMARY:Meat Raffle | Hummers Rendezvous
DESCRIPTION:Meat Raffle | Hummer’s Rendezvous Grantsburg\, WI\nProceeds go to the Squirrels Unlimited\nEvery Friday 6:00pm\n115 E Madison Ave\nGrantsburg\, WI\n715-463-2322
URL:https://burnettcountyfun.com/event/meat-raffle-hummers-rendezvous/2027-01-08/
LOCATION:Hummer’s Rendezvous\, 115 W Madison Ave\, Grantsburg\, WI\, 54840\, United States
CATEGORIES:Charity/Fundraiser,Food/Beverage
END:VEVENT
BEGIN:VEVENT
DTSTART;TZID=UTC:20270115T180000
DTEND;TZID=UTC:20270115T190000
DTSTAMP:20260419T204343
CREATED:20230607T004130Z
LAST-MODIFIED:20230731T051425Z
UID:10000763-1800036000-1800039600@burnettcountyfun.com
SUMMARY:Meat Raffle | Hummers Rendezvous
DESCRIPTION:Meat Raffle | Hummer’s Rendezvous Grantsburg\, WI\nProceeds go to the Squirrels Unlimited\nEvery Friday 6:00pm\n115 E Madison Ave\nGrantsburg\, WI\n715-463-2322
URL:https://burnettcountyfun.com/event/meat-raffle-hummers-rendezvous/2027-01-15/
LOCATION:Hummer’s Rendezvous\, 115 W Madison Ave\, Grantsburg\, WI\, 54840\, United States
CATEGORIES:Charity/Fundraiser,Food/Beverage
END:VEVENT
BEGIN:VEVENT
DTSTART;TZID=UTC:20270122T180000
DTEND;TZID=UTC:20270122T190000
DTSTAMP:20260419T204343
CREATED:20230607T004130Z
LAST-MODIFIED:20230731T051425Z
UID:10000764-1800640800-1800644400@burnettcountyfun.com
SUMMARY:Meat Raffle | Hummers Rendezvous
DESCRIPTION:Meat Raffle | Hummer’s Rendezvous Grantsburg\, WI\nProceeds go to the Squirrels Unlimited\nEvery Friday 6:00pm\n115 E Madison Ave\nGrantsburg\, WI\n715-463-2322
URL:https://burnettcountyfun.com/event/meat-raffle-hummers-rendezvous/2027-01-22/
LOCATION:Hummer’s Rendezvous\, 115 W Madison Ave\, Grantsburg\, WI\, 54840\, United States
CATEGORIES:Charity/Fundraiser,Food/Beverage
END:VEVENT
BEGIN:VEVENT
DTSTART;TZID=UTC:20270129T180000
DTEND;TZID=UTC:20270129T190000
DTSTAMP:20260419T204343
CREATED:20230607T004130Z
LAST-MODIFIED:20230731T051425Z
UID:10000765-1801245600-1801249200@burnettcountyfun.com
SUMMARY:Meat Raffle | Hummers Rendezvous
DESCRIPTION:Meat Raffle | Hummer’s Rendezvous Grantsburg\, WI\nProceeds go to the Squirrels Unlimited\nEvery Friday 6:00pm\n115 E Madison Ave\nGrantsburg\, WI\n715-463-2322
URL:https://burnettcountyfun.com/event/meat-raffle-hummers-rendezvous/2027-01-29/
LOCATION:Hummer’s Rendezvous\, 115 W Madison Ave\, Grantsburg\, WI\, 54840\, United States
CATEGORIES:Charity/Fundraiser,Food/Beverage
END:VEVENT
BEGIN:VEVENT
DTSTART;TZID=UTC:20270205T180000
DTEND;TZID=UTC:20270205T190000
DTSTAMP:20260419T204343
CREATED:20230607T004130Z
LAST-MODIFIED:20230731T051425Z
UID:10000766-1801850400-1801854000@burnettcountyfun.com
SUMMARY:Meat Raffle | Hummers Rendezvous
DESCRIPTION:Meat Raffle | Hummer’s Rendezvous Grantsburg\, WI\nProceeds go to the Squirrels Unlimited\nEvery Friday 6:00pm\n115 E Madison Ave\nGrantsburg\, WI\n715-463-2322
URL:https://burnettcountyfun.com/event/meat-raffle-hummers-rendezvous/2027-02-05/
LOCATION:Hummer’s Rendezvous\, 115 W Madison Ave\, Grantsburg\, WI\, 54840\, United States
CATEGORIES:Charity/Fundraiser,Food/Beverage
END:VEVENT
BEGIN:VEVENT
DTSTART;TZID=UTC:20270212T180000
DTEND;TZID=UTC:20270212T190000
DTSTAMP:20260419T204343
CREATED:20230607T004130Z
LAST-MODIFIED:20230731T051425Z
UID:10000767-1802455200-1802458800@burnettcountyfun.com
SUMMARY:Meat Raffle | Hummers Rendezvous
DESCRIPTION:Meat Raffle | Hummer’s Rendezvous Grantsburg\, WI\nProceeds go to the Squirrels Unlimited\nEvery Friday 6:00pm\n115 E Madison Ave\nGrantsburg\, WI\n715-463-2322
URL:https://burnettcountyfun.com/event/meat-raffle-hummers-rendezvous/2027-02-12/
LOCATION:Hummer’s Rendezvous\, 115 W Madison Ave\, Grantsburg\, WI\, 54840\, United States
CATEGORIES:Charity/Fundraiser,Food/Beverage
END:VEVENT
BEGIN:VEVENT
DTSTART;TZID=UTC:20270219T180000
DTEND;TZID=UTC:20270219T190000
DTSTAMP:20260419T204343
CREATED:20230607T004130Z
LAST-MODIFIED:20230731T051425Z
UID:10000768-1803060000-1803063600@burnettcountyfun.com
SUMMARY:Meat Raffle | Hummers Rendezvous
DESCRIPTION:Meat Raffle | Hummer’s Rendezvous Grantsburg\, WI\nProceeds go to the Squirrels Unlimited\nEvery Friday 6:00pm\n115 E Madison Ave\nGrantsburg\, WI\n715-463-2322
URL:https://burnettcountyfun.com/event/meat-raffle-hummers-rendezvous/2027-02-19/
LOCATION:Hummer’s Rendezvous\, 115 W Madison Ave\, Grantsburg\, WI\, 54840\, United States
CATEGORIES:Charity/Fundraiser,Food/Beverage
END:VEVENT
BEGIN:VEVENT
DTSTART;TZID=UTC:20270226T180000
DTEND;TZID=UTC:20270226T190000
DTSTAMP:20260419T204343
CREATED:20230607T004130Z
LAST-MODIFIED:20230731T051425Z
UID:10000769-1803664800-1803668400@burnettcountyfun.com
SUMMARY:Meat Raffle | Hummers Rendezvous
DESCRIPTION:Meat Raffle | Hummer’s Rendezvous Grantsburg\, WI\nProceeds go to the Squirrels Unlimited\nEvery Friday 6:00pm\n115 E Madison Ave\nGrantsburg\, WI\n715-463-2322
URL:https://burnettcountyfun.com/event/meat-raffle-hummers-rendezvous/2027-02-26/
LOCATION:Hummer’s Rendezvous\, 115 W Madison Ave\, Grantsburg\, WI\, 54840\, United States
CATEGORIES:Charity/Fundraiser,Food/Beverage
END:VEVENT
BEGIN:VEVENT
DTSTART;TZID=UTC:20270305T180000
DTEND;TZID=UTC:20270305T190000
DTSTAMP:20260419T204343
CREATED:20230607T004130Z
LAST-MODIFIED:20230731T051425Z
UID:10000770-1804269600-1804273200@burnettcountyfun.com
SUMMARY:Meat Raffle | Hummers Rendezvous
DESCRIPTION:Meat Raffle | Hummer’s Rendezvous Grantsburg\, WI\nProceeds go to the Squirrels Unlimited\nEvery Friday 6:00pm\n115 E Madison Ave\nGrantsburg\, WI\n715-463-2322
URL:https://burnettcountyfun.com/event/meat-raffle-hummers-rendezvous/2027-03-05/
LOCATION:Hummer’s Rendezvous\, 115 W Madison Ave\, Grantsburg\, WI\, 54840\, United States
CATEGORIES:Charity/Fundraiser,Food/Beverage
END:VEVENT
BEGIN:VEVENT
DTSTART;TZID=UTC:20270312T180000
DTEND;TZID=UTC:20270312T190000
DTSTAMP:20260419T204343
CREATED:20230607T004130Z
LAST-MODIFIED:20230731T051425Z
UID:10000771-1804874400-1804878000@burnettcountyfun.com
SUMMARY:Meat Raffle | Hummers Rendezvous
DESCRIPTION:Meat Raffle | Hummer’s Rendezvous Grantsburg\, WI\nProceeds go to the Squirrels Unlimited\nEvery Friday 6:00pm\n115 E Madison Ave\nGrantsburg\, WI\n715-463-2322
URL:https://burnettcountyfun.com/event/meat-raffle-hummers-rendezvous/2027-03-12/
LOCATION:Hummer’s Rendezvous\, 115 W Madison Ave\, Grantsburg\, WI\, 54840\, United States
CATEGORIES:Charity/Fundraiser,Food/Beverage
END:VEVENT
BEGIN:VEVENT
DTSTART;TZID=UTC:20270319T180000
DTEND;TZID=UTC:20270319T190000
DTSTAMP:20260419T204343
CREATED:20230607T004130Z
LAST-MODIFIED:20230731T051425Z
UID:10000772-1805479200-1805482800@burnettcountyfun.com
SUMMARY:Meat Raffle | Hummers Rendezvous
DESCRIPTION:Meat Raffle | Hummer’s Rendezvous Grantsburg\, WI\nProceeds go to the Squirrels Unlimited\nEvery Friday 6:00pm\n115 E Madison Ave\nGrantsburg\, WI\n715-463-2322
URL:https://burnettcountyfun.com/event/meat-raffle-hummers-rendezvous/2027-03-19/
LOCATION:Hummer’s Rendezvous\, 115 W Madison Ave\, Grantsburg\, WI\, 54840\, United States
CATEGORIES:Charity/Fundraiser,Food/Beverage
END:VEVENT
BEGIN:VEVENT
DTSTART;TZID=UTC:20270326T180000
DTEND;TZID=UTC:20270326T190000
DTSTAMP:20260419T204343
CREATED:20230607T004130Z
LAST-MODIFIED:20230731T051425Z
UID:10000773-1806084000-1806087600@burnettcountyfun.com
SUMMARY:Meat Raffle | Hummers Rendezvous
DESCRIPTION:Meat Raffle | Hummer’s Rendezvous Grantsburg\, WI\nProceeds go to the Squirrels Unlimited\nEvery Friday 6:00pm\n115 E Madison Ave\nGrantsburg\, WI\n715-463-2322
URL:https://burnettcountyfun.com/event/meat-raffle-hummers-rendezvous/2027-03-26/
LOCATION:Hummer’s Rendezvous\, 115 W Madison Ave\, Grantsburg\, WI\, 54840\, United States
CATEGORIES:Charity/Fundraiser,Food/Beverage
END:VEVENT
BEGIN:VEVENT
DTSTART;TZID=UTC:20270402T180000
DTEND;TZID=UTC:20270402T190000
DTSTAMP:20260419T204343
CREATED:20230607T004130Z
LAST-MODIFIED:20230731T051425Z
UID:10000774-1806688800-1806692400@burnettcountyfun.com
SUMMARY:Meat Raffle | Hummers Rendezvous
DESCRIPTION:Meat Raffle | Hummer’s Rendezvous Grantsburg\, WI\nProceeds go to the Squirrels Unlimited\nEvery Friday 6:00pm\n115 E Madison Ave\nGrantsburg\, WI\n715-463-2322
URL:https://burnettcountyfun.com/event/meat-raffle-hummers-rendezvous/2027-04-02/
LOCATION:Hummer’s Rendezvous\, 115 W Madison Ave\, Grantsburg\, WI\, 54840\, United States
CATEGORIES:Charity/Fundraiser,Food/Beverage
END:VEVENT
BEGIN:VEVENT
DTSTART;TZID=UTC:20270409T180000
DTEND;TZID=UTC:20270409T190000
DTSTAMP:20260419T204343
CREATED:20230607T004130Z
LAST-MODIFIED:20230731T051425Z
UID:10000775-1807293600-1807297200@burnettcountyfun.com
SUMMARY:Meat Raffle | Hummers Rendezvous
DESCRIPTION:Meat Raffle | Hummer’s Rendezvous Grantsburg\, WI\nProceeds go to the Squirrels Unlimited\nEvery Friday 6:00pm\n115 E Madison Ave\nGrantsburg\, WI\n715-463-2322
URL:https://burnettcountyfun.com/event/meat-raffle-hummers-rendezvous/2027-04-09/
LOCATION:Hummer’s Rendezvous\, 115 W Madison Ave\, Grantsburg\, WI\, 54840\, United States
CATEGORIES:Charity/Fundraiser,Food/Beverage
END:VEVENT
BEGIN:VEVENT
DTSTART;TZID=UTC:20270416T180000
DTEND;TZID=UTC:20270416T190000
DTSTAMP:20260419T204343
CREATED:20230607T004130Z
LAST-MODIFIED:20230731T051425Z
UID:10000776-1807898400-1807902000@burnettcountyfun.com
SUMMARY:Meat Raffle | Hummers Rendezvous
DESCRIPTION:Meat Raffle | Hummer’s Rendezvous Grantsburg\, WI\nProceeds go to the Squirrels Unlimited\nEvery Friday 6:00pm\n115 E Madison Ave\nGrantsburg\, WI\n715-463-2322
URL:https://burnettcountyfun.com/event/meat-raffle-hummers-rendezvous/2027-04-16/
LOCATION:Hummer’s Rendezvous\, 115 W Madison Ave\, Grantsburg\, WI\, 54840\, United States
CATEGORIES:Charity/Fundraiser,Food/Beverage
END:VEVENT
BEGIN:VEVENT
DTSTART;TZID=UTC:20270423T180000
DTEND;TZID=UTC:20270423T190000
DTSTAMP:20260419T204343
CREATED:20230607T004130Z
LAST-MODIFIED:20230731T051425Z
UID:10000777-1808503200-1808506800@burnettcountyfun.com
SUMMARY:Meat Raffle | Hummers Rendezvous
DESCRIPTION:Meat Raffle | Hummer’s Rendezvous Grantsburg\, WI\nProceeds go to the Squirrels Unlimited\nEvery Friday 6:00pm\n115 E Madison Ave\nGrantsburg\, WI\n715-463-2322
URL:https://burnettcountyfun.com/event/meat-raffle-hummers-rendezvous/2027-04-23/
LOCATION:Hummer’s Rendezvous\, 115 W Madison Ave\, Grantsburg\, WI\, 54840\, United States
CATEGORIES:Charity/Fundraiser,Food/Beverage
END:VEVENT
BEGIN:VEVENT
DTSTART;TZID=UTC:20270430T180000
DTEND;TZID=UTC:20270430T190000
DTSTAMP:20260419T204343
CREATED:20230607T004130Z
LAST-MODIFIED:20230731T051425Z
UID:10000778-1809108000-1809111600@burnettcountyfun.com
SUMMARY:Meat Raffle | Hummers Rendezvous
DESCRIPTION:Meat Raffle | Hummer’s Rendezvous Grantsburg\, WI\nProceeds go to the Squirrels Unlimited\nEvery Friday 6:00pm\n115 E Madison Ave\nGrantsburg\, WI\n715-463-2322
URL:https://burnettcountyfun.com/event/meat-raffle-hummers-rendezvous/2027-04-30/
LOCATION:Hummer’s Rendezvous\, 115 W Madison Ave\, Grantsburg\, WI\, 54840\, United States
CATEGORIES:Charity/Fundraiser,Food/Beverage
END:VEVENT
BEGIN:VEVENT
DTSTART;TZID=UTC:20270507T180000
DTEND;TZID=UTC:20270507T190000
DTSTAMP:20260419T204343
CREATED:20230607T004130Z
LAST-MODIFIED:20230731T051425Z
UID:10000779-1809712800-1809716400@burnettcountyfun.com
SUMMARY:Meat Raffle | Hummers Rendezvous
DESCRIPTION:Meat Raffle | Hummer’s Rendezvous Grantsburg\, WI\nProceeds go to the Squirrels Unlimited\nEvery Friday 6:00pm\n115 E Madison Ave\nGrantsburg\, WI\n715-463-2322
URL:https://burnettcountyfun.com/event/meat-raffle-hummers-rendezvous/2027-05-07/
LOCATION:Hummer’s Rendezvous\, 115 W Madison Ave\, Grantsburg\, WI\, 54840\, United States
CATEGORIES:Charity/Fundraiser,Food/Beverage
END:VEVENT
BEGIN:VEVENT
DTSTART;TZID=UTC:20270514T180000
DTEND;TZID=UTC:20270514T190000
DTSTAMP:20260419T204343
CREATED:20230607T004130Z
LAST-MODIFIED:20230731T051425Z
UID:10000780-1810317600-1810321200@burnettcountyfun.com
SUMMARY:Meat Raffle | Hummers Rendezvous
DESCRIPTION:Meat Raffle | Hummer’s Rendezvous Grantsburg\, WI\nProceeds go to the Squirrels Unlimited\nEvery Friday 6:00pm\n115 E Madison Ave\nGrantsburg\, WI\n715-463-2322
URL:https://burnettcountyfun.com/event/meat-raffle-hummers-rendezvous/2027-05-14/
LOCATION:Hummer’s Rendezvous\, 115 W Madison Ave\, Grantsburg\, WI\, 54840\, United States
CATEGORIES:Charity/Fundraiser,Food/Beverage
END:VEVENT
BEGIN:VEVENT
DTSTART;TZID=UTC:20270521T180000
DTEND;TZID=UTC:20270521T190000
DTSTAMP:20260419T204343
CREATED:20230607T004130Z
LAST-MODIFIED:20230731T051425Z
UID:10000781-1810922400-1810926000@burnettcountyfun.com
SUMMARY:Meat Raffle | Hummers Rendezvous
DESCRIPTION:Meat Raffle | Hummer’s Rendezvous Grantsburg\, WI\nProceeds go to the Squirrels Unlimited\nEvery Friday 6:00pm\n115 E Madison Ave\nGrantsburg\, WI\n715-463-2322
URL:https://burnettcountyfun.com/event/meat-raffle-hummers-rendezvous/2027-05-21/
LOCATION:Hummer’s Rendezvous\, 115 W Madison Ave\, Grantsburg\, WI\, 54840\, United States
CATEGORIES:Charity/Fundraiser,Food/Beverage
END:VEVENT
BEGIN:VEVENT
DTSTART;TZID=UTC:20270528T180000
DTEND;TZID=UTC:20270528T190000
DTSTAMP:20260419T204343
CREATED:20230607T004130Z
LAST-MODIFIED:20230731T051425Z
UID:10000782-1811527200-1811530800@burnettcountyfun.com
SUMMARY:Meat Raffle | Hummers Rendezvous
DESCRIPTION:Meat Raffle | Hummer’s Rendezvous Grantsburg\, WI\nProceeds go to the Squirrels Unlimited\nEvery Friday 6:00pm\n115 E Madison Ave\nGrantsburg\, WI\n715-463-2322
URL:https://burnettcountyfun.com/event/meat-raffle-hummers-rendezvous/2027-05-28/
LOCATION:Hummer’s Rendezvous\, 115 W Madison Ave\, Grantsburg\, WI\, 54840\, United States
CATEGORIES:Charity/Fundraiser,Food/Beverage
END:VEVENT
BEGIN:VEVENT
DTSTART;TZID=UTC:20270604T180000
DTEND;TZID=UTC:20270604T190000
DTSTAMP:20260419T204343
CREATED:20230607T004130Z
LAST-MODIFIED:20230731T051425Z
UID:10000783-1812132000-1812135600@burnettcountyfun.com
SUMMARY:Meat Raffle | Hummers Rendezvous
DESCRIPTION:Meat Raffle | Hummer’s Rendezvous Grantsburg\, WI\nProceeds go to the Squirrels Unlimited\nEvery Friday 6:00pm\n115 E Madison Ave\nGrantsburg\, WI\n715-463-2322
URL:https://burnettcountyfun.com/event/meat-raffle-hummers-rendezvous/2027-06-04/
LOCATION:Hummer’s Rendezvous\, 115 W Madison Ave\, Grantsburg\, WI\, 54840\, United States
CATEGORIES:Charity/Fundraiser,Food/Beverage
END:VEVENT
BEGIN:VEVENT
DTSTART;TZID=UTC:20270611T180000
DTEND;TZID=UTC:20270611T190000
DTSTAMP:20260419T204343
CREATED:20230607T004130Z
LAST-MODIFIED:20230731T051425Z
UID:10000784-1812736800-1812740400@burnettcountyfun.com
SUMMARY:Meat Raffle | Hummers Rendezvous
DESCRIPTION:Meat Raffle | Hummer’s Rendezvous Grantsburg\, WI\nProceeds go to the Squirrels Unlimited\nEvery Friday 6:00pm\n115 E Madison Ave\nGrantsburg\, WI\n715-463-2322
URL:https://burnettcountyfun.com/event/meat-raffle-hummers-rendezvous/2027-06-11/
LOCATION:Hummer’s Rendezvous\, 115 W Madison Ave\, Grantsburg\, WI\, 54840\, United States
CATEGORIES:Charity/Fundraiser,Food/Beverage
END:VEVENT
BEGIN:VEVENT
DTSTART;TZID=UTC:20270618T180000
DTEND;TZID=UTC:20270618T190000
DTSTAMP:20260419T204343
CREATED:20230607T004130Z
LAST-MODIFIED:20230731T051425Z
UID:10000785-1813341600-1813345200@burnettcountyfun.com
SUMMARY:Meat Raffle | Hummers Rendezvous
DESCRIPTION:Meat Raffle | Hummer’s Rendezvous Grantsburg\, WI\nProceeds go to the Squirrels Unlimited\nEvery Friday 6:00pm\n115 E Madison Ave\nGrantsburg\, WI\n715-463-2322
URL:https://burnettcountyfun.com/event/meat-raffle-hummers-rendezvous/2027-06-18/
LOCATION:Hummer’s Rendezvous\, 115 W Madison Ave\, Grantsburg\, WI\, 54840\, United States
CATEGORIES:Charity/Fundraiser,Food/Beverage
END:VEVENT
BEGIN:VEVENT
DTSTART;TZID=UTC:20270625T180000
DTEND;TZID=UTC:20270625T190000
DTSTAMP:20260419T204343
CREATED:20230607T004130Z
LAST-MODIFIED:20230731T051425Z
UID:10000786-1813946400-1813950000@burnettcountyfun.com
SUMMARY:Meat Raffle | Hummers Rendezvous
DESCRIPTION:Meat Raffle | Hummer’s Rendezvous Grantsburg\, WI\nProceeds go to the Squirrels Unlimited\nEvery Friday 6:00pm\n115 E Madison Ave\nGrantsburg\, WI\n715-463-2322
URL:https://burnettcountyfun.com/event/meat-raffle-hummers-rendezvous/2027-06-25/
LOCATION:Hummer’s Rendezvous\, 115 W Madison Ave\, Grantsburg\, WI\, 54840\, United States
CATEGORIES:Charity/Fundraiser,Food/Beverage
END:VEVENT
BEGIN:VEVENT
DTSTART;TZID=UTC:20270702T180000
DTEND;TZID=UTC:20270702T190000
DTSTAMP:20260419T204343
CREATED:20230607T004130Z
LAST-MODIFIED:20230731T051425Z
UID:10000787-1814551200-1814554800@burnettcountyfun.com
SUMMARY:Meat Raffle | Hummers Rendezvous
DESCRIPTION:Meat Raffle | Hummer’s Rendezvous Grantsburg\, WI\nProceeds go to the Squirrels Unlimited\nEvery Friday 6:00pm\n115 E Madison Ave\nGrantsburg\, WI\n715-463-2322
URL:https://burnettcountyfun.com/event/meat-raffle-hummers-rendezvous/2027-07-02/
LOCATION:Hummer’s Rendezvous\, 115 W Madison Ave\, Grantsburg\, WI\, 54840\, United States
CATEGORIES:Charity/Fundraiser,Food/Beverage
END:VEVENT
BEGIN:VEVENT
DTSTART;TZID=UTC:20270709T180000
DTEND;TZID=UTC:20270709T190000
DTSTAMP:20260419T204343
CREATED:20230607T004130Z
LAST-MODIFIED:20230731T051425Z
UID:10000788-1815156000-1815159600@burnettcountyfun.com
SUMMARY:Meat Raffle | Hummers Rendezvous
DESCRIPTION:Meat Raffle | Hummer’s Rendezvous Grantsburg\, WI\nProceeds go to the Squirrels Unlimited\nEvery Friday 6:00pm\n115 E Madison Ave\nGrantsburg\, WI\n715-463-2322
URL:https://burnettcountyfun.com/event/meat-raffle-hummers-rendezvous/2027-07-09/
LOCATION:Hummer’s Rendezvous\, 115 W Madison Ave\, Grantsburg\, WI\, 54840\, United States
CATEGORIES:Charity/Fundraiser,Food/Beverage
END:VEVENT
BEGIN:VEVENT
DTSTART;TZID=UTC:20270716T180000
DTEND;TZID=UTC:20270716T190000
DTSTAMP:20260419T204343
CREATED:20230607T004130Z
LAST-MODIFIED:20230731T051425Z
UID:10000789-1815760800-1815764400@burnettcountyfun.com
SUMMARY:Meat Raffle | Hummers Rendezvous
DESCRIPTION:Meat Raffle | Hummer’s Rendezvous Grantsburg\, WI\nProceeds go to the Squirrels Unlimited\nEvery Friday 6:00pm\n115 E Madison Ave\nGrantsburg\, WI\n715-463-2322
URL:https://burnettcountyfun.com/event/meat-raffle-hummers-rendezvous/2027-07-16/
LOCATION:Hummer’s Rendezvous\, 115 W Madison Ave\, Grantsburg\, WI\, 54840\, United States
CATEGORIES:Charity/Fundraiser,Food/Beverage
END:VEVENT
BEGIN:VEVENT
DTSTART;TZID=UTC:20270723T180000
DTEND;TZID=UTC:20270723T190000
DTSTAMP:20260419T204343
CREATED:20230607T004130Z
LAST-MODIFIED:20230731T051425Z
UID:10000790-1816365600-1816369200@burnettcountyfun.com
SUMMARY:Meat Raffle | Hummers Rendezvous
DESCRIPTION:Meat Raffle | Hummer’s Rendezvous Grantsburg\, WI\nProceeds go to the Squirrels Unlimited\nEvery Friday 6:00pm\n115 E Madison Ave\nGrantsburg\, WI\n715-463-2322
URL:https://burnettcountyfun.com/event/meat-raffle-hummers-rendezvous/2027-07-23/
LOCATION:Hummer’s Rendezvous\, 115 W Madison Ave\, Grantsburg\, WI\, 54840\, United States
CATEGORIES:Charity/Fundraiser,Food/Beverage
END:VEVENT
END:VCALENDAR