BEGIN:VCALENDAR
VERSION:2.0
PRODID:-//Burnett County, Wisconsin - ECPv6.15.20//NONSGML v1.0//EN
CALSCALE:GREGORIAN
METHOD:PUBLISH
X-ORIGINAL-URL:https://burnettcountyfun.com
X-WR-CALDESC:Events for Burnett County, Wisconsin
REFRESH-INTERVAL;VALUE=DURATION:PT1H
X-Robots-Tag:noindex
X-PUBLISHED-TTL:PT1H
BEGIN:VTIMEZONE
TZID:UTC
BEGIN:STANDARD
TZOFFSETFROM:+0000
TZOFFSETTO:+0000
TZNAME:UTC
DTSTART:20260101T000000
END:STANDARD
END:VTIMEZONE
BEGIN:VEVENT
DTSTART;TZID=UTC:20270102T170000
DTEND;TZID=UTC:20270102T190000
DTSTAMP:20260425T072055
CREATED:20230607T014933Z
LAST-MODIFIED:20230722T040328Z
UID:10002815-1798909200-1798916400@burnettcountyfun.com
SUMMARY:Meat Raffle | Lilly Lake Tavern
DESCRIPTION:Meat Raffle | Lilly Lake Tavern\nEvery Saturday 5:00pm\n5891 County Rd A\nWebster\, WI
URL:https://burnettcountyfun.com/event/meat-raffle-lilly-lake-tavern/2027-01-02/
LOCATION:Lilly Lake Tavern\, 5891 County Rd A\, Webster\, WI\, 54893\, United States
CATEGORIES:Food/Beverage
END:VEVENT
BEGIN:VEVENT
DTSTART;TZID=UTC:20270109T170000
DTEND;TZID=UTC:20270109T190000
DTSTAMP:20260425T072055
CREATED:20230607T014933Z
LAST-MODIFIED:20230722T040328Z
UID:10002816-1799514000-1799521200@burnettcountyfun.com
SUMMARY:Meat Raffle | Lilly Lake Tavern
DESCRIPTION:Meat Raffle | Lilly Lake Tavern\nEvery Saturday 5:00pm\n5891 County Rd A\nWebster\, WI
URL:https://burnettcountyfun.com/event/meat-raffle-lilly-lake-tavern/2027-01-09/
LOCATION:Lilly Lake Tavern\, 5891 County Rd A\, Webster\, WI\, 54893\, United States
CATEGORIES:Food/Beverage
END:VEVENT
BEGIN:VEVENT
DTSTART;TZID=UTC:20270116T170000
DTEND;TZID=UTC:20270116T190000
DTSTAMP:20260425T072055
CREATED:20230607T014933Z
LAST-MODIFIED:20230722T040328Z
UID:10002817-1800118800-1800126000@burnettcountyfun.com
SUMMARY:Meat Raffle | Lilly Lake Tavern
DESCRIPTION:Meat Raffle | Lilly Lake Tavern\nEvery Saturday 5:00pm\n5891 County Rd A\nWebster\, WI
URL:https://burnettcountyfun.com/event/meat-raffle-lilly-lake-tavern/2027-01-16/
LOCATION:Lilly Lake Tavern\, 5891 County Rd A\, Webster\, WI\, 54893\, United States
CATEGORIES:Food/Beverage
END:VEVENT
BEGIN:VEVENT
DTSTART;TZID=UTC:20270123T170000
DTEND;TZID=UTC:20270123T190000
DTSTAMP:20260425T072055
CREATED:20230607T014933Z
LAST-MODIFIED:20230722T040328Z
UID:10002818-1800723600-1800730800@burnettcountyfun.com
SUMMARY:Meat Raffle | Lilly Lake Tavern
DESCRIPTION:Meat Raffle | Lilly Lake Tavern\nEvery Saturday 5:00pm\n5891 County Rd A\nWebster\, WI
URL:https://burnettcountyfun.com/event/meat-raffle-lilly-lake-tavern/2027-01-23/
LOCATION:Lilly Lake Tavern\, 5891 County Rd A\, Webster\, WI\, 54893\, United States
CATEGORIES:Food/Beverage
END:VEVENT
BEGIN:VEVENT
DTSTART;TZID=UTC:20270130T170000
DTEND;TZID=UTC:20270130T190000
DTSTAMP:20260425T072055
CREATED:20230607T014933Z
LAST-MODIFIED:20230722T040328Z
UID:10002819-1801328400-1801335600@burnettcountyfun.com
SUMMARY:Meat Raffle | Lilly Lake Tavern
DESCRIPTION:Meat Raffle | Lilly Lake Tavern\nEvery Saturday 5:00pm\n5891 County Rd A\nWebster\, WI
URL:https://burnettcountyfun.com/event/meat-raffle-lilly-lake-tavern/2027-01-30/
LOCATION:Lilly Lake Tavern\, 5891 County Rd A\, Webster\, WI\, 54893\, United States
CATEGORIES:Food/Beverage
END:VEVENT
BEGIN:VEVENT
DTSTART;TZID=UTC:20270206T170000
DTEND;TZID=UTC:20270206T190000
DTSTAMP:20260425T072055
CREATED:20230607T014933Z
LAST-MODIFIED:20230722T040328Z
UID:10002820-1801933200-1801940400@burnettcountyfun.com
SUMMARY:Meat Raffle | Lilly Lake Tavern
DESCRIPTION:Meat Raffle | Lilly Lake Tavern\nEvery Saturday 5:00pm\n5891 County Rd A\nWebster\, WI
URL:https://burnettcountyfun.com/event/meat-raffle-lilly-lake-tavern/2027-02-06/
LOCATION:Lilly Lake Tavern\, 5891 County Rd A\, Webster\, WI\, 54893\, United States
CATEGORIES:Food/Beverage
END:VEVENT
BEGIN:VEVENT
DTSTART;TZID=UTC:20270213T170000
DTEND;TZID=UTC:20270213T190000
DTSTAMP:20260425T072055
CREATED:20230607T014933Z
LAST-MODIFIED:20230722T040328Z
UID:10002821-1802538000-1802545200@burnettcountyfun.com
SUMMARY:Meat Raffle | Lilly Lake Tavern
DESCRIPTION:Meat Raffle | Lilly Lake Tavern\nEvery Saturday 5:00pm\n5891 County Rd A\nWebster\, WI
URL:https://burnettcountyfun.com/event/meat-raffle-lilly-lake-tavern/2027-02-13/
LOCATION:Lilly Lake Tavern\, 5891 County Rd A\, Webster\, WI\, 54893\, United States
CATEGORIES:Food/Beverage
END:VEVENT
BEGIN:VEVENT
DTSTART;TZID=UTC:20270220T170000
DTEND;TZID=UTC:20270220T190000
DTSTAMP:20260425T072055
CREATED:20230607T014933Z
LAST-MODIFIED:20230722T040328Z
UID:10002822-1803142800-1803150000@burnettcountyfun.com
SUMMARY:Meat Raffle | Lilly Lake Tavern
DESCRIPTION:Meat Raffle | Lilly Lake Tavern\nEvery Saturday 5:00pm\n5891 County Rd A\nWebster\, WI
URL:https://burnettcountyfun.com/event/meat-raffle-lilly-lake-tavern/2027-02-20/
LOCATION:Lilly Lake Tavern\, 5891 County Rd A\, Webster\, WI\, 54893\, United States
CATEGORIES:Food/Beverage
END:VEVENT
BEGIN:VEVENT
DTSTART;TZID=UTC:20270227T170000
DTEND;TZID=UTC:20270227T190000
DTSTAMP:20260425T072055
CREATED:20230607T014933Z
LAST-MODIFIED:20230722T040328Z
UID:10002823-1803747600-1803754800@burnettcountyfun.com
SUMMARY:Meat Raffle | Lilly Lake Tavern
DESCRIPTION:Meat Raffle | Lilly Lake Tavern\nEvery Saturday 5:00pm\n5891 County Rd A\nWebster\, WI
URL:https://burnettcountyfun.com/event/meat-raffle-lilly-lake-tavern/2027-02-27/
LOCATION:Lilly Lake Tavern\, 5891 County Rd A\, Webster\, WI\, 54893\, United States
CATEGORIES:Food/Beverage
END:VEVENT
BEGIN:VEVENT
DTSTART;TZID=UTC:20270306T170000
DTEND;TZID=UTC:20270306T190000
DTSTAMP:20260425T072055
CREATED:20230607T014933Z
LAST-MODIFIED:20230722T040328Z
UID:10002824-1804352400-1804359600@burnettcountyfun.com
SUMMARY:Meat Raffle | Lilly Lake Tavern
DESCRIPTION:Meat Raffle | Lilly Lake Tavern\nEvery Saturday 5:00pm\n5891 County Rd A\nWebster\, WI
URL:https://burnettcountyfun.com/event/meat-raffle-lilly-lake-tavern/2027-03-06/
LOCATION:Lilly Lake Tavern\, 5891 County Rd A\, Webster\, WI\, 54893\, United States
CATEGORIES:Food/Beverage
END:VEVENT
BEGIN:VEVENT
DTSTART;TZID=UTC:20270313T170000
DTEND;TZID=UTC:20270313T190000
DTSTAMP:20260425T072055
CREATED:20230607T014933Z
LAST-MODIFIED:20230722T040328Z
UID:10002825-1804957200-1804964400@burnettcountyfun.com
SUMMARY:Meat Raffle | Lilly Lake Tavern
DESCRIPTION:Meat Raffle | Lilly Lake Tavern\nEvery Saturday 5:00pm\n5891 County Rd A\nWebster\, WI
URL:https://burnettcountyfun.com/event/meat-raffle-lilly-lake-tavern/2027-03-13/
LOCATION:Lilly Lake Tavern\, 5891 County Rd A\, Webster\, WI\, 54893\, United States
CATEGORIES:Food/Beverage
END:VEVENT
BEGIN:VEVENT
DTSTART;TZID=UTC:20270320T170000
DTEND;TZID=UTC:20270320T190000
DTSTAMP:20260425T072055
CREATED:20230607T014933Z
LAST-MODIFIED:20230722T040328Z
UID:10002826-1805562000-1805569200@burnettcountyfun.com
SUMMARY:Meat Raffle | Lilly Lake Tavern
DESCRIPTION:Meat Raffle | Lilly Lake Tavern\nEvery Saturday 5:00pm\n5891 County Rd A\nWebster\, WI
URL:https://burnettcountyfun.com/event/meat-raffle-lilly-lake-tavern/2027-03-20/
LOCATION:Lilly Lake Tavern\, 5891 County Rd A\, Webster\, WI\, 54893\, United States
CATEGORIES:Food/Beverage
END:VEVENT
BEGIN:VEVENT
DTSTART;TZID=UTC:20270327T170000
DTEND;TZID=UTC:20270327T190000
DTSTAMP:20260425T072055
CREATED:20230607T014933Z
LAST-MODIFIED:20230722T040328Z
UID:10002827-1806166800-1806174000@burnettcountyfun.com
SUMMARY:Meat Raffle | Lilly Lake Tavern
DESCRIPTION:Meat Raffle | Lilly Lake Tavern\nEvery Saturday 5:00pm\n5891 County Rd A\nWebster\, WI
URL:https://burnettcountyfun.com/event/meat-raffle-lilly-lake-tavern/2027-03-27/
LOCATION:Lilly Lake Tavern\, 5891 County Rd A\, Webster\, WI\, 54893\, United States
CATEGORIES:Food/Beverage
END:VEVENT
BEGIN:VEVENT
DTSTART;TZID=UTC:20270403T170000
DTEND;TZID=UTC:20270403T190000
DTSTAMP:20260425T072055
CREATED:20230607T014933Z
LAST-MODIFIED:20230722T040328Z
UID:10002828-1806771600-1806778800@burnettcountyfun.com
SUMMARY:Meat Raffle | Lilly Lake Tavern
DESCRIPTION:Meat Raffle | Lilly Lake Tavern\nEvery Saturday 5:00pm\n5891 County Rd A\nWebster\, WI
URL:https://burnettcountyfun.com/event/meat-raffle-lilly-lake-tavern/2027-04-03/
LOCATION:Lilly Lake Tavern\, 5891 County Rd A\, Webster\, WI\, 54893\, United States
CATEGORIES:Food/Beverage
END:VEVENT
BEGIN:VEVENT
DTSTART;TZID=UTC:20270410T170000
DTEND;TZID=UTC:20270410T190000
DTSTAMP:20260425T072055
CREATED:20230607T014933Z
LAST-MODIFIED:20230722T040328Z
UID:10002829-1807376400-1807383600@burnettcountyfun.com
SUMMARY:Meat Raffle | Lilly Lake Tavern
DESCRIPTION:Meat Raffle | Lilly Lake Tavern\nEvery Saturday 5:00pm\n5891 County Rd A\nWebster\, WI
URL:https://burnettcountyfun.com/event/meat-raffle-lilly-lake-tavern/2027-04-10/
LOCATION:Lilly Lake Tavern\, 5891 County Rd A\, Webster\, WI\, 54893\, United States
CATEGORIES:Food/Beverage
END:VEVENT
BEGIN:VEVENT
DTSTART;TZID=UTC:20270417T170000
DTEND;TZID=UTC:20270417T190000
DTSTAMP:20260425T072055
CREATED:20230607T014933Z
LAST-MODIFIED:20230722T040328Z
UID:10002830-1807981200-1807988400@burnettcountyfun.com
SUMMARY:Meat Raffle | Lilly Lake Tavern
DESCRIPTION:Meat Raffle | Lilly Lake Tavern\nEvery Saturday 5:00pm\n5891 County Rd A\nWebster\, WI
URL:https://burnettcountyfun.com/event/meat-raffle-lilly-lake-tavern/2027-04-17/
LOCATION:Lilly Lake Tavern\, 5891 County Rd A\, Webster\, WI\, 54893\, United States
CATEGORIES:Food/Beverage
END:VEVENT
BEGIN:VEVENT
DTSTART;TZID=UTC:20270424T170000
DTEND;TZID=UTC:20270424T190000
DTSTAMP:20260425T072055
CREATED:20230607T014933Z
LAST-MODIFIED:20230722T040328Z
UID:10002831-1808586000-1808593200@burnettcountyfun.com
SUMMARY:Meat Raffle | Lilly Lake Tavern
DESCRIPTION:Meat Raffle | Lilly Lake Tavern\nEvery Saturday 5:00pm\n5891 County Rd A\nWebster\, WI
URL:https://burnettcountyfun.com/event/meat-raffle-lilly-lake-tavern/2027-04-24/
LOCATION:Lilly Lake Tavern\, 5891 County Rd A\, Webster\, WI\, 54893\, United States
CATEGORIES:Food/Beverage
END:VEVENT
BEGIN:VEVENT
DTSTART;TZID=UTC:20270501T170000
DTEND;TZID=UTC:20270501T190000
DTSTAMP:20260425T072055
CREATED:20230607T014933Z
LAST-MODIFIED:20230722T040328Z
UID:10002832-1809190800-1809198000@burnettcountyfun.com
SUMMARY:Meat Raffle | Lilly Lake Tavern
DESCRIPTION:Meat Raffle | Lilly Lake Tavern\nEvery Saturday 5:00pm\n5891 County Rd A\nWebster\, WI
URL:https://burnettcountyfun.com/event/meat-raffle-lilly-lake-tavern/2027-05-01/
LOCATION:Lilly Lake Tavern\, 5891 County Rd A\, Webster\, WI\, 54893\, United States
CATEGORIES:Food/Beverage
END:VEVENT
BEGIN:VEVENT
DTSTART;TZID=UTC:20270508T170000
DTEND;TZID=UTC:20270508T190000
DTSTAMP:20260425T072055
CREATED:20230607T014933Z
LAST-MODIFIED:20230722T040328Z
UID:10002833-1809795600-1809802800@burnettcountyfun.com
SUMMARY:Meat Raffle | Lilly Lake Tavern
DESCRIPTION:Meat Raffle | Lilly Lake Tavern\nEvery Saturday 5:00pm\n5891 County Rd A\nWebster\, WI
URL:https://burnettcountyfun.com/event/meat-raffle-lilly-lake-tavern/2027-05-08/
LOCATION:Lilly Lake Tavern\, 5891 County Rd A\, Webster\, WI\, 54893\, United States
CATEGORIES:Food/Beverage
END:VEVENT
BEGIN:VEVENT
DTSTART;TZID=UTC:20270515T170000
DTEND;TZID=UTC:20270515T190000
DTSTAMP:20260425T072055
CREATED:20230607T014933Z
LAST-MODIFIED:20230722T040328Z
UID:10002834-1810400400-1810407600@burnettcountyfun.com
SUMMARY:Meat Raffle | Lilly Lake Tavern
DESCRIPTION:Meat Raffle | Lilly Lake Tavern\nEvery Saturday 5:00pm\n5891 County Rd A\nWebster\, WI
URL:https://burnettcountyfun.com/event/meat-raffle-lilly-lake-tavern/2027-05-15/
LOCATION:Lilly Lake Tavern\, 5891 County Rd A\, Webster\, WI\, 54893\, United States
CATEGORIES:Food/Beverage
END:VEVENT
BEGIN:VEVENT
DTSTART;TZID=UTC:20270522T170000
DTEND;TZID=UTC:20270522T190000
DTSTAMP:20260425T072055
CREATED:20230607T014933Z
LAST-MODIFIED:20230722T040328Z
UID:10002835-1811005200-1811012400@burnettcountyfun.com
SUMMARY:Meat Raffle | Lilly Lake Tavern
DESCRIPTION:Meat Raffle | Lilly Lake Tavern\nEvery Saturday 5:00pm\n5891 County Rd A\nWebster\, WI
URL:https://burnettcountyfun.com/event/meat-raffle-lilly-lake-tavern/2027-05-22/
LOCATION:Lilly Lake Tavern\, 5891 County Rd A\, Webster\, WI\, 54893\, United States
CATEGORIES:Food/Beverage
END:VEVENT
BEGIN:VEVENT
DTSTART;TZID=UTC:20270529T170000
DTEND;TZID=UTC:20270529T190000
DTSTAMP:20260425T072055
CREATED:20230607T014933Z
LAST-MODIFIED:20230722T040328Z
UID:10002836-1811610000-1811617200@burnettcountyfun.com
SUMMARY:Meat Raffle | Lilly Lake Tavern
DESCRIPTION:Meat Raffle | Lilly Lake Tavern\nEvery Saturday 5:00pm\n5891 County Rd A\nWebster\, WI
URL:https://burnettcountyfun.com/event/meat-raffle-lilly-lake-tavern/2027-05-29/
LOCATION:Lilly Lake Tavern\, 5891 County Rd A\, Webster\, WI\, 54893\, United States
CATEGORIES:Food/Beverage
END:VEVENT
BEGIN:VEVENT
DTSTART;TZID=UTC:20270605T170000
DTEND;TZID=UTC:20270605T190000
DTSTAMP:20260425T072055
CREATED:20230607T014933Z
LAST-MODIFIED:20230722T040328Z
UID:10002837-1812214800-1812222000@burnettcountyfun.com
SUMMARY:Meat Raffle | Lilly Lake Tavern
DESCRIPTION:Meat Raffle | Lilly Lake Tavern\nEvery Saturday 5:00pm\n5891 County Rd A\nWebster\, WI
URL:https://burnettcountyfun.com/event/meat-raffle-lilly-lake-tavern/2027-06-05/
LOCATION:Lilly Lake Tavern\, 5891 County Rd A\, Webster\, WI\, 54893\, United States
CATEGORIES:Food/Beverage
END:VEVENT
BEGIN:VEVENT
DTSTART;TZID=UTC:20270612T170000
DTEND;TZID=UTC:20270612T190000
DTSTAMP:20260425T072055
CREATED:20230607T014933Z
LAST-MODIFIED:20230722T040328Z
UID:10002838-1812819600-1812826800@burnettcountyfun.com
SUMMARY:Meat Raffle | Lilly Lake Tavern
DESCRIPTION:Meat Raffle | Lilly Lake Tavern\nEvery Saturday 5:00pm\n5891 County Rd A\nWebster\, WI
URL:https://burnettcountyfun.com/event/meat-raffle-lilly-lake-tavern/2027-06-12/
LOCATION:Lilly Lake Tavern\, 5891 County Rd A\, Webster\, WI\, 54893\, United States
CATEGORIES:Food/Beverage
END:VEVENT
BEGIN:VEVENT
DTSTART;TZID=UTC:20270619T170000
DTEND;TZID=UTC:20270619T190000
DTSTAMP:20260425T072055
CREATED:20230607T014933Z
LAST-MODIFIED:20230722T040328Z
UID:10002839-1813424400-1813431600@burnettcountyfun.com
SUMMARY:Meat Raffle | Lilly Lake Tavern
DESCRIPTION:Meat Raffle | Lilly Lake Tavern\nEvery Saturday 5:00pm\n5891 County Rd A\nWebster\, WI
URL:https://burnettcountyfun.com/event/meat-raffle-lilly-lake-tavern/2027-06-19/
LOCATION:Lilly Lake Tavern\, 5891 County Rd A\, Webster\, WI\, 54893\, United States
CATEGORIES:Food/Beverage
END:VEVENT
BEGIN:VEVENT
DTSTART;TZID=UTC:20270626T170000
DTEND;TZID=UTC:20270626T190000
DTSTAMP:20260425T072055
CREATED:20230607T014933Z
LAST-MODIFIED:20230722T040328Z
UID:10002840-1814029200-1814036400@burnettcountyfun.com
SUMMARY:Meat Raffle | Lilly Lake Tavern
DESCRIPTION:Meat Raffle | Lilly Lake Tavern\nEvery Saturday 5:00pm\n5891 County Rd A\nWebster\, WI
URL:https://burnettcountyfun.com/event/meat-raffle-lilly-lake-tavern/2027-06-26/
LOCATION:Lilly Lake Tavern\, 5891 County Rd A\, Webster\, WI\, 54893\, United States
CATEGORIES:Food/Beverage
END:VEVENT
BEGIN:VEVENT
DTSTART;TZID=UTC:20270703T170000
DTEND;TZID=UTC:20270703T190000
DTSTAMP:20260425T072055
CREATED:20230607T014933Z
LAST-MODIFIED:20230722T040328Z
UID:10002841-1814634000-1814641200@burnettcountyfun.com
SUMMARY:Meat Raffle | Lilly Lake Tavern
DESCRIPTION:Meat Raffle | Lilly Lake Tavern\nEvery Saturday 5:00pm\n5891 County Rd A\nWebster\, WI
URL:https://burnettcountyfun.com/event/meat-raffle-lilly-lake-tavern/2027-07-03/
LOCATION:Lilly Lake Tavern\, 5891 County Rd A\, Webster\, WI\, 54893\, United States
CATEGORIES:Food/Beverage
END:VEVENT
BEGIN:VEVENT
DTSTART;TZID=UTC:20270710T170000
DTEND;TZID=UTC:20270710T190000
DTSTAMP:20260425T072055
CREATED:20230607T014933Z
LAST-MODIFIED:20230722T040328Z
UID:10002842-1815238800-1815246000@burnettcountyfun.com
SUMMARY:Meat Raffle | Lilly Lake Tavern
DESCRIPTION:Meat Raffle | Lilly Lake Tavern\nEvery Saturday 5:00pm\n5891 County Rd A\nWebster\, WI
URL:https://burnettcountyfun.com/event/meat-raffle-lilly-lake-tavern/2027-07-10/
LOCATION:Lilly Lake Tavern\, 5891 County Rd A\, Webster\, WI\, 54893\, United States
CATEGORIES:Food/Beverage
END:VEVENT
BEGIN:VEVENT
DTSTART;TZID=UTC:20270717T170000
DTEND;TZID=UTC:20270717T190000
DTSTAMP:20260425T072055
CREATED:20230607T014933Z
LAST-MODIFIED:20230722T040328Z
UID:10002843-1815843600-1815850800@burnettcountyfun.com
SUMMARY:Meat Raffle | Lilly Lake Tavern
DESCRIPTION:Meat Raffle | Lilly Lake Tavern\nEvery Saturday 5:00pm\n5891 County Rd A\nWebster\, WI
URL:https://burnettcountyfun.com/event/meat-raffle-lilly-lake-tavern/2027-07-17/
LOCATION:Lilly Lake Tavern\, 5891 County Rd A\, Webster\, WI\, 54893\, United States
CATEGORIES:Food/Beverage
END:VEVENT
BEGIN:VEVENT
DTSTART;TZID=UTC:20270724T170000
DTEND;TZID=UTC:20270724T190000
DTSTAMP:20260425T072055
CREATED:20230607T014933Z
LAST-MODIFIED:20230722T040328Z
UID:10002844-1816448400-1816455600@burnettcountyfun.com
SUMMARY:Meat Raffle | Lilly Lake Tavern
DESCRIPTION:Meat Raffle | Lilly Lake Tavern\nEvery Saturday 5:00pm\n5891 County Rd A\nWebster\, WI
URL:https://burnettcountyfun.com/event/meat-raffle-lilly-lake-tavern/2027-07-24/
LOCATION:Lilly Lake Tavern\, 5891 County Rd A\, Webster\, WI\, 54893\, United States
CATEGORIES:Food/Beverage
END:VEVENT
END:VCALENDAR