BEGIN:VCALENDAR
VERSION:2.0
PRODID:-//Burnett County, Wisconsin - ECPv6.15.20//NONSGML v1.0//EN
CALSCALE:GREGORIAN
METHOD:PUBLISH
X-WR-CALNAME:Burnett County, Wisconsin
X-ORIGINAL-URL:https://burnettcountyfun.com
X-WR-CALDESC:Events for Burnett County, Wisconsin
REFRESH-INTERVAL;VALUE=DURATION:PT1H
X-Robots-Tag:noindex
X-PUBLISHED-TTL:PT1H
BEGIN:VTIMEZONE
TZID:UTC
BEGIN:STANDARD
TZOFFSETFROM:+0000
TZOFFSETTO:+0000
TZNAME:UTC
DTSTART:20240101T000000
END:STANDARD
END:VTIMEZONE
BEGIN:VEVENT
DTSTART;TZID=UTC:20251113T150000
DTEND;TZID=UTC:20251113T210000
DTSTAMP:20260419T222620
CREATED:20240203T220727Z
LAST-MODIFIED:20240203T220727Z
UID:10006360-1763046000-1763067600@burnettcountyfun.com
SUMMARY:Open Pool | Danbury\, WI
DESCRIPTION:Hey\, pool sharks! Come down to McGraw Lake Tavern for free pool every Thursday from 3-9pm.\nGrab your cue sticks and show off your skills while enjoying great company. See you there!
URL:https://burnettcountyfun.com/event/open-pool-danbury-wi/2025-11-13/
LOCATION:McGraw Lake Tavern\, 34002 State Highway 35\, Danbury\, WI\, United States
ATTACH;FMTTYPE=image/jpeg:https://burnettcountyfun.com/wp-content/uploads/2024/02/424632497_901894755058813_8877861181803262018_n.jpg
END:VEVENT
BEGIN:VEVENT
DTSTART;TZID=UTC:20251106T150000
DTEND;TZID=UTC:20251106T210000
DTSTAMP:20260419T222620
CREATED:20240203T220727Z
LAST-MODIFIED:20240203T220727Z
UID:10006359-1762441200-1762462800@burnettcountyfun.com
SUMMARY:Open Pool | Danbury\, WI
DESCRIPTION:Hey\, pool sharks! Come down to McGraw Lake Tavern for free pool every Thursday from 3-9pm.\nGrab your cue sticks and show off your skills while enjoying great company. See you there!
URL:https://burnettcountyfun.com/event/open-pool-danbury-wi/2025-11-06/
LOCATION:McGraw Lake Tavern\, 34002 State Highway 35\, Danbury\, WI\, United States
ATTACH;FMTTYPE=image/jpeg:https://burnettcountyfun.com/wp-content/uploads/2024/02/424632497_901894755058813_8877861181803262018_n.jpg
END:VEVENT
BEGIN:VEVENT
DTSTART;TZID=UTC:20251030T150000
DTEND;TZID=UTC:20251030T210000
DTSTAMP:20260419T222620
CREATED:20240203T220727Z
LAST-MODIFIED:20240203T220727Z
UID:10006358-1761836400-1761858000@burnettcountyfun.com
SUMMARY:Open Pool | Danbury\, WI
DESCRIPTION:Hey\, pool sharks! Come down to McGraw Lake Tavern for free pool every Thursday from 3-9pm.\nGrab your cue sticks and show off your skills while enjoying great company. See you there!
URL:https://burnettcountyfun.com/event/open-pool-danbury-wi/2025-10-30/
LOCATION:McGraw Lake Tavern\, 34002 State Highway 35\, Danbury\, WI\, United States
ATTACH;FMTTYPE=image/jpeg:https://burnettcountyfun.com/wp-content/uploads/2024/02/424632497_901894755058813_8877861181803262018_n.jpg
END:VEVENT
BEGIN:VEVENT
DTSTART;TZID=UTC:20251023T150000
DTEND;TZID=UTC:20251023T210000
DTSTAMP:20260419T222620
CREATED:20240203T220727Z
LAST-MODIFIED:20240203T220727Z
UID:10006357-1761231600-1761253200@burnettcountyfun.com
SUMMARY:Open Pool | Danbury\, WI
DESCRIPTION:Hey\, pool sharks! Come down to McGraw Lake Tavern for free pool every Thursday from 3-9pm.\nGrab your cue sticks and show off your skills while enjoying great company. See you there!
URL:https://burnettcountyfun.com/event/open-pool-danbury-wi/2025-10-23/
LOCATION:McGraw Lake Tavern\, 34002 State Highway 35\, Danbury\, WI\, United States
ATTACH;FMTTYPE=image/jpeg:https://burnettcountyfun.com/wp-content/uploads/2024/02/424632497_901894755058813_8877861181803262018_n.jpg
END:VEVENT
BEGIN:VEVENT
DTSTART;TZID=UTC:20251016T150000
DTEND;TZID=UTC:20251016T210000
DTSTAMP:20260419T222620
CREATED:20240203T220727Z
LAST-MODIFIED:20240203T220727Z
UID:10006356-1760626800-1760648400@burnettcountyfun.com
SUMMARY:Open Pool | Danbury\, WI
DESCRIPTION:Hey\, pool sharks! Come down to McGraw Lake Tavern for free pool every Thursday from 3-9pm.\nGrab your cue sticks and show off your skills while enjoying great company. See you there!
URL:https://burnettcountyfun.com/event/open-pool-danbury-wi/2025-10-16/
LOCATION:McGraw Lake Tavern\, 34002 State Highway 35\, Danbury\, WI\, United States
ATTACH;FMTTYPE=image/jpeg:https://burnettcountyfun.com/wp-content/uploads/2024/02/424632497_901894755058813_8877861181803262018_n.jpg
END:VEVENT
BEGIN:VEVENT
DTSTART;TZID=UTC:20251009T150000
DTEND;TZID=UTC:20251009T210000
DTSTAMP:20260419T222620
CREATED:20240203T220727Z
LAST-MODIFIED:20240203T220727Z
UID:10006355-1760022000-1760043600@burnettcountyfun.com
SUMMARY:Open Pool | Danbury\, WI
DESCRIPTION:Hey\, pool sharks! Come down to McGraw Lake Tavern for free pool every Thursday from 3-9pm.\nGrab your cue sticks and show off your skills while enjoying great company. See you there!
URL:https://burnettcountyfun.com/event/open-pool-danbury-wi/2025-10-09/
LOCATION:McGraw Lake Tavern\, 34002 State Highway 35\, Danbury\, WI\, United States
ATTACH;FMTTYPE=image/jpeg:https://burnettcountyfun.com/wp-content/uploads/2024/02/424632497_901894755058813_8877861181803262018_n.jpg
END:VEVENT
BEGIN:VEVENT
DTSTART;TZID=UTC:20251002T150000
DTEND;TZID=UTC:20251002T210000
DTSTAMP:20260419T222620
CREATED:20240203T220727Z
LAST-MODIFIED:20240203T220727Z
UID:10006354-1759417200-1759438800@burnettcountyfun.com
SUMMARY:Open Pool | Danbury\, WI
DESCRIPTION:Hey\, pool sharks! Come down to McGraw Lake Tavern for free pool every Thursday from 3-9pm.\nGrab your cue sticks and show off your skills while enjoying great company. See you there!
URL:https://burnettcountyfun.com/event/open-pool-danbury-wi/2025-10-02/
LOCATION:McGraw Lake Tavern\, 34002 State Highway 35\, Danbury\, WI\, United States
ATTACH;FMTTYPE=image/jpeg:https://burnettcountyfun.com/wp-content/uploads/2024/02/424632497_901894755058813_8877861181803262018_n.jpg
END:VEVENT
BEGIN:VEVENT
DTSTART;TZID=UTC:20250925T150000
DTEND;TZID=UTC:20250925T210000
DTSTAMP:20260419T222620
CREATED:20240203T220727Z
LAST-MODIFIED:20240203T220727Z
UID:10006353-1758812400-1758834000@burnettcountyfun.com
SUMMARY:Open Pool | Danbury\, WI
DESCRIPTION:Hey\, pool sharks! Come down to McGraw Lake Tavern for free pool every Thursday from 3-9pm.\nGrab your cue sticks and show off your skills while enjoying great company. See you there!
URL:https://burnettcountyfun.com/event/open-pool-danbury-wi/2025-09-25/
LOCATION:McGraw Lake Tavern\, 34002 State Highway 35\, Danbury\, WI\, United States
ATTACH;FMTTYPE=image/jpeg:https://burnettcountyfun.com/wp-content/uploads/2024/02/424632497_901894755058813_8877861181803262018_n.jpg
END:VEVENT
BEGIN:VEVENT
DTSTART;TZID=UTC:20250918T150000
DTEND;TZID=UTC:20250918T210000
DTSTAMP:20260419T222620
CREATED:20240203T220727Z
LAST-MODIFIED:20240203T220727Z
UID:10006352-1758207600-1758229200@burnettcountyfun.com
SUMMARY:Open Pool | Danbury\, WI
DESCRIPTION:Hey\, pool sharks! Come down to McGraw Lake Tavern for free pool every Thursday from 3-9pm.\nGrab your cue sticks and show off your skills while enjoying great company. See you there!
URL:https://burnettcountyfun.com/event/open-pool-danbury-wi/2025-09-18/
LOCATION:McGraw Lake Tavern\, 34002 State Highway 35\, Danbury\, WI\, United States
ATTACH;FMTTYPE=image/jpeg:https://burnettcountyfun.com/wp-content/uploads/2024/02/424632497_901894755058813_8877861181803262018_n.jpg
END:VEVENT
BEGIN:VEVENT
DTSTART;TZID=UTC:20250911T150000
DTEND;TZID=UTC:20250911T210000
DTSTAMP:20260419T222620
CREATED:20240203T220727Z
LAST-MODIFIED:20240203T220727Z
UID:10006351-1757602800-1757624400@burnettcountyfun.com
SUMMARY:Open Pool | Danbury\, WI
DESCRIPTION:Hey\, pool sharks! Come down to McGraw Lake Tavern for free pool every Thursday from 3-9pm.\nGrab your cue sticks and show off your skills while enjoying great company. See you there!
URL:https://burnettcountyfun.com/event/open-pool-danbury-wi/2025-09-11/
LOCATION:McGraw Lake Tavern\, 34002 State Highway 35\, Danbury\, WI\, United States
ATTACH;FMTTYPE=image/jpeg:https://burnettcountyfun.com/wp-content/uploads/2024/02/424632497_901894755058813_8877861181803262018_n.jpg
END:VEVENT
BEGIN:VEVENT
DTSTART;TZID=UTC:20250904T150000
DTEND;TZID=UTC:20250904T210000
DTSTAMP:20260419T222620
CREATED:20240203T220727Z
LAST-MODIFIED:20240203T220727Z
UID:10006350-1756998000-1757019600@burnettcountyfun.com
SUMMARY:Open Pool | Danbury\, WI
DESCRIPTION:Hey\, pool sharks! Come down to McGraw Lake Tavern for free pool every Thursday from 3-9pm.\nGrab your cue sticks and show off your skills while enjoying great company. See you there!
URL:https://burnettcountyfun.com/event/open-pool-danbury-wi/2025-09-04/
LOCATION:McGraw Lake Tavern\, 34002 State Highway 35\, Danbury\, WI\, United States
ATTACH;FMTTYPE=image/jpeg:https://burnettcountyfun.com/wp-content/uploads/2024/02/424632497_901894755058813_8877861181803262018_n.jpg
END:VEVENT
BEGIN:VEVENT
DTSTART;TZID=UTC:20250828T150000
DTEND;TZID=UTC:20250828T210000
DTSTAMP:20260419T222620
CREATED:20240203T220727Z
LAST-MODIFIED:20240203T220727Z
UID:10006349-1756393200-1756414800@burnettcountyfun.com
SUMMARY:Open Pool | Danbury\, WI
DESCRIPTION:Hey\, pool sharks! Come down to McGraw Lake Tavern for free pool every Thursday from 3-9pm.\nGrab your cue sticks and show off your skills while enjoying great company. See you there!
URL:https://burnettcountyfun.com/event/open-pool-danbury-wi/2025-08-28/
LOCATION:McGraw Lake Tavern\, 34002 State Highway 35\, Danbury\, WI\, United States
ATTACH;FMTTYPE=image/jpeg:https://burnettcountyfun.com/wp-content/uploads/2024/02/424632497_901894755058813_8877861181803262018_n.jpg
END:VEVENT
BEGIN:VEVENT
DTSTART;TZID=UTC:20250821T150000
DTEND;TZID=UTC:20250821T210000
DTSTAMP:20260419T222620
CREATED:20240203T220727Z
LAST-MODIFIED:20240203T220727Z
UID:10006348-1755788400-1755810000@burnettcountyfun.com
SUMMARY:Open Pool | Danbury\, WI
DESCRIPTION:Hey\, pool sharks! Come down to McGraw Lake Tavern for free pool every Thursday from 3-9pm.\nGrab your cue sticks and show off your skills while enjoying great company. See you there!
URL:https://burnettcountyfun.com/event/open-pool-danbury-wi/2025-08-21/
LOCATION:McGraw Lake Tavern\, 34002 State Highway 35\, Danbury\, WI\, United States
ATTACH;FMTTYPE=image/jpeg:https://burnettcountyfun.com/wp-content/uploads/2024/02/424632497_901894755058813_8877861181803262018_n.jpg
END:VEVENT
BEGIN:VEVENT
DTSTART;TZID=UTC:20250814T150000
DTEND;TZID=UTC:20250814T210000
DTSTAMP:20260419T222620
CREATED:20240203T220727Z
LAST-MODIFIED:20240203T220727Z
UID:10006347-1755183600-1755205200@burnettcountyfun.com
SUMMARY:Open Pool | Danbury\, WI
DESCRIPTION:Hey\, pool sharks! Come down to McGraw Lake Tavern for free pool every Thursday from 3-9pm.\nGrab your cue sticks and show off your skills while enjoying great company. See you there!
URL:https://burnettcountyfun.com/event/open-pool-danbury-wi/2025-08-14/
LOCATION:McGraw Lake Tavern\, 34002 State Highway 35\, Danbury\, WI\, United States
ATTACH;FMTTYPE=image/jpeg:https://burnettcountyfun.com/wp-content/uploads/2024/02/424632497_901894755058813_8877861181803262018_n.jpg
END:VEVENT
BEGIN:VEVENT
DTSTART;TZID=UTC:20250807T150000
DTEND;TZID=UTC:20250807T210000
DTSTAMP:20260419T222620
CREATED:20240203T220727Z
LAST-MODIFIED:20240203T220727Z
UID:10006346-1754578800-1754600400@burnettcountyfun.com
SUMMARY:Open Pool | Danbury\, WI
DESCRIPTION:Hey\, pool sharks! Come down to McGraw Lake Tavern for free pool every Thursday from 3-9pm.\nGrab your cue sticks and show off your skills while enjoying great company. See you there!
URL:https://burnettcountyfun.com/event/open-pool-danbury-wi/2025-08-07/
LOCATION:McGraw Lake Tavern\, 34002 State Highway 35\, Danbury\, WI\, United States
ATTACH;FMTTYPE=image/jpeg:https://burnettcountyfun.com/wp-content/uploads/2024/02/424632497_901894755058813_8877861181803262018_n.jpg
END:VEVENT
BEGIN:VEVENT
DTSTART;TZID=UTC:20250731T150000
DTEND;TZID=UTC:20250731T210000
DTSTAMP:20260419T222620
CREATED:20240203T220727Z
LAST-MODIFIED:20240203T220727Z
UID:10006345-1753974000-1753995600@burnettcountyfun.com
SUMMARY:Open Pool | Danbury\, WI
DESCRIPTION:Hey\, pool sharks! Come down to McGraw Lake Tavern for free pool every Thursday from 3-9pm.\nGrab your cue sticks and show off your skills while enjoying great company. See you there!
URL:https://burnettcountyfun.com/event/open-pool-danbury-wi/2025-07-31/
LOCATION:McGraw Lake Tavern\, 34002 State Highway 35\, Danbury\, WI\, United States
ATTACH;FMTTYPE=image/jpeg:https://burnettcountyfun.com/wp-content/uploads/2024/02/424632497_901894755058813_8877861181803262018_n.jpg
END:VEVENT
BEGIN:VEVENT
DTSTART;TZID=UTC:20250724T150000
DTEND;TZID=UTC:20250724T210000
DTSTAMP:20260419T222620
CREATED:20240203T220727Z
LAST-MODIFIED:20240203T220727Z
UID:10006344-1753369200-1753390800@burnettcountyfun.com
SUMMARY:Open Pool | Danbury\, WI
DESCRIPTION:Hey\, pool sharks! Come down to McGraw Lake Tavern for free pool every Thursday from 3-9pm.\nGrab your cue sticks and show off your skills while enjoying great company. See you there!
URL:https://burnettcountyfun.com/event/open-pool-danbury-wi/2025-07-24/
LOCATION:McGraw Lake Tavern\, 34002 State Highway 35\, Danbury\, WI\, United States
ATTACH;FMTTYPE=image/jpeg:https://burnettcountyfun.com/wp-content/uploads/2024/02/424632497_901894755058813_8877861181803262018_n.jpg
END:VEVENT
BEGIN:VEVENT
DTSTART;TZID=UTC:20250717T150000
DTEND;TZID=UTC:20250717T210000
DTSTAMP:20260419T222620
CREATED:20240203T220727Z
LAST-MODIFIED:20240203T220727Z
UID:10006343-1752764400-1752786000@burnettcountyfun.com
SUMMARY:Open Pool | Danbury\, WI
DESCRIPTION:Hey\, pool sharks! Come down to McGraw Lake Tavern for free pool every Thursday from 3-9pm.\nGrab your cue sticks and show off your skills while enjoying great company. See you there!
URL:https://burnettcountyfun.com/event/open-pool-danbury-wi/2025-07-17/
LOCATION:McGraw Lake Tavern\, 34002 State Highway 35\, Danbury\, WI\, United States
ATTACH;FMTTYPE=image/jpeg:https://burnettcountyfun.com/wp-content/uploads/2024/02/424632497_901894755058813_8877861181803262018_n.jpg
END:VEVENT
BEGIN:VEVENT
DTSTART;TZID=UTC:20250710T150000
DTEND;TZID=UTC:20250710T210000
DTSTAMP:20260419T222620
CREATED:20240203T220727Z
LAST-MODIFIED:20240203T220727Z
UID:10006342-1752159600-1752181200@burnettcountyfun.com
SUMMARY:Open Pool | Danbury\, WI
DESCRIPTION:Hey\, pool sharks! Come down to McGraw Lake Tavern for free pool every Thursday from 3-9pm.\nGrab your cue sticks and show off your skills while enjoying great company. See you there!
URL:https://burnettcountyfun.com/event/open-pool-danbury-wi/2025-07-10/
LOCATION:McGraw Lake Tavern\, 34002 State Highway 35\, Danbury\, WI\, United States
ATTACH;FMTTYPE=image/jpeg:https://burnettcountyfun.com/wp-content/uploads/2024/02/424632497_901894755058813_8877861181803262018_n.jpg
END:VEVENT
BEGIN:VEVENT
DTSTART;TZID=UTC:20250703T150000
DTEND;TZID=UTC:20250703T210000
DTSTAMP:20260419T222620
CREATED:20240203T220727Z
LAST-MODIFIED:20240203T220727Z
UID:10006341-1751554800-1751576400@burnettcountyfun.com
SUMMARY:Open Pool | Danbury\, WI
DESCRIPTION:Hey\, pool sharks! Come down to McGraw Lake Tavern for free pool every Thursday from 3-9pm.\nGrab your cue sticks and show off your skills while enjoying great company. See you there!
URL:https://burnettcountyfun.com/event/open-pool-danbury-wi/2025-07-03/
LOCATION:McGraw Lake Tavern\, 34002 State Highway 35\, Danbury\, WI\, United States
ATTACH;FMTTYPE=image/jpeg:https://burnettcountyfun.com/wp-content/uploads/2024/02/424632497_901894755058813_8877861181803262018_n.jpg
END:VEVENT
BEGIN:VEVENT
DTSTART;TZID=UTC:20250626T150000
DTEND;TZID=UTC:20250626T210000
DTSTAMP:20260419T222620
CREATED:20240203T220727Z
LAST-MODIFIED:20240203T220727Z
UID:10006340-1750950000-1750971600@burnettcountyfun.com
SUMMARY:Open Pool | Danbury\, WI
DESCRIPTION:Hey\, pool sharks! Come down to McGraw Lake Tavern for free pool every Thursday from 3-9pm.\nGrab your cue sticks and show off your skills while enjoying great company. See you there!
URL:https://burnettcountyfun.com/event/open-pool-danbury-wi/2025-06-26/
LOCATION:McGraw Lake Tavern\, 34002 State Highway 35\, Danbury\, WI\, United States
ATTACH;FMTTYPE=image/jpeg:https://burnettcountyfun.com/wp-content/uploads/2024/02/424632497_901894755058813_8877861181803262018_n.jpg
END:VEVENT
BEGIN:VEVENT
DTSTART;TZID=UTC:20250619T150000
DTEND;TZID=UTC:20250619T210000
DTSTAMP:20260419T222620
CREATED:20240203T220727Z
LAST-MODIFIED:20240203T220727Z
UID:10006339-1750345200-1750366800@burnettcountyfun.com
SUMMARY:Open Pool | Danbury\, WI
DESCRIPTION:Hey\, pool sharks! Come down to McGraw Lake Tavern for free pool every Thursday from 3-9pm.\nGrab your cue sticks and show off your skills while enjoying great company. See you there!
URL:https://burnettcountyfun.com/event/open-pool-danbury-wi/2025-06-19/
LOCATION:McGraw Lake Tavern\, 34002 State Highway 35\, Danbury\, WI\, United States
ATTACH;FMTTYPE=image/jpeg:https://burnettcountyfun.com/wp-content/uploads/2024/02/424632497_901894755058813_8877861181803262018_n.jpg
END:VEVENT
BEGIN:VEVENT
DTSTART;TZID=UTC:20250612T150000
DTEND;TZID=UTC:20250612T210000
DTSTAMP:20260419T222620
CREATED:20240203T220727Z
LAST-MODIFIED:20240203T220727Z
UID:10006338-1749740400-1749762000@burnettcountyfun.com
SUMMARY:Open Pool | Danbury\, WI
DESCRIPTION:Hey\, pool sharks! Come down to McGraw Lake Tavern for free pool every Thursday from 3-9pm.\nGrab your cue sticks and show off your skills while enjoying great company. See you there!
URL:https://burnettcountyfun.com/event/open-pool-danbury-wi/2025-06-12/
LOCATION:McGraw Lake Tavern\, 34002 State Highway 35\, Danbury\, WI\, United States
ATTACH;FMTTYPE=image/jpeg:https://burnettcountyfun.com/wp-content/uploads/2024/02/424632497_901894755058813_8877861181803262018_n.jpg
END:VEVENT
BEGIN:VEVENT
DTSTART;TZID=UTC:20250605T150000
DTEND;TZID=UTC:20250605T210000
DTSTAMP:20260419T222620
CREATED:20240203T220727Z
LAST-MODIFIED:20240203T220727Z
UID:10006337-1749135600-1749157200@burnettcountyfun.com
SUMMARY:Open Pool | Danbury\, WI
DESCRIPTION:Hey\, pool sharks! Come down to McGraw Lake Tavern for free pool every Thursday from 3-9pm.\nGrab your cue sticks and show off your skills while enjoying great company. See you there!
URL:https://burnettcountyfun.com/event/open-pool-danbury-wi/2025-06-05/
LOCATION:McGraw Lake Tavern\, 34002 State Highway 35\, Danbury\, WI\, United States
ATTACH;FMTTYPE=image/jpeg:https://burnettcountyfun.com/wp-content/uploads/2024/02/424632497_901894755058813_8877861181803262018_n.jpg
END:VEVENT
BEGIN:VEVENT
DTSTART;TZID=UTC:20250529T150000
DTEND;TZID=UTC:20250529T210000
DTSTAMP:20260419T222620
CREATED:20240203T220727Z
LAST-MODIFIED:20240203T220727Z
UID:10006336-1748530800-1748552400@burnettcountyfun.com
SUMMARY:Open Pool | Danbury\, WI
DESCRIPTION:Hey\, pool sharks! Come down to McGraw Lake Tavern for free pool every Thursday from 3-9pm.\nGrab your cue sticks and show off your skills while enjoying great company. See you there!
URL:https://burnettcountyfun.com/event/open-pool-danbury-wi/2025-05-29/
LOCATION:McGraw Lake Tavern\, 34002 State Highway 35\, Danbury\, WI\, United States
ATTACH;FMTTYPE=image/jpeg:https://burnettcountyfun.com/wp-content/uploads/2024/02/424632497_901894755058813_8877861181803262018_n.jpg
END:VEVENT
BEGIN:VEVENT
DTSTART;TZID=UTC:20250522T150000
DTEND;TZID=UTC:20250522T210000
DTSTAMP:20260419T222620
CREATED:20240203T220727Z
LAST-MODIFIED:20240203T220727Z
UID:10006335-1747926000-1747947600@burnettcountyfun.com
SUMMARY:Open Pool | Danbury\, WI
DESCRIPTION:Hey\, pool sharks! Come down to McGraw Lake Tavern for free pool every Thursday from 3-9pm.\nGrab your cue sticks and show off your skills while enjoying great company. See you there!
URL:https://burnettcountyfun.com/event/open-pool-danbury-wi/2025-05-22/
LOCATION:McGraw Lake Tavern\, 34002 State Highway 35\, Danbury\, WI\, United States
ATTACH;FMTTYPE=image/jpeg:https://burnettcountyfun.com/wp-content/uploads/2024/02/424632497_901894755058813_8877861181803262018_n.jpg
END:VEVENT
BEGIN:VEVENT
DTSTART;TZID=UTC:20250515T150000
DTEND;TZID=UTC:20250515T210000
DTSTAMP:20260419T222620
CREATED:20240203T220727Z
LAST-MODIFIED:20240203T220727Z
UID:10006334-1747321200-1747342800@burnettcountyfun.com
SUMMARY:Open Pool | Danbury\, WI
DESCRIPTION:Hey\, pool sharks! Come down to McGraw Lake Tavern for free pool every Thursday from 3-9pm.\nGrab your cue sticks and show off your skills while enjoying great company. See you there!
URL:https://burnettcountyfun.com/event/open-pool-danbury-wi/2025-05-15/
LOCATION:McGraw Lake Tavern\, 34002 State Highway 35\, Danbury\, WI\, United States
ATTACH;FMTTYPE=image/jpeg:https://burnettcountyfun.com/wp-content/uploads/2024/02/424632497_901894755058813_8877861181803262018_n.jpg
END:VEVENT
BEGIN:VEVENT
DTSTART;TZID=UTC:20250508T150000
DTEND;TZID=UTC:20250508T210000
DTSTAMP:20260419T222620
CREATED:20240203T220727Z
LAST-MODIFIED:20240203T220727Z
UID:10006333-1746716400-1746738000@burnettcountyfun.com
SUMMARY:Open Pool | Danbury\, WI
DESCRIPTION:Hey\, pool sharks! Come down to McGraw Lake Tavern for free pool every Thursday from 3-9pm.\nGrab your cue sticks and show off your skills while enjoying great company. See you there!
URL:https://burnettcountyfun.com/event/open-pool-danbury-wi/2025-05-08/
LOCATION:McGraw Lake Tavern\, 34002 State Highway 35\, Danbury\, WI\, United States
ATTACH;FMTTYPE=image/jpeg:https://burnettcountyfun.com/wp-content/uploads/2024/02/424632497_901894755058813_8877861181803262018_n.jpg
END:VEVENT
BEGIN:VEVENT
DTSTART;TZID=UTC:20250501T150000
DTEND;TZID=UTC:20250501T210000
DTSTAMP:20260419T222620
CREATED:20240203T220727Z
LAST-MODIFIED:20240203T220727Z
UID:10006332-1746111600-1746133200@burnettcountyfun.com
SUMMARY:Open Pool | Danbury\, WI
DESCRIPTION:Hey\, pool sharks! Come down to McGraw Lake Tavern for free pool every Thursday from 3-9pm.\nGrab your cue sticks and show off your skills while enjoying great company. See you there!
URL:https://burnettcountyfun.com/event/open-pool-danbury-wi/2025-05-01/
LOCATION:McGraw Lake Tavern\, 34002 State Highway 35\, Danbury\, WI\, United States
ATTACH;FMTTYPE=image/jpeg:https://burnettcountyfun.com/wp-content/uploads/2024/02/424632497_901894755058813_8877861181803262018_n.jpg
END:VEVENT
BEGIN:VEVENT
DTSTART;TZID=UTC:20250424T150000
DTEND;TZID=UTC:20250424T210000
DTSTAMP:20260419T222620
CREATED:20240203T220727Z
LAST-MODIFIED:20240203T220727Z
UID:10006331-1745506800-1745528400@burnettcountyfun.com
SUMMARY:Open Pool | Danbury\, WI
DESCRIPTION:Hey\, pool sharks! Come down to McGraw Lake Tavern for free pool every Thursday from 3-9pm.\nGrab your cue sticks and show off your skills while enjoying great company. See you there!
URL:https://burnettcountyfun.com/event/open-pool-danbury-wi/2025-04-24/
LOCATION:McGraw Lake Tavern\, 34002 State Highway 35\, Danbury\, WI\, United States
ATTACH;FMTTYPE=image/jpeg:https://burnettcountyfun.com/wp-content/uploads/2024/02/424632497_901894755058813_8877861181803262018_n.jpg
END:VEVENT
END:VCALENDAR