BEGIN:VCALENDAR
VERSION:2.0
PRODID:-//Burnett County, Wisconsin - ECPv6.15.20//NONSGML v1.0//EN
CALSCALE:GREGORIAN
METHOD:PUBLISH
X-WR-CALNAME:Burnett County, Wisconsin
X-ORIGINAL-URL:https://burnettcountyfun.com
X-WR-CALDESC:Events for Burnett County, Wisconsin
REFRESH-INTERVAL;VALUE=DURATION:PT1H
X-Robots-Tag:noindex
X-PUBLISHED-TTL:PT1H
BEGIN:VTIMEZONE
TZID:America/Chicago
BEGIN:DAYLIGHT
TZOFFSETFROM:-0600
TZOFFSETTO:-0500
TZNAME:CDT
DTSTART:20280312T080000
END:DAYLIGHT
BEGIN:STANDARD
TZOFFSETFROM:-0500
TZOFFSETTO:-0600
TZNAME:CST
DTSTART:20281105T070000
END:STANDARD
BEGIN:DAYLIGHT
TZOFFSETFROM:-0600
TZOFFSETTO:-0500
TZNAME:CDT
DTSTART:20290311T080000
END:DAYLIGHT
BEGIN:STANDARD
TZOFFSETFROM:-0500
TZOFFSETTO:-0600
TZNAME:CST
DTSTART:20291104T070000
END:STANDARD
BEGIN:DAYLIGHT
TZOFFSETFROM:-0600
TZOFFSETTO:-0500
TZNAME:CDT
DTSTART:20300310T080000
END:DAYLIGHT
BEGIN:STANDARD
TZOFFSETFROM:-0500
TZOFFSETTO:-0600
TZNAME:CST
DTSTART:20301103T070000
END:STANDARD
BEGIN:DAYLIGHT
TZOFFSETFROM:-0600
TZOFFSETTO:-0500
TZNAME:CDT
DTSTART:20310309T080000
END:DAYLIGHT
BEGIN:STANDARD
TZOFFSETFROM:-0500
TZOFFSETTO:-0600
TZNAME:CST
DTSTART:20311102T070000
END:STANDARD
END:VTIMEZONE
BEGIN:VEVENT
DTSTART;TZID=America/Chicago:20291226T180000
DTEND;TZID=America/Chicago:20291226T180000
DTSTAMP:20260422T120950
CREATED:20260112T234938Z
LAST-MODIFIED:20260112T234938Z
UID:10011736-1893002400-1893002400@burnettcountyfun.com
SUMMARY:Free Bar Bingo!
DESCRIPTION:Head to The Foxhole Bar & Lounge in Grantsburg\, WI\, for FREE Bar Bingo every Wednesday at 6 PM! \nPlayers can take their chance at winning free drinks and other fun prizes while enjoying a relaxed\, midweek night out. It’s a great way to unwind\, meet people\, and add a little excitement to your Wednesday evening!
URL:https://burnettcountyfun.com/event/free-bar-bingo/2029-12-26/
LOCATION:The Foxhole Bar & Lounge\, 108 Oak St N\, Grantsburg\, WI\, 54840\, United States
ATTACH;FMTTYPE=image/jpeg:https://burnettcountyfun.com/wp-content/uploads/2026/01/495318565_1268108741819435_4669657008085010769_n.jpg
END:VEVENT
BEGIN:VEVENT
DTSTART;TZID=America/Chicago:20300102T180000
DTEND;TZID=America/Chicago:20300102T180000
DTSTAMP:20260422T120950
CREATED:20260112T234938Z
LAST-MODIFIED:20260112T234938Z
UID:10011737-1893607200-1893607200@burnettcountyfun.com
SUMMARY:Free Bar Bingo!
DESCRIPTION:Head to The Foxhole Bar & Lounge in Grantsburg\, WI\, for FREE Bar Bingo every Wednesday at 6 PM! \nPlayers can take their chance at winning free drinks and other fun prizes while enjoying a relaxed\, midweek night out. It’s a great way to unwind\, meet people\, and add a little excitement to your Wednesday evening!
URL:https://burnettcountyfun.com/event/free-bar-bingo/2030-01-02/
LOCATION:The Foxhole Bar & Lounge\, 108 Oak St N\, Grantsburg\, WI\, 54840\, United States
ATTACH;FMTTYPE=image/jpeg:https://burnettcountyfun.com/wp-content/uploads/2026/01/495318565_1268108741819435_4669657008085010769_n.jpg
END:VEVENT
BEGIN:VEVENT
DTSTART;TZID=America/Chicago:20300109T180000
DTEND;TZID=America/Chicago:20300109T180000
DTSTAMP:20260422T120950
CREATED:20260112T234938Z
LAST-MODIFIED:20260112T234938Z
UID:10011738-1894212000-1894212000@burnettcountyfun.com
SUMMARY:Free Bar Bingo!
DESCRIPTION:Head to The Foxhole Bar & Lounge in Grantsburg\, WI\, for FREE Bar Bingo every Wednesday at 6 PM! \nPlayers can take their chance at winning free drinks and other fun prizes while enjoying a relaxed\, midweek night out. It’s a great way to unwind\, meet people\, and add a little excitement to your Wednesday evening!
URL:https://burnettcountyfun.com/event/free-bar-bingo/2030-01-09/
LOCATION:The Foxhole Bar & Lounge\, 108 Oak St N\, Grantsburg\, WI\, 54840\, United States
ATTACH;FMTTYPE=image/jpeg:https://burnettcountyfun.com/wp-content/uploads/2026/01/495318565_1268108741819435_4669657008085010769_n.jpg
END:VEVENT
BEGIN:VEVENT
DTSTART;TZID=America/Chicago:20300116T180000
DTEND;TZID=America/Chicago:20300116T180000
DTSTAMP:20260422T120950
CREATED:20260112T234938Z
LAST-MODIFIED:20260112T234938Z
UID:10011739-1894816800-1894816800@burnettcountyfun.com
SUMMARY:Free Bar Bingo!
DESCRIPTION:Head to The Foxhole Bar & Lounge in Grantsburg\, WI\, for FREE Bar Bingo every Wednesday at 6 PM! \nPlayers can take their chance at winning free drinks and other fun prizes while enjoying a relaxed\, midweek night out. It’s a great way to unwind\, meet people\, and add a little excitement to your Wednesday evening!
URL:https://burnettcountyfun.com/event/free-bar-bingo/2030-01-16/
LOCATION:The Foxhole Bar & Lounge\, 108 Oak St N\, Grantsburg\, WI\, 54840\, United States
ATTACH;FMTTYPE=image/jpeg:https://burnettcountyfun.com/wp-content/uploads/2026/01/495318565_1268108741819435_4669657008085010769_n.jpg
END:VEVENT
BEGIN:VEVENT
DTSTART;TZID=America/Chicago:20300123T180000
DTEND;TZID=America/Chicago:20300123T180000
DTSTAMP:20260422T120950
CREATED:20260112T234938Z
LAST-MODIFIED:20260112T234938Z
UID:10011740-1895421600-1895421600@burnettcountyfun.com
SUMMARY:Free Bar Bingo!
DESCRIPTION:Head to The Foxhole Bar & Lounge in Grantsburg\, WI\, for FREE Bar Bingo every Wednesday at 6 PM! \nPlayers can take their chance at winning free drinks and other fun prizes while enjoying a relaxed\, midweek night out. It’s a great way to unwind\, meet people\, and add a little excitement to your Wednesday evening!
URL:https://burnettcountyfun.com/event/free-bar-bingo/2030-01-23/
LOCATION:The Foxhole Bar & Lounge\, 108 Oak St N\, Grantsburg\, WI\, 54840\, United States
ATTACH;FMTTYPE=image/jpeg:https://burnettcountyfun.com/wp-content/uploads/2026/01/495318565_1268108741819435_4669657008085010769_n.jpg
END:VEVENT
BEGIN:VEVENT
DTSTART;TZID=America/Chicago:20300130T180000
DTEND;TZID=America/Chicago:20300130T180000
DTSTAMP:20260422T120950
CREATED:20260112T234938Z
LAST-MODIFIED:20260112T234938Z
UID:10011741-1896026400-1896026400@burnettcountyfun.com
SUMMARY:Free Bar Bingo!
DESCRIPTION:Head to The Foxhole Bar & Lounge in Grantsburg\, WI\, for FREE Bar Bingo every Wednesday at 6 PM! \nPlayers can take their chance at winning free drinks and other fun prizes while enjoying a relaxed\, midweek night out. It’s a great way to unwind\, meet people\, and add a little excitement to your Wednesday evening!
URL:https://burnettcountyfun.com/event/free-bar-bingo/2030-01-30/
LOCATION:The Foxhole Bar & Lounge\, 108 Oak St N\, Grantsburg\, WI\, 54840\, United States
ATTACH;FMTTYPE=image/jpeg:https://burnettcountyfun.com/wp-content/uploads/2026/01/495318565_1268108741819435_4669657008085010769_n.jpg
END:VEVENT
BEGIN:VEVENT
DTSTART;TZID=America/Chicago:20300206T180000
DTEND;TZID=America/Chicago:20300206T180000
DTSTAMP:20260422T120950
CREATED:20260112T234938Z
LAST-MODIFIED:20260112T234938Z
UID:10011742-1896631200-1896631200@burnettcountyfun.com
SUMMARY:Free Bar Bingo!
DESCRIPTION:Head to The Foxhole Bar & Lounge in Grantsburg\, WI\, for FREE Bar Bingo every Wednesday at 6 PM! \nPlayers can take their chance at winning free drinks and other fun prizes while enjoying a relaxed\, midweek night out. It’s a great way to unwind\, meet people\, and add a little excitement to your Wednesday evening!
URL:https://burnettcountyfun.com/event/free-bar-bingo/2030-02-06/
LOCATION:The Foxhole Bar & Lounge\, 108 Oak St N\, Grantsburg\, WI\, 54840\, United States
ATTACH;FMTTYPE=image/jpeg:https://burnettcountyfun.com/wp-content/uploads/2026/01/495318565_1268108741819435_4669657008085010769_n.jpg
END:VEVENT
BEGIN:VEVENT
DTSTART;TZID=America/Chicago:20300213T180000
DTEND;TZID=America/Chicago:20300213T180000
DTSTAMP:20260422T120950
CREATED:20260112T234938Z
LAST-MODIFIED:20260112T234938Z
UID:10011743-1897236000-1897236000@burnettcountyfun.com
SUMMARY:Free Bar Bingo!
DESCRIPTION:Head to The Foxhole Bar & Lounge in Grantsburg\, WI\, for FREE Bar Bingo every Wednesday at 6 PM! \nPlayers can take their chance at winning free drinks and other fun prizes while enjoying a relaxed\, midweek night out. It’s a great way to unwind\, meet people\, and add a little excitement to your Wednesday evening!
URL:https://burnettcountyfun.com/event/free-bar-bingo/2030-02-13/
LOCATION:The Foxhole Bar & Lounge\, 108 Oak St N\, Grantsburg\, WI\, 54840\, United States
ATTACH;FMTTYPE=image/jpeg:https://burnettcountyfun.com/wp-content/uploads/2026/01/495318565_1268108741819435_4669657008085010769_n.jpg
END:VEVENT
BEGIN:VEVENT
DTSTART;TZID=America/Chicago:20300220T180000
DTEND;TZID=America/Chicago:20300220T180000
DTSTAMP:20260422T120950
CREATED:20260112T234938Z
LAST-MODIFIED:20260112T234938Z
UID:10011744-1897840800-1897840800@burnettcountyfun.com
SUMMARY:Free Bar Bingo!
DESCRIPTION:Head to The Foxhole Bar & Lounge in Grantsburg\, WI\, for FREE Bar Bingo every Wednesday at 6 PM! \nPlayers can take their chance at winning free drinks and other fun prizes while enjoying a relaxed\, midweek night out. It’s a great way to unwind\, meet people\, and add a little excitement to your Wednesday evening!
URL:https://burnettcountyfun.com/event/free-bar-bingo/2030-02-20/
LOCATION:The Foxhole Bar & Lounge\, 108 Oak St N\, Grantsburg\, WI\, 54840\, United States
ATTACH;FMTTYPE=image/jpeg:https://burnettcountyfun.com/wp-content/uploads/2026/01/495318565_1268108741819435_4669657008085010769_n.jpg
END:VEVENT
BEGIN:VEVENT
DTSTART;TZID=America/Chicago:20300227T180000
DTEND;TZID=America/Chicago:20300227T180000
DTSTAMP:20260422T120950
CREATED:20260112T234938Z
LAST-MODIFIED:20260112T234938Z
UID:10011745-1898445600-1898445600@burnettcountyfun.com
SUMMARY:Free Bar Bingo!
DESCRIPTION:Head to The Foxhole Bar & Lounge in Grantsburg\, WI\, for FREE Bar Bingo every Wednesday at 6 PM! \nPlayers can take their chance at winning free drinks and other fun prizes while enjoying a relaxed\, midweek night out. It’s a great way to unwind\, meet people\, and add a little excitement to your Wednesday evening!
URL:https://burnettcountyfun.com/event/free-bar-bingo/2030-02-27/
LOCATION:The Foxhole Bar & Lounge\, 108 Oak St N\, Grantsburg\, WI\, 54840\, United States
ATTACH;FMTTYPE=image/jpeg:https://burnettcountyfun.com/wp-content/uploads/2026/01/495318565_1268108741819435_4669657008085010769_n.jpg
END:VEVENT
BEGIN:VEVENT
DTSTART;TZID=America/Chicago:20300306T180000
DTEND;TZID=America/Chicago:20300306T180000
DTSTAMP:20260422T120950
CREATED:20260112T234938Z
LAST-MODIFIED:20260112T234938Z
UID:10011746-1899050400-1899050400@burnettcountyfun.com
SUMMARY:Free Bar Bingo!
DESCRIPTION:Head to The Foxhole Bar & Lounge in Grantsburg\, WI\, for FREE Bar Bingo every Wednesday at 6 PM! \nPlayers can take their chance at winning free drinks and other fun prizes while enjoying a relaxed\, midweek night out. It’s a great way to unwind\, meet people\, and add a little excitement to your Wednesday evening!
URL:https://burnettcountyfun.com/event/free-bar-bingo/2030-03-06/
LOCATION:The Foxhole Bar & Lounge\, 108 Oak St N\, Grantsburg\, WI\, 54840\, United States
ATTACH;FMTTYPE=image/jpeg:https://burnettcountyfun.com/wp-content/uploads/2026/01/495318565_1268108741819435_4669657008085010769_n.jpg
END:VEVENT
BEGIN:VEVENT
DTSTART;TZID=America/Chicago:20300313T180000
DTEND;TZID=America/Chicago:20300313T180000
DTSTAMP:20260422T120950
CREATED:20260112T234938Z
LAST-MODIFIED:20260112T234938Z
UID:10011747-1899655200-1899655200@burnettcountyfun.com
SUMMARY:Free Bar Bingo!
DESCRIPTION:Head to The Foxhole Bar & Lounge in Grantsburg\, WI\, for FREE Bar Bingo every Wednesday at 6 PM! \nPlayers can take their chance at winning free drinks and other fun prizes while enjoying a relaxed\, midweek night out. It’s a great way to unwind\, meet people\, and add a little excitement to your Wednesday evening!
URL:https://burnettcountyfun.com/event/free-bar-bingo/2030-03-13/
LOCATION:The Foxhole Bar & Lounge\, 108 Oak St N\, Grantsburg\, WI\, 54840\, United States
ATTACH;FMTTYPE=image/jpeg:https://burnettcountyfun.com/wp-content/uploads/2026/01/495318565_1268108741819435_4669657008085010769_n.jpg
END:VEVENT
BEGIN:VEVENT
DTSTART;TZID=America/Chicago:20300320T180000
DTEND;TZID=America/Chicago:20300320T180000
DTSTAMP:20260422T120950
CREATED:20260112T234938Z
LAST-MODIFIED:20260112T234938Z
UID:10011748-1900260000-1900260000@burnettcountyfun.com
SUMMARY:Free Bar Bingo!
DESCRIPTION:Head to The Foxhole Bar & Lounge in Grantsburg\, WI\, for FREE Bar Bingo every Wednesday at 6 PM! \nPlayers can take their chance at winning free drinks and other fun prizes while enjoying a relaxed\, midweek night out. It’s a great way to unwind\, meet people\, and add a little excitement to your Wednesday evening!
URL:https://burnettcountyfun.com/event/free-bar-bingo/2030-03-20/
LOCATION:The Foxhole Bar & Lounge\, 108 Oak St N\, Grantsburg\, WI\, 54840\, United States
ATTACH;FMTTYPE=image/jpeg:https://burnettcountyfun.com/wp-content/uploads/2026/01/495318565_1268108741819435_4669657008085010769_n.jpg
END:VEVENT
BEGIN:VEVENT
DTSTART;TZID=America/Chicago:20300327T180000
DTEND;TZID=America/Chicago:20300327T180000
DTSTAMP:20260422T120950
CREATED:20260112T234938Z
LAST-MODIFIED:20260112T234938Z
UID:10011749-1900864800-1900864800@burnettcountyfun.com
SUMMARY:Free Bar Bingo!
DESCRIPTION:Head to The Foxhole Bar & Lounge in Grantsburg\, WI\, for FREE Bar Bingo every Wednesday at 6 PM! \nPlayers can take their chance at winning free drinks and other fun prizes while enjoying a relaxed\, midweek night out. It’s a great way to unwind\, meet people\, and add a little excitement to your Wednesday evening!
URL:https://burnettcountyfun.com/event/free-bar-bingo/2030-03-27/
LOCATION:The Foxhole Bar & Lounge\, 108 Oak St N\, Grantsburg\, WI\, 54840\, United States
ATTACH;FMTTYPE=image/jpeg:https://burnettcountyfun.com/wp-content/uploads/2026/01/495318565_1268108741819435_4669657008085010769_n.jpg
END:VEVENT
BEGIN:VEVENT
DTSTART;TZID=America/Chicago:20300403T180000
DTEND;TZID=America/Chicago:20300403T180000
DTSTAMP:20260422T120950
CREATED:20260112T234938Z
LAST-MODIFIED:20260112T234938Z
UID:10011750-1901469600-1901469600@burnettcountyfun.com
SUMMARY:Free Bar Bingo!
DESCRIPTION:Head to The Foxhole Bar & Lounge in Grantsburg\, WI\, for FREE Bar Bingo every Wednesday at 6 PM! \nPlayers can take their chance at winning free drinks and other fun prizes while enjoying a relaxed\, midweek night out. It’s a great way to unwind\, meet people\, and add a little excitement to your Wednesday evening!
URL:https://burnettcountyfun.com/event/free-bar-bingo/2030-04-03/
LOCATION:The Foxhole Bar & Lounge\, 108 Oak St N\, Grantsburg\, WI\, 54840\, United States
ATTACH;FMTTYPE=image/jpeg:https://burnettcountyfun.com/wp-content/uploads/2026/01/495318565_1268108741819435_4669657008085010769_n.jpg
END:VEVENT
BEGIN:VEVENT
DTSTART;TZID=America/Chicago:20300410T180000
DTEND;TZID=America/Chicago:20300410T180000
DTSTAMP:20260422T120950
CREATED:20260112T234938Z
LAST-MODIFIED:20260112T234938Z
UID:10011751-1902074400-1902074400@burnettcountyfun.com
SUMMARY:Free Bar Bingo!
DESCRIPTION:Head to The Foxhole Bar & Lounge in Grantsburg\, WI\, for FREE Bar Bingo every Wednesday at 6 PM! \nPlayers can take their chance at winning free drinks and other fun prizes while enjoying a relaxed\, midweek night out. It’s a great way to unwind\, meet people\, and add a little excitement to your Wednesday evening!
URL:https://burnettcountyfun.com/event/free-bar-bingo/2030-04-10/
LOCATION:The Foxhole Bar & Lounge\, 108 Oak St N\, Grantsburg\, WI\, 54840\, United States
ATTACH;FMTTYPE=image/jpeg:https://burnettcountyfun.com/wp-content/uploads/2026/01/495318565_1268108741819435_4669657008085010769_n.jpg
END:VEVENT
BEGIN:VEVENT
DTSTART;TZID=America/Chicago:20300417T180000
DTEND;TZID=America/Chicago:20300417T180000
DTSTAMP:20260422T120950
CREATED:20260112T234938Z
LAST-MODIFIED:20260112T234938Z
UID:10011752-1902679200-1902679200@burnettcountyfun.com
SUMMARY:Free Bar Bingo!
DESCRIPTION:Head to The Foxhole Bar & Lounge in Grantsburg\, WI\, for FREE Bar Bingo every Wednesday at 6 PM! \nPlayers can take their chance at winning free drinks and other fun prizes while enjoying a relaxed\, midweek night out. It’s a great way to unwind\, meet people\, and add a little excitement to your Wednesday evening!
URL:https://burnettcountyfun.com/event/free-bar-bingo/2030-04-17/
LOCATION:The Foxhole Bar & Lounge\, 108 Oak St N\, Grantsburg\, WI\, 54840\, United States
ATTACH;FMTTYPE=image/jpeg:https://burnettcountyfun.com/wp-content/uploads/2026/01/495318565_1268108741819435_4669657008085010769_n.jpg
END:VEVENT
BEGIN:VEVENT
DTSTART;TZID=America/Chicago:20300424T180000
DTEND;TZID=America/Chicago:20300424T180000
DTSTAMP:20260422T120950
CREATED:20260112T234938Z
LAST-MODIFIED:20260112T234938Z
UID:10011753-1903284000-1903284000@burnettcountyfun.com
SUMMARY:Free Bar Bingo!
DESCRIPTION:Head to The Foxhole Bar & Lounge in Grantsburg\, WI\, for FREE Bar Bingo every Wednesday at 6 PM! \nPlayers can take their chance at winning free drinks and other fun prizes while enjoying a relaxed\, midweek night out. It’s a great way to unwind\, meet people\, and add a little excitement to your Wednesday evening!
URL:https://burnettcountyfun.com/event/free-bar-bingo/2030-04-24/
LOCATION:The Foxhole Bar & Lounge\, 108 Oak St N\, Grantsburg\, WI\, 54840\, United States
ATTACH;FMTTYPE=image/jpeg:https://burnettcountyfun.com/wp-content/uploads/2026/01/495318565_1268108741819435_4669657008085010769_n.jpg
END:VEVENT
BEGIN:VEVENT
DTSTART;TZID=America/Chicago:20300501T180000
DTEND;TZID=America/Chicago:20300501T180000
DTSTAMP:20260422T120950
CREATED:20260112T234938Z
LAST-MODIFIED:20260112T234938Z
UID:10011754-1903888800-1903888800@burnettcountyfun.com
SUMMARY:Free Bar Bingo!
DESCRIPTION:Head to The Foxhole Bar & Lounge in Grantsburg\, WI\, for FREE Bar Bingo every Wednesday at 6 PM! \nPlayers can take their chance at winning free drinks and other fun prizes while enjoying a relaxed\, midweek night out. It’s a great way to unwind\, meet people\, and add a little excitement to your Wednesday evening!
URL:https://burnettcountyfun.com/event/free-bar-bingo/2030-05-01/
LOCATION:The Foxhole Bar & Lounge\, 108 Oak St N\, Grantsburg\, WI\, 54840\, United States
ATTACH;FMTTYPE=image/jpeg:https://burnettcountyfun.com/wp-content/uploads/2026/01/495318565_1268108741819435_4669657008085010769_n.jpg
END:VEVENT
BEGIN:VEVENT
DTSTART;TZID=America/Chicago:20300508T180000
DTEND;TZID=America/Chicago:20300508T180000
DTSTAMP:20260422T120950
CREATED:20260112T234938Z
LAST-MODIFIED:20260112T234938Z
UID:10011755-1904493600-1904493600@burnettcountyfun.com
SUMMARY:Free Bar Bingo!
DESCRIPTION:Head to The Foxhole Bar & Lounge in Grantsburg\, WI\, for FREE Bar Bingo every Wednesday at 6 PM! \nPlayers can take their chance at winning free drinks and other fun prizes while enjoying a relaxed\, midweek night out. It’s a great way to unwind\, meet people\, and add a little excitement to your Wednesday evening!
URL:https://burnettcountyfun.com/event/free-bar-bingo/2030-05-08/
LOCATION:The Foxhole Bar & Lounge\, 108 Oak St N\, Grantsburg\, WI\, 54840\, United States
ATTACH;FMTTYPE=image/jpeg:https://burnettcountyfun.com/wp-content/uploads/2026/01/495318565_1268108741819435_4669657008085010769_n.jpg
END:VEVENT
BEGIN:VEVENT
DTSTART;TZID=America/Chicago:20300515T180000
DTEND;TZID=America/Chicago:20300515T180000
DTSTAMP:20260422T120950
CREATED:20260112T234938Z
LAST-MODIFIED:20260112T234938Z
UID:10011756-1905098400-1905098400@burnettcountyfun.com
SUMMARY:Free Bar Bingo!
DESCRIPTION:Head to The Foxhole Bar & Lounge in Grantsburg\, WI\, for FREE Bar Bingo every Wednesday at 6 PM! \nPlayers can take their chance at winning free drinks and other fun prizes while enjoying a relaxed\, midweek night out. It’s a great way to unwind\, meet people\, and add a little excitement to your Wednesday evening!
URL:https://burnettcountyfun.com/event/free-bar-bingo/2030-05-15/
LOCATION:The Foxhole Bar & Lounge\, 108 Oak St N\, Grantsburg\, WI\, 54840\, United States
ATTACH;FMTTYPE=image/jpeg:https://burnettcountyfun.com/wp-content/uploads/2026/01/495318565_1268108741819435_4669657008085010769_n.jpg
END:VEVENT
BEGIN:VEVENT
DTSTART;TZID=America/Chicago:20300522T180000
DTEND;TZID=America/Chicago:20300522T180000
DTSTAMP:20260422T120950
CREATED:20260112T234938Z
LAST-MODIFIED:20260112T234938Z
UID:10011757-1905703200-1905703200@burnettcountyfun.com
SUMMARY:Free Bar Bingo!
DESCRIPTION:Head to The Foxhole Bar & Lounge in Grantsburg\, WI\, for FREE Bar Bingo every Wednesday at 6 PM! \nPlayers can take their chance at winning free drinks and other fun prizes while enjoying a relaxed\, midweek night out. It’s a great way to unwind\, meet people\, and add a little excitement to your Wednesday evening!
URL:https://burnettcountyfun.com/event/free-bar-bingo/2030-05-22/
LOCATION:The Foxhole Bar & Lounge\, 108 Oak St N\, Grantsburg\, WI\, 54840\, United States
ATTACH;FMTTYPE=image/jpeg:https://burnettcountyfun.com/wp-content/uploads/2026/01/495318565_1268108741819435_4669657008085010769_n.jpg
END:VEVENT
BEGIN:VEVENT
DTSTART;TZID=America/Chicago:20300529T180000
DTEND;TZID=America/Chicago:20300529T180000
DTSTAMP:20260422T120950
CREATED:20260112T234938Z
LAST-MODIFIED:20260112T234938Z
UID:10011758-1906308000-1906308000@burnettcountyfun.com
SUMMARY:Free Bar Bingo!
DESCRIPTION:Head to The Foxhole Bar & Lounge in Grantsburg\, WI\, for FREE Bar Bingo every Wednesday at 6 PM! \nPlayers can take their chance at winning free drinks and other fun prizes while enjoying a relaxed\, midweek night out. It’s a great way to unwind\, meet people\, and add a little excitement to your Wednesday evening!
URL:https://burnettcountyfun.com/event/free-bar-bingo/2030-05-29/
LOCATION:The Foxhole Bar & Lounge\, 108 Oak St N\, Grantsburg\, WI\, 54840\, United States
ATTACH;FMTTYPE=image/jpeg:https://burnettcountyfun.com/wp-content/uploads/2026/01/495318565_1268108741819435_4669657008085010769_n.jpg
END:VEVENT
BEGIN:VEVENT
DTSTART;TZID=America/Chicago:20300605T180000
DTEND;TZID=America/Chicago:20300605T180000
DTSTAMP:20260422T120950
CREATED:20260112T234938Z
LAST-MODIFIED:20260112T234938Z
UID:10011759-1906912800-1906912800@burnettcountyfun.com
SUMMARY:Free Bar Bingo!
DESCRIPTION:Head to The Foxhole Bar & Lounge in Grantsburg\, WI\, for FREE Bar Bingo every Wednesday at 6 PM! \nPlayers can take their chance at winning free drinks and other fun prizes while enjoying a relaxed\, midweek night out. It’s a great way to unwind\, meet people\, and add a little excitement to your Wednesday evening!
URL:https://burnettcountyfun.com/event/free-bar-bingo/2030-06-05/
LOCATION:The Foxhole Bar & Lounge\, 108 Oak St N\, Grantsburg\, WI\, 54840\, United States
ATTACH;FMTTYPE=image/jpeg:https://burnettcountyfun.com/wp-content/uploads/2026/01/495318565_1268108741819435_4669657008085010769_n.jpg
END:VEVENT
BEGIN:VEVENT
DTSTART;TZID=America/Chicago:20300612T180000
DTEND;TZID=America/Chicago:20300612T180000
DTSTAMP:20260422T120950
CREATED:20260112T234938Z
LAST-MODIFIED:20260112T234938Z
UID:10011760-1907517600-1907517600@burnettcountyfun.com
SUMMARY:Free Bar Bingo!
DESCRIPTION:Head to The Foxhole Bar & Lounge in Grantsburg\, WI\, for FREE Bar Bingo every Wednesday at 6 PM! \nPlayers can take their chance at winning free drinks and other fun prizes while enjoying a relaxed\, midweek night out. It’s a great way to unwind\, meet people\, and add a little excitement to your Wednesday evening!
URL:https://burnettcountyfun.com/event/free-bar-bingo/2030-06-12/
LOCATION:The Foxhole Bar & Lounge\, 108 Oak St N\, Grantsburg\, WI\, 54840\, United States
ATTACH;FMTTYPE=image/jpeg:https://burnettcountyfun.com/wp-content/uploads/2026/01/495318565_1268108741819435_4669657008085010769_n.jpg
END:VEVENT
BEGIN:VEVENT
DTSTART;TZID=America/Chicago:20300619T180000
DTEND;TZID=America/Chicago:20300619T180000
DTSTAMP:20260422T120950
CREATED:20260112T234938Z
LAST-MODIFIED:20260112T234938Z
UID:10011761-1908122400-1908122400@burnettcountyfun.com
SUMMARY:Free Bar Bingo!
DESCRIPTION:Head to The Foxhole Bar & Lounge in Grantsburg\, WI\, for FREE Bar Bingo every Wednesday at 6 PM! \nPlayers can take their chance at winning free drinks and other fun prizes while enjoying a relaxed\, midweek night out. It’s a great way to unwind\, meet people\, and add a little excitement to your Wednesday evening!
URL:https://burnettcountyfun.com/event/free-bar-bingo/2030-06-19/
LOCATION:The Foxhole Bar & Lounge\, 108 Oak St N\, Grantsburg\, WI\, 54840\, United States
ATTACH;FMTTYPE=image/jpeg:https://burnettcountyfun.com/wp-content/uploads/2026/01/495318565_1268108741819435_4669657008085010769_n.jpg
END:VEVENT
BEGIN:VEVENT
DTSTART;TZID=America/Chicago:20300626T180000
DTEND;TZID=America/Chicago:20300626T180000
DTSTAMP:20260422T120950
CREATED:20260112T234938Z
LAST-MODIFIED:20260112T234938Z
UID:10011762-1908727200-1908727200@burnettcountyfun.com
SUMMARY:Free Bar Bingo!
DESCRIPTION:Head to The Foxhole Bar & Lounge in Grantsburg\, WI\, for FREE Bar Bingo every Wednesday at 6 PM! \nPlayers can take their chance at winning free drinks and other fun prizes while enjoying a relaxed\, midweek night out. It’s a great way to unwind\, meet people\, and add a little excitement to your Wednesday evening!
URL:https://burnettcountyfun.com/event/free-bar-bingo/2030-06-26/
LOCATION:The Foxhole Bar & Lounge\, 108 Oak St N\, Grantsburg\, WI\, 54840\, United States
ATTACH;FMTTYPE=image/jpeg:https://burnettcountyfun.com/wp-content/uploads/2026/01/495318565_1268108741819435_4669657008085010769_n.jpg
END:VEVENT
BEGIN:VEVENT
DTSTART;TZID=America/Chicago:20300703T180000
DTEND;TZID=America/Chicago:20300703T180000
DTSTAMP:20260422T120950
CREATED:20260112T234938Z
LAST-MODIFIED:20260112T234938Z
UID:10011763-1909332000-1909332000@burnettcountyfun.com
SUMMARY:Free Bar Bingo!
DESCRIPTION:Head to The Foxhole Bar & Lounge in Grantsburg\, WI\, for FREE Bar Bingo every Wednesday at 6 PM! \nPlayers can take their chance at winning free drinks and other fun prizes while enjoying a relaxed\, midweek night out. It’s a great way to unwind\, meet people\, and add a little excitement to your Wednesday evening!
URL:https://burnettcountyfun.com/event/free-bar-bingo/2030-07-03/
LOCATION:The Foxhole Bar & Lounge\, 108 Oak St N\, Grantsburg\, WI\, 54840\, United States
ATTACH;FMTTYPE=image/jpeg:https://burnettcountyfun.com/wp-content/uploads/2026/01/495318565_1268108741819435_4669657008085010769_n.jpg
END:VEVENT
BEGIN:VEVENT
DTSTART;TZID=America/Chicago:20300710T180000
DTEND;TZID=America/Chicago:20300710T180000
DTSTAMP:20260422T120950
CREATED:20260112T234938Z
LAST-MODIFIED:20260112T234938Z
UID:10011764-1909936800-1909936800@burnettcountyfun.com
SUMMARY:Free Bar Bingo!
DESCRIPTION:Head to The Foxhole Bar & Lounge in Grantsburg\, WI\, for FREE Bar Bingo every Wednesday at 6 PM! \nPlayers can take their chance at winning free drinks and other fun prizes while enjoying a relaxed\, midweek night out. It’s a great way to unwind\, meet people\, and add a little excitement to your Wednesday evening!
URL:https://burnettcountyfun.com/event/free-bar-bingo/2030-07-10/
LOCATION:The Foxhole Bar & Lounge\, 108 Oak St N\, Grantsburg\, WI\, 54840\, United States
ATTACH;FMTTYPE=image/jpeg:https://burnettcountyfun.com/wp-content/uploads/2026/01/495318565_1268108741819435_4669657008085010769_n.jpg
END:VEVENT
BEGIN:VEVENT
DTSTART;TZID=America/Chicago:20300717T180000
DTEND;TZID=America/Chicago:20300717T180000
DTSTAMP:20260422T120950
CREATED:20260112T234938Z
LAST-MODIFIED:20260112T234938Z
UID:10011765-1910541600-1910541600@burnettcountyfun.com
SUMMARY:Free Bar Bingo!
DESCRIPTION:Head to The Foxhole Bar & Lounge in Grantsburg\, WI\, for FREE Bar Bingo every Wednesday at 6 PM! \nPlayers can take their chance at winning free drinks and other fun prizes while enjoying a relaxed\, midweek night out. It’s a great way to unwind\, meet people\, and add a little excitement to your Wednesday evening!
URL:https://burnettcountyfun.com/event/free-bar-bingo/2030-07-17/
LOCATION:The Foxhole Bar & Lounge\, 108 Oak St N\, Grantsburg\, WI\, 54840\, United States
ATTACH;FMTTYPE=image/jpeg:https://burnettcountyfun.com/wp-content/uploads/2026/01/495318565_1268108741819435_4669657008085010769_n.jpg
END:VEVENT
END:VCALENDAR