BEGIN:VCALENDAR
VERSION:2.0
PRODID:-//Burnett County, Wisconsin - ECPv6.15.20//NONSGML v1.0//EN
CALSCALE:GREGORIAN
METHOD:PUBLISH
X-WR-CALNAME:Burnett County, Wisconsin
X-ORIGINAL-URL:https://burnettcountyfun.com
X-WR-CALDESC:Events for Burnett County, Wisconsin
REFRESH-INTERVAL;VALUE=DURATION:PT1H
X-Robots-Tag:noindex
X-PUBLISHED-TTL:PT1H
BEGIN:VTIMEZONE
TZID:UTC
BEGIN:STANDARD
TZOFFSETFROM:+0000
TZOFFSETTO:+0000
TZNAME:UTC
DTSTART:20240101T000000
END:STANDARD
END:VTIMEZONE
BEGIN:VTIMEZONE
TZID:America/Chicago
BEGIN:DAYLIGHT
TZOFFSETFROM:-0600
TZOFFSETTO:-0500
TZNAME:CDT
DTSTART:20240310T080000
END:DAYLIGHT
BEGIN:STANDARD
TZOFFSETFROM:-0500
TZOFFSETTO:-0600
TZNAME:CST
DTSTART:20241103T070000
END:STANDARD
BEGIN:DAYLIGHT
TZOFFSETFROM:-0600
TZOFFSETTO:-0500
TZNAME:CDT
DTSTART:20250309T080000
END:DAYLIGHT
BEGIN:STANDARD
TZOFFSETFROM:-0500
TZOFFSETTO:-0600
TZNAME:CST
DTSTART:20251102T070000
END:STANDARD
BEGIN:DAYLIGHT
TZOFFSETFROM:-0600
TZOFFSETTO:-0500
TZNAME:CDT
DTSTART:20260308T080000
END:DAYLIGHT
BEGIN:STANDARD
TZOFFSETFROM:-0500
TZOFFSETTO:-0600
TZNAME:CST
DTSTART:20261101T070000
END:STANDARD
END:VTIMEZONE
BEGIN:VEVENT
DTSTART;TZID=UTC:20260130T180000
DTEND;TZID=UTC:20260130T193000
DTSTAMP:20260420T202104
CREATED:20230805T212211Z
LAST-MODIFIED:20230805T212211Z
UID:10003619-1769796000-1769801400@burnettcountyfun.com
SUMMARY:Meat Raffle | The Junkyard Bar
DESCRIPTION:Meat Raffle | The Junkyard Bar\nEvery Friday 6:00 pm\nFundraiser to support the Burnett Blizzard Hockey Team
URL:https://burnettcountyfun.com/event/meat-raffle-the-junkyard-bar/2026-01-30/
LOCATION:The Junkyard Bar\, 3784 Shrider Road\, Shell Lake\, WI\, United States
END:VEVENT
BEGIN:VEVENT
DTSTART;TZID=UTC:20260125T130000
DTEND;TZID=UTC:20260125T150000
DTSTAMP:20260420T202104
CREATED:20240125T082836Z
LAST-MODIFIED:20240203T065547Z
UID:10005014-1769346000-1769353200@burnettcountyfun.com
SUMMARY:Xtreme Bar Bingo
DESCRIPTION:Join the Junkyard Bar for free bingo starting at 1pm every Sunday!\nContact The Junkyard Bar for more details.
URL:https://burnettcountyfun.com/event/xtreme-bar-bingo/2026-01-25/
LOCATION:The Junkyard Bar\, 3784 Shrider Road\, Shell Lake\, WI\, United States
ATTACH;FMTTYPE=image/jpeg:https://burnettcountyfun.com/wp-content/uploads/2024/01/418487278_254346541014961_1598103938117402126_n.jpg
END:VEVENT
BEGIN:VEVENT
DTSTART;TZID=UTC:20260123T180000
DTEND;TZID=UTC:20260123T193000
DTSTAMP:20260420T202104
CREATED:20230805T212211Z
LAST-MODIFIED:20230805T212211Z
UID:10003618-1769191200-1769196600@burnettcountyfun.com
SUMMARY:Meat Raffle | The Junkyard Bar
DESCRIPTION:Meat Raffle | The Junkyard Bar\nEvery Friday 6:00 pm\nFundraiser to support the Burnett Blizzard Hockey Team
URL:https://burnettcountyfun.com/event/meat-raffle-the-junkyard-bar/2026-01-23/
LOCATION:The Junkyard Bar\, 3784 Shrider Road\, Shell Lake\, WI\, United States
END:VEVENT
BEGIN:VEVENT
DTSTART;TZID=UTC:20260118T130000
DTEND;TZID=UTC:20260118T150000
DTSTAMP:20260420T202104
CREATED:20240125T082836Z
LAST-MODIFIED:20240203T065547Z
UID:10005013-1768741200-1768748400@burnettcountyfun.com
SUMMARY:Xtreme Bar Bingo
DESCRIPTION:Join the Junkyard Bar for free bingo starting at 1pm every Sunday!\nContact The Junkyard Bar for more details.
URL:https://burnettcountyfun.com/event/xtreme-bar-bingo/2026-01-18/
LOCATION:The Junkyard Bar\, 3784 Shrider Road\, Shell Lake\, WI\, United States
ATTACH;FMTTYPE=image/jpeg:https://burnettcountyfun.com/wp-content/uploads/2024/01/418487278_254346541014961_1598103938117402126_n.jpg
END:VEVENT
BEGIN:VEVENT
DTSTART;TZID=UTC:20260116T180000
DTEND;TZID=UTC:20260116T193000
DTSTAMP:20260420T202104
CREATED:20230805T212211Z
LAST-MODIFIED:20230805T212211Z
UID:10003617-1768586400-1768591800@burnettcountyfun.com
SUMMARY:Meat Raffle | The Junkyard Bar
DESCRIPTION:Meat Raffle | The Junkyard Bar\nEvery Friday 6:00 pm\nFundraiser to support the Burnett Blizzard Hockey Team
URL:https://burnettcountyfun.com/event/meat-raffle-the-junkyard-bar/2026-01-16/
LOCATION:The Junkyard Bar\, 3784 Shrider Road\, Shell Lake\, WI\, United States
END:VEVENT
BEGIN:VEVENT
DTSTART;TZID=UTC:20260111T130000
DTEND;TZID=UTC:20260111T150000
DTSTAMP:20260420T202104
CREATED:20240125T082836Z
LAST-MODIFIED:20240203T065547Z
UID:10005012-1768136400-1768143600@burnettcountyfun.com
SUMMARY:Xtreme Bar Bingo
DESCRIPTION:Join the Junkyard Bar for free bingo starting at 1pm every Sunday!\nContact The Junkyard Bar for more details.
URL:https://burnettcountyfun.com/event/xtreme-bar-bingo/2026-01-11/
LOCATION:The Junkyard Bar\, 3784 Shrider Road\, Shell Lake\, WI\, United States
ATTACH;FMTTYPE=image/jpeg:https://burnettcountyfun.com/wp-content/uploads/2024/01/418487278_254346541014961_1598103938117402126_n.jpg
END:VEVENT
BEGIN:VEVENT
DTSTART;TZID=UTC:20260109T180000
DTEND;TZID=UTC:20260109T193000
DTSTAMP:20260420T202104
CREATED:20230805T212211Z
LAST-MODIFIED:20230805T212211Z
UID:10003616-1767981600-1767987000@burnettcountyfun.com
SUMMARY:Meat Raffle | The Junkyard Bar
DESCRIPTION:Meat Raffle | The Junkyard Bar\nEvery Friday 6:00 pm\nFundraiser to support the Burnett Blizzard Hockey Team
URL:https://burnettcountyfun.com/event/meat-raffle-the-junkyard-bar/2026-01-09/
LOCATION:The Junkyard Bar\, 3784 Shrider Road\, Shell Lake\, WI\, United States
END:VEVENT
BEGIN:VEVENT
DTSTART;TZID=UTC:20260104T130000
DTEND;TZID=UTC:20260104T150000
DTSTAMP:20260420T202104
CREATED:20240125T082836Z
LAST-MODIFIED:20240203T065547Z
UID:10005011-1767531600-1767538800@burnettcountyfun.com
SUMMARY:Xtreme Bar Bingo
DESCRIPTION:Join the Junkyard Bar for free bingo starting at 1pm every Sunday!\nContact The Junkyard Bar for more details.
URL:https://burnettcountyfun.com/event/xtreme-bar-bingo/2026-01-04/
LOCATION:The Junkyard Bar\, 3784 Shrider Road\, Shell Lake\, WI\, United States
ATTACH;FMTTYPE=image/jpeg:https://burnettcountyfun.com/wp-content/uploads/2024/01/418487278_254346541014961_1598103938117402126_n.jpg
END:VEVENT
BEGIN:VEVENT
DTSTART;TZID=UTC:20260102T180000
DTEND;TZID=UTC:20260102T193000
DTSTAMP:20260420T202104
CREATED:20230805T212211Z
LAST-MODIFIED:20230805T212211Z
UID:10003615-1767376800-1767382200@burnettcountyfun.com
SUMMARY:Meat Raffle | The Junkyard Bar
DESCRIPTION:Meat Raffle | The Junkyard Bar\nEvery Friday 6:00 pm\nFundraiser to support the Burnett Blizzard Hockey Team
URL:https://burnettcountyfun.com/event/meat-raffle-the-junkyard-bar/2026-01-02/
LOCATION:The Junkyard Bar\, 3784 Shrider Road\, Shell Lake\, WI\, United States
END:VEVENT
BEGIN:VEVENT
DTSTART;TZID=America/Chicago:20251231T140000
DTEND;TZID=America/Chicago:20251231T233000
DTSTAMP:20260420T202104
CREATED:20251216T043332Z
LAST-MODIFIED:20251216T043332Z
UID:10011513-1767189600-1767223800@burnettcountyfun.com
SUMMARY:New Year’s Eve Bash
DESCRIPTION:Join us for our annual English New Year’s Eve Party! Tim Baxter & the Mustangs play 2-6pm! Champagne\, snacks and party favors 6pm.\nRing in the New Year at Midnight with Tribal Fusion from 8-12. Snacks\, champagne and party favors for those that stay up late
URL:https://burnettcountyfun.com/event/new-years-eve-bash/
LOCATION:The Junkyard Bar\, 3784 Shrider Road\, Shell Lake\, WI\, United States
END:VEVENT
BEGIN:VEVENT
DTSTART;TZID=UTC:20251228T130000
DTEND;TZID=UTC:20251228T150000
DTSTAMP:20260420T202104
CREATED:20240125T082836Z
LAST-MODIFIED:20240203T065547Z
UID:10005010-1766926800-1766934000@burnettcountyfun.com
SUMMARY:Xtreme Bar Bingo
DESCRIPTION:Join the Junkyard Bar for free bingo starting at 1pm every Sunday!\nContact The Junkyard Bar for more details.
URL:https://burnettcountyfun.com/event/xtreme-bar-bingo/2025-12-28/
LOCATION:The Junkyard Bar\, 3784 Shrider Road\, Shell Lake\, WI\, United States
ATTACH;FMTTYPE=image/jpeg:https://burnettcountyfun.com/wp-content/uploads/2024/01/418487278_254346541014961_1598103938117402126_n.jpg
END:VEVENT
BEGIN:VEVENT
DTSTART;TZID=UTC:20251226T180000
DTEND;TZID=UTC:20251226T193000
DTSTAMP:20260420T202104
CREATED:20230805T212211Z
LAST-MODIFIED:20230805T212211Z
UID:10003614-1766772000-1766777400@burnettcountyfun.com
SUMMARY:Meat Raffle | The Junkyard Bar
DESCRIPTION:Meat Raffle | The Junkyard Bar\nEvery Friday 6:00 pm\nFundraiser to support the Burnett Blizzard Hockey Team
URL:https://burnettcountyfun.com/event/meat-raffle-the-junkyard-bar/2025-12-26/
LOCATION:The Junkyard Bar\, 3784 Shrider Road\, Shell Lake\, WI\, United States
END:VEVENT
BEGIN:VEVENT
DTSTART;TZID=UTC:20251221T130000
DTEND;TZID=UTC:20251221T150000
DTSTAMP:20260420T202104
CREATED:20240125T082836Z
LAST-MODIFIED:20240203T065547Z
UID:10005009-1766322000-1766329200@burnettcountyfun.com
SUMMARY:Xtreme Bar Bingo
DESCRIPTION:Join the Junkyard Bar for free bingo starting at 1pm every Sunday!\nContact The Junkyard Bar for more details.
URL:https://burnettcountyfun.com/event/xtreme-bar-bingo/2025-12-21/
LOCATION:The Junkyard Bar\, 3784 Shrider Road\, Shell Lake\, WI\, United States
ATTACH;FMTTYPE=image/jpeg:https://burnettcountyfun.com/wp-content/uploads/2024/01/418487278_254346541014961_1598103938117402126_n.jpg
END:VEVENT
BEGIN:VEVENT
DTSTART;TZID=America/Chicago:20251220T190000
DTEND;TZID=America/Chicago:20251220T230000
DTSTAMP:20260420T202104
CREATED:20251216T042738Z
LAST-MODIFIED:20251216T042738Z
UID:10011512-1766257200-1766271600@burnettcountyfun.com
SUMMARY:Ugly Sweater Christmas Party
DESCRIPTION:Annual ugly sweater contest and Christmas Party at the Junkyard Bar! 7-11pm. Live music\, cash prizes for single and couples ugliest sweaters. Free snacks\, prizes\, raffles and fun!
URL:https://burnettcountyfun.com/event/ugly-sweater-christmas-party/
LOCATION:The Junkyard Bar\, 3784 Shrider Road\, Shell Lake\, WI\, United States
END:VEVENT
BEGIN:VEVENT
DTSTART;TZID=America/Chicago:20251220T120000
DTEND;TZID=America/Chicago:20251220T140000
DTSTAMP:20260420T202104
CREATED:20251216T042352Z
LAST-MODIFIED:20251216T042352Z
UID:10011511-1766232000-1766239200@burnettcountyfun.com
SUMMARY:Visit Santa
DESCRIPTION:Visit Santa at the Junkyard Bar. Free snacks\, crafts\, goody bags and fun!! Open to anyone\, come see Santa! Precious Momentz Photography will be taking photos.
URL:https://burnettcountyfun.com/event/visit-santa/
LOCATION:The Junkyard Bar\, 3784 Shrider Road\, Shell Lake\, WI\, United States
END:VEVENT
BEGIN:VEVENT
DTSTART;TZID=UTC:20251219T180000
DTEND;TZID=UTC:20251219T193000
DTSTAMP:20260420T202104
CREATED:20230805T212211Z
LAST-MODIFIED:20230805T212211Z
UID:10003613-1766167200-1766172600@burnettcountyfun.com
SUMMARY:Meat Raffle | The Junkyard Bar
DESCRIPTION:Meat Raffle | The Junkyard Bar\nEvery Friday 6:00 pm\nFundraiser to support the Burnett Blizzard Hockey Team
URL:https://burnettcountyfun.com/event/meat-raffle-the-junkyard-bar/2025-12-19/
LOCATION:The Junkyard Bar\, 3784 Shrider Road\, Shell Lake\, WI\, United States
END:VEVENT
BEGIN:VEVENT
DTSTART;TZID=UTC:20251214T130000
DTEND;TZID=UTC:20251214T150000
DTSTAMP:20260420T202104
CREATED:20240125T082836Z
LAST-MODIFIED:20240203T065547Z
UID:10005008-1765717200-1765724400@burnettcountyfun.com
SUMMARY:Xtreme Bar Bingo
DESCRIPTION:Join the Junkyard Bar for free bingo starting at 1pm every Sunday!\nContact The Junkyard Bar for more details.
URL:https://burnettcountyfun.com/event/xtreme-bar-bingo/2025-12-14/
LOCATION:The Junkyard Bar\, 3784 Shrider Road\, Shell Lake\, WI\, United States
ATTACH;FMTTYPE=image/jpeg:https://burnettcountyfun.com/wp-content/uploads/2024/01/418487278_254346541014961_1598103938117402126_n.jpg
END:VEVENT
BEGIN:VEVENT
DTSTART;TZID=UTC:20251212T180000
DTEND;TZID=UTC:20251212T193000
DTSTAMP:20260420T202104
CREATED:20230805T212211Z
LAST-MODIFIED:20230805T212211Z
UID:10003612-1765562400-1765567800@burnettcountyfun.com
SUMMARY:Meat Raffle | The Junkyard Bar
DESCRIPTION:Meat Raffle | The Junkyard Bar\nEvery Friday 6:00 pm\nFundraiser to support the Burnett Blizzard Hockey Team
URL:https://burnettcountyfun.com/event/meat-raffle-the-junkyard-bar/2025-12-12/
LOCATION:The Junkyard Bar\, 3784 Shrider Road\, Shell Lake\, WI\, United States
END:VEVENT
BEGIN:VEVENT
DTSTART;TZID=UTC:20251207T130000
DTEND;TZID=UTC:20251207T150000
DTSTAMP:20260420T202104
CREATED:20240125T082836Z
LAST-MODIFIED:20240203T065547Z
UID:10005007-1765112400-1765119600@burnettcountyfun.com
SUMMARY:Xtreme Bar Bingo
DESCRIPTION:Join the Junkyard Bar for free bingo starting at 1pm every Sunday!\nContact The Junkyard Bar for more details.
URL:https://burnettcountyfun.com/event/xtreme-bar-bingo/2025-12-07/
LOCATION:The Junkyard Bar\, 3784 Shrider Road\, Shell Lake\, WI\, United States
ATTACH;FMTTYPE=image/jpeg:https://burnettcountyfun.com/wp-content/uploads/2024/01/418487278_254346541014961_1598103938117402126_n.jpg
END:VEVENT
BEGIN:VEVENT
DTSTART;TZID=UTC:20251205T180000
DTEND;TZID=UTC:20251205T193000
DTSTAMP:20260420T202104
CREATED:20230805T212211Z
LAST-MODIFIED:20230805T212211Z
UID:10003611-1764957600-1764963000@burnettcountyfun.com
SUMMARY:Meat Raffle | The Junkyard Bar
DESCRIPTION:Meat Raffle | The Junkyard Bar\nEvery Friday 6:00 pm\nFundraiser to support the Burnett Blizzard Hockey Team
URL:https://burnettcountyfun.com/event/meat-raffle-the-junkyard-bar/2025-12-05/
LOCATION:The Junkyard Bar\, 3784 Shrider Road\, Shell Lake\, WI\, United States
END:VEVENT
BEGIN:VEVENT
DTSTART;TZID=UTC:20251130T130000
DTEND;TZID=UTC:20251130T150000
DTSTAMP:20260420T202104
CREATED:20240125T082836Z
LAST-MODIFIED:20240203T065547Z
UID:10005006-1764507600-1764514800@burnettcountyfun.com
SUMMARY:Xtreme Bar Bingo
DESCRIPTION:Join the Junkyard Bar for free bingo starting at 1pm every Sunday!\nContact The Junkyard Bar for more details.
URL:https://burnettcountyfun.com/event/xtreme-bar-bingo/2025-11-30/
LOCATION:The Junkyard Bar\, 3784 Shrider Road\, Shell Lake\, WI\, United States
ATTACH;FMTTYPE=image/jpeg:https://burnettcountyfun.com/wp-content/uploads/2024/01/418487278_254346541014961_1598103938117402126_n.jpg
END:VEVENT
BEGIN:VEVENT
DTSTART;TZID=UTC:20251128T180000
DTEND;TZID=UTC:20251128T193000
DTSTAMP:20260420T202104
CREATED:20230805T212211Z
LAST-MODIFIED:20230805T212211Z
UID:10003610-1764352800-1764358200@burnettcountyfun.com
SUMMARY:Meat Raffle | The Junkyard Bar
DESCRIPTION:Meat Raffle | The Junkyard Bar\nEvery Friday 6:00 pm\nFundraiser to support the Burnett Blizzard Hockey Team
URL:https://burnettcountyfun.com/event/meat-raffle-the-junkyard-bar/2025-11-28/
LOCATION:The Junkyard Bar\, 3784 Shrider Road\, Shell Lake\, WI\, United States
END:VEVENT
BEGIN:VEVENT
DTSTART;TZID=UTC:20251123T130000
DTEND;TZID=UTC:20251123T150000
DTSTAMP:20260420T202104
CREATED:20240125T082836Z
LAST-MODIFIED:20240203T065547Z
UID:10005005-1763902800-1763910000@burnettcountyfun.com
SUMMARY:Xtreme Bar Bingo
DESCRIPTION:Join the Junkyard Bar for free bingo starting at 1pm every Sunday!\nContact The Junkyard Bar for more details.
URL:https://burnettcountyfun.com/event/xtreme-bar-bingo/2025-11-23/
LOCATION:The Junkyard Bar\, 3784 Shrider Road\, Shell Lake\, WI\, United States
ATTACH;FMTTYPE=image/jpeg:https://burnettcountyfun.com/wp-content/uploads/2024/01/418487278_254346541014961_1598103938117402126_n.jpg
END:VEVENT
BEGIN:VEVENT
DTSTART;TZID=UTC:20251121T180000
DTEND;TZID=UTC:20251121T193000
DTSTAMP:20260420T202104
CREATED:20230805T212211Z
LAST-MODIFIED:20230805T212211Z
UID:10003609-1763748000-1763753400@burnettcountyfun.com
SUMMARY:Meat Raffle | The Junkyard Bar
DESCRIPTION:Meat Raffle | The Junkyard Bar\nEvery Friday 6:00 pm\nFundraiser to support the Burnett Blizzard Hockey Team
URL:https://burnettcountyfun.com/event/meat-raffle-the-junkyard-bar/2025-11-21/
LOCATION:The Junkyard Bar\, 3784 Shrider Road\, Shell Lake\, WI\, United States
END:VEVENT
BEGIN:VEVENT
DTSTART;TZID=UTC:20251116T130000
DTEND;TZID=UTC:20251116T150000
DTSTAMP:20260420T202104
CREATED:20240125T082836Z
LAST-MODIFIED:20240203T065547Z
UID:10005004-1763298000-1763305200@burnettcountyfun.com
SUMMARY:Xtreme Bar Bingo
DESCRIPTION:Join the Junkyard Bar for free bingo starting at 1pm every Sunday!\nContact The Junkyard Bar for more details.
URL:https://burnettcountyfun.com/event/xtreme-bar-bingo/2025-11-16/
LOCATION:The Junkyard Bar\, 3784 Shrider Road\, Shell Lake\, WI\, United States
ATTACH;FMTTYPE=image/jpeg:https://burnettcountyfun.com/wp-content/uploads/2024/01/418487278_254346541014961_1598103938117402126_n.jpg
END:VEVENT
BEGIN:VEVENT
DTSTART;TZID=UTC:20251114T180000
DTEND;TZID=UTC:20251114T193000
DTSTAMP:20260420T202104
CREATED:20230805T212211Z
LAST-MODIFIED:20230805T212211Z
UID:10003608-1763143200-1763148600@burnettcountyfun.com
SUMMARY:Meat Raffle | The Junkyard Bar
DESCRIPTION:Meat Raffle | The Junkyard Bar\nEvery Friday 6:00 pm\nFundraiser to support the Burnett Blizzard Hockey Team
URL:https://burnettcountyfun.com/event/meat-raffle-the-junkyard-bar/2025-11-14/
LOCATION:The Junkyard Bar\, 3784 Shrider Road\, Shell Lake\, WI\, United States
END:VEVENT
BEGIN:VEVENT
DTSTART;TZID=UTC:20251109T130000
DTEND;TZID=UTC:20251109T150000
DTSTAMP:20260420T202104
CREATED:20240125T082836Z
LAST-MODIFIED:20240203T065547Z
UID:10005003-1762693200-1762700400@burnettcountyfun.com
SUMMARY:Xtreme Bar Bingo
DESCRIPTION:Join the Junkyard Bar for free bingo starting at 1pm every Sunday!\nContact The Junkyard Bar for more details.
URL:https://burnettcountyfun.com/event/xtreme-bar-bingo/2025-11-09/
LOCATION:The Junkyard Bar\, 3784 Shrider Road\, Shell Lake\, WI\, United States
ATTACH;FMTTYPE=image/jpeg:https://burnettcountyfun.com/wp-content/uploads/2024/01/418487278_254346541014961_1598103938117402126_n.jpg
END:VEVENT
BEGIN:VEVENT
DTSTART;TZID=UTC:20251107T180000
DTEND;TZID=UTC:20251107T193000
DTSTAMP:20260420T202104
CREATED:20230805T212211Z
LAST-MODIFIED:20230805T212211Z
UID:10003607-1762538400-1762543800@burnettcountyfun.com
SUMMARY:Meat Raffle | The Junkyard Bar
DESCRIPTION:Meat Raffle | The Junkyard Bar\nEvery Friday 6:00 pm\nFundraiser to support the Burnett Blizzard Hockey Team
URL:https://burnettcountyfun.com/event/meat-raffle-the-junkyard-bar/2025-11-07/
LOCATION:The Junkyard Bar\, 3784 Shrider Road\, Shell Lake\, WI\, United States
END:VEVENT
BEGIN:VEVENT
DTSTART;TZID=UTC:20251102T130000
DTEND;TZID=UTC:20251102T150000
DTSTAMP:20260420T202104
CREATED:20240125T082836Z
LAST-MODIFIED:20240203T065547Z
UID:10005002-1762088400-1762095600@burnettcountyfun.com
SUMMARY:Xtreme Bar Bingo
DESCRIPTION:Join the Junkyard Bar for free bingo starting at 1pm every Sunday!\nContact The Junkyard Bar for more details.
URL:https://burnettcountyfun.com/event/xtreme-bar-bingo/2025-11-02/
LOCATION:The Junkyard Bar\, 3784 Shrider Road\, Shell Lake\, WI\, United States
ATTACH;FMTTYPE=image/jpeg:https://burnettcountyfun.com/wp-content/uploads/2024/01/418487278_254346541014961_1598103938117402126_n.jpg
END:VEVENT
BEGIN:VEVENT
DTSTART;TZID=UTC:20251031T180000
DTEND;TZID=UTC:20251031T193000
DTSTAMP:20260420T202104
CREATED:20230805T212211Z
LAST-MODIFIED:20230805T212211Z
UID:10003606-1761933600-1761939000@burnettcountyfun.com
SUMMARY:Meat Raffle | The Junkyard Bar
DESCRIPTION:Meat Raffle | The Junkyard Bar\nEvery Friday 6:00 pm\nFundraiser to support the Burnett Blizzard Hockey Team
URL:https://burnettcountyfun.com/event/meat-raffle-the-junkyard-bar/2025-10-31/
LOCATION:The Junkyard Bar\, 3784 Shrider Road\, Shell Lake\, WI\, United States
END:VEVENT
END:VCALENDAR