BEGIN:VCALENDAR
VERSION:2.0
PRODID:-//Burnett County, Wisconsin - ECPv6.15.20//NONSGML v1.0//EN
CALSCALE:GREGORIAN
METHOD:PUBLISH
X-ORIGINAL-URL:https://burnettcountyfun.com
X-WR-CALDESC:Events for Burnett County, Wisconsin
REFRESH-INTERVAL;VALUE=DURATION:PT1H
X-Robots-Tag:noindex
X-PUBLISHED-TTL:PT1H
BEGIN:VTIMEZONE
TZID:America/Chicago
BEGIN:DAYLIGHT
TZOFFSETFROM:-0600
TZOFFSETTO:-0500
TZNAME:CDT
DTSTART:20250309T080000
END:DAYLIGHT
BEGIN:STANDARD
TZOFFSETFROM:-0500
TZOFFSETTO:-0600
TZNAME:CST
DTSTART:20251102T070000
END:STANDARD
BEGIN:DAYLIGHT
TZOFFSETFROM:-0600
TZOFFSETTO:-0500
TZNAME:CDT
DTSTART:20260308T080000
END:DAYLIGHT
BEGIN:STANDARD
TZOFFSETFROM:-0500
TZOFFSETTO:-0600
TZNAME:CST
DTSTART:20261101T070000
END:STANDARD
BEGIN:DAYLIGHT
TZOFFSETFROM:-0600
TZOFFSETTO:-0500
TZNAME:CDT
DTSTART:20270314T080000
END:DAYLIGHT
BEGIN:STANDARD
TZOFFSETFROM:-0500
TZOFFSETTO:-0600
TZNAME:CST
DTSTART:20271107T070000
END:STANDARD
END:VTIMEZONE
BEGIN:VTIMEZONE
TZID:UTC
BEGIN:STANDARD
TZOFFSETFROM:+0000
TZOFFSETTO:+0000
TZNAME:UTC
DTSTART:20240101T000000
END:STANDARD
END:VTIMEZONE
BEGIN:VEVENT
DTSTART;TZID=America/Chicago:20260314T110000
DTEND;TZID=America/Chicago:20260314T110000
DTSTAMP:20260425T120842
CREATED:20260204T160607Z
LAST-MODIFIED:20260204T160607Z
UID:10012543-1773486000-1773486000@burnettcountyfun.com
SUMMARY:Webb Lake St. Patrick’s Parade
DESCRIPTION:Every March\, Webb Lake transforms into a lively celebration of Irish spirit as the community comes together for one of the Northwoods’ most beloved traditions. What began as a small gathering in the early 1990s has grown into a major annual event that draws crowds from across the region to enjoy music\, floats\, and a whole lot of green. \nFestivities begin on Saturday\, March 14th\, at 11 am\, with the parade stepping off at 1 pm. The route typically runs through the heart of Webb Lake\, bringing together families\, friends\, and visitors for an afternoon of laughter\, creativity\, and classic St. Patrick’s Day fun. Over the years\, the parade has become known for its welcoming atmosphere\, enthusiastic participants\, and the unmistakable charm of a community that celebrates in any weather. \nA cheerful Northwoods tradition that keeps growing year after year!
URL:https://burnettcountyfun.com/event/webb-lake-st-patricks-parade-2/
LOCATION:Webb Lake
CATEGORIES:Festival
ATTACH;FMTTYPE=image/jpeg:https://burnettcountyfun.com/wp-content/uploads/2026/02/556908373_10162201898708231_3910214283383106372_n.jpg
END:VEVENT
BEGIN:VEVENT
DTSTART;TZID=UTC:20250315T130000
DTEND;TZID=UTC:20250315T130000
DTSTAMP:20260425T120842
CREATED:20250110T213619Z
LAST-MODIFIED:20250227T010256Z
UID:10009259-1742043600-1742043600@burnettcountyfun.com
SUMMARY:St. Patrick's Day Parade
DESCRIPTION:
URL:https://burnettcountyfun.com/event/st-patricks-day-parade/
LOCATION:Webb Lake
CATEGORIES:Festival,Food/Beverage
ATTACH;FMTTYPE=image/jpeg:https://burnettcountyfun.com/wp-content/uploads/2025/01/IMG_3245.jpeg
END:VEVENT
END:VCALENDAR