BEGIN:VCALENDAR
VERSION:2.0
PRODID:-//Burnett County, Wisconsin - ECPv6.15.20//NONSGML v1.0//EN
CALSCALE:GREGORIAN
METHOD:PUBLISH
X-WR-CALNAME:Burnett County, Wisconsin
X-ORIGINAL-URL:https://burnettcountyfun.com
X-WR-CALDESC:Events for Burnett County, Wisconsin
REFRESH-INTERVAL;VALUE=DURATION:PT1H
X-Robots-Tag:noindex
X-PUBLISHED-TTL:PT1H
BEGIN:VTIMEZONE
TZID:America/Chicago
BEGIN:DAYLIGHT
TZOFFSETFROM:-0600
TZOFFSETTO:-0500
TZNAME:CDT
DTSTART:20250309T080000
END:DAYLIGHT
BEGIN:STANDARD
TZOFFSETFROM:-0500
TZOFFSETTO:-0600
TZNAME:CST
DTSTART:20251102T070000
END:STANDARD
BEGIN:DAYLIGHT
TZOFFSETFROM:-0600
TZOFFSETTO:-0500
TZNAME:CDT
DTSTART:20260308T080000
END:DAYLIGHT
BEGIN:STANDARD
TZOFFSETFROM:-0500
TZOFFSETTO:-0600
TZNAME:CST
DTSTART:20261101T070000
END:STANDARD
BEGIN:DAYLIGHT
TZOFFSETFROM:-0600
TZOFFSETTO:-0500
TZNAME:CDT
DTSTART:20270314T080000
END:DAYLIGHT
BEGIN:STANDARD
TZOFFSETFROM:-0500
TZOFFSETTO:-0600
TZNAME:CST
DTSTART:20271107T070000
END:STANDARD
END:VTIMEZONE
BEGIN:VEVENT
DTSTART;TZID=America/Chicago:20260510T090000
DTEND;TZID=America/Chicago:20260510T180000
DTSTAMP:20260421T100226
CREATED:20260226T212818Z
LAST-MODIFIED:20260226T212818Z
UID:10012558-1778403600-1778436000@burnettcountyfun.com
SUMMARY:Mother’s Paddle Free on the St. Croix River
DESCRIPTION:Celebrate Mother’s Day with a peaceful spring paddle at Wild River Outfitters in Grantsburg. On Sunday\, May 10th\, from 9 AM to 6 PM\, mothers paddle free when accompanied by a paying guest! Trip options range from 2 to 9 hours\, and each outing includes a canoe or kayak\, paddles\, life vests\, and transportation to and from Wild River Outfitters. It’s a calm and scenic way to welcome spring on the St. Croix River! \nReservations are recommended since this special fills quickly.
URL:https://burnettcountyfun.com/event/mothers-paddle-free-on-the-st-croix-river/
LOCATION:Wild River Outfitters\, 15177 State Road 70\, Grantsburg\, WI\, United States
ATTACH;FMTTYPE=image/avif:https://burnettcountyfun.com/wp-content/uploads/2026/02/11062b_1dfb04d5dacb46b980f20d3786342751mv2.avif
END:VEVENT
BEGIN:VEVENT
DTSTART;TZID=America/Chicago:20260522T090000
DTEND;TZID=America/Chicago:20260525T180000
DTSTAMP:20260421T100226
CREATED:20260226T224541Z
LAST-MODIFIED:20260226T224541Z
UID:10012564-1779440400-1779732000@burnettcountyfun.com
SUMMARY:Memorial Weekend Military Paddle Free
DESCRIPTION:Honor and appreciation meet a weekend on the water with the Memorial Weekend Military Paddle Free event at Wild River Outfitters in Grantsburg! From May 22nd through May 25th\, all active and retired military personnel are invited to enjoy a free day of paddling on the St. Croix River. Guests can choose a canoe or kayak\, and all outings include paddles and life vests. It is a peaceful way to welcome summer\, spend time outdoors\, and recognize the service of those who have served! \nRegistration closes on May 20th at 6 PM. \nRegister here: https://www.wildriveroutfitters.com/event-details/memorial-weekend-military-paddle-free-4
URL:https://burnettcountyfun.com/event/memorial-weekend-military-paddle-free/
LOCATION:Wild River Outfitters\, 15177 State Road 70\, Grantsburg\, WI\, United States
ATTACH;FMTTYPE=image/webp:https://burnettcountyfun.com/wp-content/uploads/2026/02/P1110150.webp
END:VEVENT
BEGIN:VEVENT
DTSTART;TZID=America/Chicago:20260530T050000
DTEND;TZID=America/Chicago:20260530T090000
DTSTAMP:20260421T100226
CREATED:20260226T225104Z
LAST-MODIFIED:20260226T225104Z
UID:10012565-1780117200-1780131600@burnettcountyfun.com
SUMMARY:Sunrise Paddle
DESCRIPTION:The Monthly Sunrise Paddle is a peaceful early morning tradition that runs from May through September at Wild River Outfitters in Grantsburg. Paddlers meet at 5 AM on the last Saturday of each month for a quiet four-mile trip on the St. Croix River\, timed perfectly to watch the sun rise over the water. Each outing includes a canoe or kayak\, paddles\, life vests\, and transportation to and from the landings. It is a calm and refreshing way to start the day and experience the river at its most serene! \nRSVP here: https://www.wildriveroutfitters.com/event-details/monthly-sunrise-paddle-2026-05-30-05-00
URL:https://burnettcountyfun.com/event/sunrise-paddle/2026-05-30/
LOCATION:Wild River Outfitters\, 15177 State Road 70\, Grantsburg\, WI\, United States
ATTACH;FMTTYPE=image/avif:https://burnettcountyfun.com/wp-content/uploads/2026/02/11062b_e2ed23ce28724416a74525729510e189mv2.avif
END:VEVENT
BEGIN:VEVENT
DTSTART;TZID=America/Chicago:20260530T230000
DTEND;TZID=America/Chicago:20260531T010000
DTSTAMP:20260421T100226
CREATED:20260226T225537Z
LAST-MODIFIED:20260226T225537Z
UID:10012570-1780182000-1780189200@burnettcountyfun.com
SUMMARY:Moonlight Paddle - May Blue Moon
DESCRIPTION:The Moonlight Paddle offers a late-night guided trip on the St. Croix River during the May Blue Moon on May 30th from 11 PM to 1 AM. The evening begins at Wild River Outfitters with a cozy campfire and s’mores before heading out for a one-and-a-half-hour paddle through calm\, moonlit waters. Each participant receives a kayak and paddle rental\, a life vest\, and a complimentary beverage and snack\, with transportation included to and from the landings. On-site camping is available for those who want to extend the night. The cost is $75 per person\, and the event is weather-dependent\, with final confirmation given the day of. \nRSVP here: https://www.wildriveroutfitters.com/event-details/moonlight-paddle-may-blue-moon
URL:https://burnettcountyfun.com/event/moonlight-paddle-may-blue-moon/
LOCATION:Wild River Outfitters\, 15177 State Road 70\, Grantsburg\, WI\, United States
ATTACH;FMTTYPE=image/avif:https://burnettcountyfun.com/wp-content/uploads/2026/02/11062b_4a577cc5fd434fb181fd5cccf615ce08mv2_d_3888_2592_s_4_2.avif
END:VEVENT
BEGIN:VEVENT
DTSTART;TZID=America/Chicago:20260614T090000
DTEND;TZID=America/Chicago:20260614T180000
DTSTAMP:20260421T100226
CREATED:20260408T232640Z
LAST-MODIFIED:20260408T232640Z
UID:10015514-1781427600-1781460000@burnettcountyfun.com
SUMMARY:Father's Day Paddle
DESCRIPTION:Celebrate Dad with a relaxing day on the St. Croix River! On June 14th\, dads paddle FREE at Wild River Outfitters from 9 AM to 6 PM. It is the perfect way to enjoy the outdoors together and make Father’s Day unforgettable! Find trip details and plan your visit at wildriveroutfitters.com
URL:https://burnettcountyfun.com/event/fathers-day-paddle/
LOCATION:Wild River Outfitters\, 15177 State Road 70\, Grantsburg\, WI\, United States
CATEGORIES:Family Friendly
ATTACH;FMTTYPE=image/avif:https://burnettcountyfun.com/wp-content/uploads/2026/04/fa71cc_fb6c83807cf34c7494ca82fa5b5b2be7mv2.avif
END:VEVENT
BEGIN:VEVENT
DTSTART;TZID=America/Chicago:20260626T233000
DTEND;TZID=America/Chicago:20260626T233000
DTSTAMP:20260421T100226
CREATED:20260408T234413Z
LAST-MODIFIED:20260408T234423Z
UID:10015520-1782516600-1782516600@burnettcountyfun.com
SUMMARY:Strawberry Moon Moonlight Paddle
DESCRIPTION:Experience the magic of the Strawberry Moon on June 26th as you paddle from 11:30 PM to 1:30 AM with Wild River Outfitters in Grantsburg! This one-and-a-half-hour Moonlight Paddle takes you onto the St. Croix River under the soft glow of the full moon\, creating a peaceful and unforgettable nighttime adventure. The evening begins at the Wild River Outfitters location on Highway 70\, where you will check in before heading out on the water with all equipment provided. It is a beautiful way to experience the river after dark and soak in the enchantment of the season. \nLearn more or reserve your spot at wildriveroutfitters.com.
URL:https://burnettcountyfun.com/event/strawberry-moon-moonlight-paddle/
LOCATION:Wild River Outfitters\, 15177 State Road 70\, Grantsburg\, WI\, United States
ATTACH;FMTTYPE=image/avif:https://burnettcountyfun.com/wp-content/uploads/2026/04/11062b_4a577cc5fd434fb181fd5cccf615ce08mv2_d_3888_2592_s_4_2.avif
END:VEVENT
BEGIN:VEVENT
DTSTART;TZID=America/Chicago:20260627T050000
DTEND;TZID=America/Chicago:20260627T090000
DTSTAMP:20260421T100226
CREATED:20260226T225104Z
LAST-MODIFIED:20260226T225104Z
UID:10012566-1782536400-1782550800@burnettcountyfun.com
SUMMARY:Sunrise Paddle
DESCRIPTION:The Monthly Sunrise Paddle is a peaceful early morning tradition that runs from May through September at Wild River Outfitters in Grantsburg. Paddlers meet at 5 AM on the last Saturday of each month for a quiet four-mile trip on the St. Croix River\, timed perfectly to watch the sun rise over the water. Each outing includes a canoe or kayak\, paddles\, life vests\, and transportation to and from the landings. It is a calm and refreshing way to start the day and experience the river at its most serene! \nRSVP here: https://www.wildriveroutfitters.com/event-details/monthly-sunrise-paddle-2026-05-30-05-00
URL:https://burnettcountyfun.com/event/sunrise-paddle/2026-06-27/
LOCATION:Wild River Outfitters\, 15177 State Road 70\, Grantsburg\, WI\, United States
ATTACH;FMTTYPE=image/avif:https://burnettcountyfun.com/wp-content/uploads/2026/02/11062b_e2ed23ce28724416a74525729510e189mv2.avif
END:VEVENT
BEGIN:VEVENT
DTSTART;TZID=America/Chicago:20260627T050000
DTEND;TZID=America/Chicago:20260627T090000
DTSTAMP:20260421T100226
CREATED:20260408T234754Z
LAST-MODIFIED:20260408T234813Z
UID:10015521-1782536400-1782550800@burnettcountyfun.com
SUMMARY:Monthly Sunrise Paddle
DESCRIPTION:Start your morning on the St. Croix River with a peaceful Sunrise Paddle on the last Saturday of each month this summer at Wild River Outfitters! From 5:00 AM to 9:00 AM\, you will glide across the water in a kayak or canoe as the sun rises over the river\, creating one of the most beautiful views of the season. This four‑mile paddle is a calm and refreshing way to welcome the day and enjoy the stunning natural scenery of Grantsburg. All equipment is provided\, making it easy for anyone to join in the experience. \nLearn more at wildriveroutfitters.com.
URL:https://burnettcountyfun.com/event/14087/2026-06-27/
LOCATION:Wild River Outfitters\, 15177 State Road 70\, Grantsburg\, WI\, United States
ATTACH;FMTTYPE=image/avif:https://burnettcountyfun.com/wp-content/uploads/2026/04/11062b_e2ed23ce28724416a74525729510e189mv2.avif
END:VEVENT
BEGIN:VEVENT
DTSTART;TZID=America/Chicago:20260725T050000
DTEND;TZID=America/Chicago:20260725T090000
DTSTAMP:20260421T100226
CREATED:20260226T225104Z
LAST-MODIFIED:20260226T225104Z
UID:10012567-1784955600-1784970000@burnettcountyfun.com
SUMMARY:Sunrise Paddle
DESCRIPTION:The Monthly Sunrise Paddle is a peaceful early morning tradition that runs from May through September at Wild River Outfitters in Grantsburg. Paddlers meet at 5 AM on the last Saturday of each month for a quiet four-mile trip on the St. Croix River\, timed perfectly to watch the sun rise over the water. Each outing includes a canoe or kayak\, paddles\, life vests\, and transportation to and from the landings. It is a calm and refreshing way to start the day and experience the river at its most serene! \nRSVP here: https://www.wildriveroutfitters.com/event-details/monthly-sunrise-paddle-2026-05-30-05-00
URL:https://burnettcountyfun.com/event/sunrise-paddle/2026-07-25/
LOCATION:Wild River Outfitters\, 15177 State Road 70\, Grantsburg\, WI\, United States
ATTACH;FMTTYPE=image/avif:https://burnettcountyfun.com/wp-content/uploads/2026/02/11062b_e2ed23ce28724416a74525729510e189mv2.avif
END:VEVENT
BEGIN:VEVENT
DTSTART;TZID=America/Chicago:20260725T050000
DTEND;TZID=America/Chicago:20260725T090000
DTSTAMP:20260421T100226
CREATED:20260408T234754Z
LAST-MODIFIED:20260408T234813Z
UID:10015522-1784955600-1784970000@burnettcountyfun.com
SUMMARY:Monthly Sunrise Paddle
DESCRIPTION:Start your morning on the St. Croix River with a peaceful Sunrise Paddle on the last Saturday of each month this summer at Wild River Outfitters! From 5:00 AM to 9:00 AM\, you will glide across the water in a kayak or canoe as the sun rises over the river\, creating one of the most beautiful views of the season. This four‑mile paddle is a calm and refreshing way to welcome the day and enjoy the stunning natural scenery of Grantsburg. All equipment is provided\, making it easy for anyone to join in the experience. \nLearn more at wildriveroutfitters.com.
URL:https://burnettcountyfun.com/event/14087/2026-07-25/
LOCATION:Wild River Outfitters\, 15177 State Road 70\, Grantsburg\, WI\, United States
ATTACH;FMTTYPE=image/avif:https://burnettcountyfun.com/wp-content/uploads/2026/04/11062b_e2ed23ce28724416a74525729510e189mv2.avif
END:VEVENT
BEGIN:VEVENT
DTSTART;TZID=America/Chicago:20260822T050000
DTEND;TZID=America/Chicago:20260822T090000
DTSTAMP:20260421T100226
CREATED:20260408T234754Z
LAST-MODIFIED:20260408T234813Z
UID:10015523-1787374800-1787389200@burnettcountyfun.com
SUMMARY:Monthly Sunrise Paddle
DESCRIPTION:Start your morning on the St. Croix River with a peaceful Sunrise Paddle on the last Saturday of each month this summer at Wild River Outfitters! From 5:00 AM to 9:00 AM\, you will glide across the water in a kayak or canoe as the sun rises over the river\, creating one of the most beautiful views of the season. This four‑mile paddle is a calm and refreshing way to welcome the day and enjoy the stunning natural scenery of Grantsburg. All equipment is provided\, making it easy for anyone to join in the experience. \nLearn more at wildriveroutfitters.com.
URL:https://burnettcountyfun.com/event/14087/2026-08-22/
LOCATION:Wild River Outfitters\, 15177 State Road 70\, Grantsburg\, WI\, United States
ATTACH;FMTTYPE=image/avif:https://burnettcountyfun.com/wp-content/uploads/2026/04/11062b_e2ed23ce28724416a74525729510e189mv2.avif
END:VEVENT
BEGIN:VEVENT
DTSTART;TZID=America/Chicago:20260829T050000
DTEND;TZID=America/Chicago:20260829T090000
DTSTAMP:20260421T100226
CREATED:20260226T225104Z
LAST-MODIFIED:20260226T225104Z
UID:10012568-1787979600-1787994000@burnettcountyfun.com
SUMMARY:Sunrise Paddle
DESCRIPTION:The Monthly Sunrise Paddle is a peaceful early morning tradition that runs from May through September at Wild River Outfitters in Grantsburg. Paddlers meet at 5 AM on the last Saturday of each month for a quiet four-mile trip on the St. Croix River\, timed perfectly to watch the sun rise over the water. Each outing includes a canoe or kayak\, paddles\, life vests\, and transportation to and from the landings. It is a calm and refreshing way to start the day and experience the river at its most serene! \nRSVP here: https://www.wildriveroutfitters.com/event-details/monthly-sunrise-paddle-2026-05-30-05-00
URL:https://burnettcountyfun.com/event/sunrise-paddle/2026-08-29/
LOCATION:Wild River Outfitters\, 15177 State Road 70\, Grantsburg\, WI\, United States
ATTACH;FMTTYPE=image/avif:https://burnettcountyfun.com/wp-content/uploads/2026/02/11062b_e2ed23ce28724416a74525729510e189mv2.avif
END:VEVENT
BEGIN:VEVENT
DTSTART;TZID=America/Chicago:20260926T050000
DTEND;TZID=America/Chicago:20260926T090000
DTSTAMP:20260421T100226
CREATED:20260226T225104Z
LAST-MODIFIED:20260226T225104Z
UID:10012569-1790398800-1790413200@burnettcountyfun.com
SUMMARY:Sunrise Paddle
DESCRIPTION:The Monthly Sunrise Paddle is a peaceful early morning tradition that runs from May through September at Wild River Outfitters in Grantsburg. Paddlers meet at 5 AM on the last Saturday of each month for a quiet four-mile trip on the St. Croix River\, timed perfectly to watch the sun rise over the water. Each outing includes a canoe or kayak\, paddles\, life vests\, and transportation to and from the landings. It is a calm and refreshing way to start the day and experience the river at its most serene! \nRSVP here: https://www.wildriveroutfitters.com/event-details/monthly-sunrise-paddle-2026-05-30-05-00
URL:https://burnettcountyfun.com/event/sunrise-paddle/2026-09-26/
LOCATION:Wild River Outfitters\, 15177 State Road 70\, Grantsburg\, WI\, United States
ATTACH;FMTTYPE=image/avif:https://burnettcountyfun.com/wp-content/uploads/2026/02/11062b_e2ed23ce28724416a74525729510e189mv2.avif
END:VEVENT
BEGIN:VEVENT
DTSTART;TZID=America/Chicago:20260926T050000
DTEND;TZID=America/Chicago:20260926T090000
DTSTAMP:20260421T100226
CREATED:20260408T234754Z
LAST-MODIFIED:20260408T234813Z
UID:10015524-1790398800-1790413200@burnettcountyfun.com
SUMMARY:Monthly Sunrise Paddle
DESCRIPTION:Start your morning on the St. Croix River with a peaceful Sunrise Paddle on the last Saturday of each month this summer at Wild River Outfitters! From 5:00 AM to 9:00 AM\, you will glide across the water in a kayak or canoe as the sun rises over the river\, creating one of the most beautiful views of the season. This four‑mile paddle is a calm and refreshing way to welcome the day and enjoy the stunning natural scenery of Grantsburg. All equipment is provided\, making it easy for anyone to join in the experience. \nLearn more at wildriveroutfitters.com.
URL:https://burnettcountyfun.com/event/14087/2026-09-26/
LOCATION:Wild River Outfitters\, 15177 State Road 70\, Grantsburg\, WI\, United States
ATTACH;FMTTYPE=image/avif:https://burnettcountyfun.com/wp-content/uploads/2026/04/11062b_e2ed23ce28724416a74525729510e189mv2.avif
END:VEVENT
END:VCALENDAR