BEGIN:VCALENDAR
VERSION:2.0
PRODID:-//Burnett County, Wisconsin - ECPv6.15.20//NONSGML v1.0//EN
CALSCALE:GREGORIAN
METHOD:PUBLISH
X-ORIGINAL-URL:https://burnettcountyfun.com
X-WR-CALDESC:Events for Burnett County, Wisconsin
REFRESH-INTERVAL;VALUE=DURATION:PT1H
X-Robots-Tag:noindex
X-PUBLISHED-TTL:PT1H
BEGIN:VTIMEZONE
TZID:America/Chicago
BEGIN:DAYLIGHT
TZOFFSETFROM:-0600
TZOFFSETTO:-0500
TZNAME:CDT
DTSTART:20250309T080000
END:DAYLIGHT
BEGIN:STANDARD
TZOFFSETFROM:-0500
TZOFFSETTO:-0600
TZNAME:CST
DTSTART:20251102T070000
END:STANDARD
BEGIN:DAYLIGHT
TZOFFSETFROM:-0600
TZOFFSETTO:-0500
TZNAME:CDT
DTSTART:20260308T080000
END:DAYLIGHT
BEGIN:STANDARD
TZOFFSETFROM:-0500
TZOFFSETTO:-0600
TZNAME:CST
DTSTART:20261101T070000
END:STANDARD
BEGIN:DAYLIGHT
TZOFFSETFROM:-0600
TZOFFSETTO:-0500
TZNAME:CDT
DTSTART:20270314T080000
END:DAYLIGHT
BEGIN:STANDARD
TZOFFSETFROM:-0500
TZOFFSETTO:-0600
TZNAME:CST
DTSTART:20271107T070000
END:STANDARD
END:VTIMEZONE
BEGIN:VTIMEZONE
TZID:UTC
BEGIN:STANDARD
TZOFFSETFROM:+0000
TZOFFSETTO:+0000
TZNAME:UTC
DTSTART:20230101T000000
END:STANDARD
END:VTIMEZONE
BEGIN:VEVENT
DTSTART;TZID=America/Chicago:20260418T130000
DTEND;TZID=America/Chicago:20260418T130000
DTSTAMP:20260423T160959
CREATED:20260301T223439Z
LAST-MODIFIED:20260301T223439Z
UID:10014927-1776517200-1776517200@burnettcountyfun.com
SUMMARY:Meat Raffle | Wild Water Bar & Grill
DESCRIPTION:Wild Water Bar & Grill in Danbury turns Saturday afternoons into a community‑powered tradition with their weekly 1 PM meat raffle. It has that lively\, come‑as‑you‑are weekend energy\, the kind where the bar fills early\, the chatter gets loud\, and everyone is hoping their ticket gets called. The prizes are solid\, the crowd is fun\, and every round supports American Legion Post 403\, keeping the focus on both good times and a good cause. It is one of those dependable Northwoods Saturdays that feels as local as it gets!
URL:https://burnettcountyfun.com/event/meat-raffle-wild-water-bar-grill/2026-04-18/
LOCATION:Wild Water Bar and Grill\, 7516 Main St E\, Danbury\, WI
ATTACH;FMTTYPE=image/jpeg:https://burnettcountyfun.com/wp-content/uploads/2026/03/Screenshot_1-3-2026_163231_wildwater403.com_.jpeg
END:VEVENT
BEGIN:VEVENT
DTSTART;TZID=America/Chicago:20260411T130000
DTEND;TZID=America/Chicago:20260411T130000
DTSTAMP:20260423T160959
CREATED:20260301T223439Z
LAST-MODIFIED:20260301T223439Z
UID:10014926-1775912400-1775912400@burnettcountyfun.com
SUMMARY:Meat Raffle | Wild Water Bar & Grill
DESCRIPTION:Wild Water Bar & Grill in Danbury turns Saturday afternoons into a community‑powered tradition with their weekly 1 PM meat raffle. It has that lively\, come‑as‑you‑are weekend energy\, the kind where the bar fills early\, the chatter gets loud\, and everyone is hoping their ticket gets called. The prizes are solid\, the crowd is fun\, and every round supports American Legion Post 403\, keeping the focus on both good times and a good cause. It is one of those dependable Northwoods Saturdays that feels as local as it gets!
URL:https://burnettcountyfun.com/event/meat-raffle-wild-water-bar-grill/2026-04-11/
LOCATION:Wild Water Bar and Grill\, 7516 Main St E\, Danbury\, WI
ATTACH;FMTTYPE=image/jpeg:https://burnettcountyfun.com/wp-content/uploads/2026/03/Screenshot_1-3-2026_163231_wildwater403.com_.jpeg
END:VEVENT
BEGIN:VEVENT
DTSTART;TZID=America/Chicago:20260404T130000
DTEND;TZID=America/Chicago:20260404T130000
DTSTAMP:20260423T160959
CREATED:20260301T223439Z
LAST-MODIFIED:20260301T223439Z
UID:10014925-1775307600-1775307600@burnettcountyfun.com
SUMMARY:Meat Raffle | Wild Water Bar & Grill
DESCRIPTION:Wild Water Bar & Grill in Danbury turns Saturday afternoons into a community‑powered tradition with their weekly 1 PM meat raffle. It has that lively\, come‑as‑you‑are weekend energy\, the kind where the bar fills early\, the chatter gets loud\, and everyone is hoping their ticket gets called. The prizes are solid\, the crowd is fun\, and every round supports American Legion Post 403\, keeping the focus on both good times and a good cause. It is one of those dependable Northwoods Saturdays that feels as local as it gets!
URL:https://burnettcountyfun.com/event/meat-raffle-wild-water-bar-grill/2026-04-04/
LOCATION:Wild Water Bar and Grill\, 7516 Main St E\, Danbury\, WI
ATTACH;FMTTYPE=image/jpeg:https://burnettcountyfun.com/wp-content/uploads/2026/03/Screenshot_1-3-2026_163231_wildwater403.com_.jpeg
END:VEVENT
BEGIN:VEVENT
DTSTART;TZID=America/Chicago:20260328T130000
DTEND;TZID=America/Chicago:20260328T130000
DTSTAMP:20260423T160959
CREATED:20260301T223439Z
LAST-MODIFIED:20260301T223439Z
UID:10014924-1774702800-1774702800@burnettcountyfun.com
SUMMARY:Meat Raffle | Wild Water Bar & Grill
DESCRIPTION:Wild Water Bar & Grill in Danbury turns Saturday afternoons into a community‑powered tradition with their weekly 1 PM meat raffle. It has that lively\, come‑as‑you‑are weekend energy\, the kind where the bar fills early\, the chatter gets loud\, and everyone is hoping their ticket gets called. The prizes are solid\, the crowd is fun\, and every round supports American Legion Post 403\, keeping the focus on both good times and a good cause. It is one of those dependable Northwoods Saturdays that feels as local as it gets!
URL:https://burnettcountyfun.com/event/meat-raffle-wild-water-bar-grill/2026-03-28/
LOCATION:Wild Water Bar and Grill\, 7516 Main St E\, Danbury\, WI
ATTACH;FMTTYPE=image/jpeg:https://burnettcountyfun.com/wp-content/uploads/2026/03/Screenshot_1-3-2026_163231_wildwater403.com_.jpeg
END:VEVENT
BEGIN:VEVENT
DTSTART;TZID=America/Chicago:20260321T130000
DTEND;TZID=America/Chicago:20260321T130000
DTSTAMP:20260423T160959
CREATED:20260301T223439Z
LAST-MODIFIED:20260301T223439Z
UID:10014923-1774098000-1774098000@burnettcountyfun.com
SUMMARY:Meat Raffle | Wild Water Bar & Grill
DESCRIPTION:Wild Water Bar & Grill in Danbury turns Saturday afternoons into a community‑powered tradition with their weekly 1 PM meat raffle. It has that lively\, come‑as‑you‑are weekend energy\, the kind where the bar fills early\, the chatter gets loud\, and everyone is hoping their ticket gets called. The prizes are solid\, the crowd is fun\, and every round supports American Legion Post 403\, keeping the focus on both good times and a good cause. It is one of those dependable Northwoods Saturdays that feels as local as it gets!
URL:https://burnettcountyfun.com/event/meat-raffle-wild-water-bar-grill/2026-03-21/
LOCATION:Wild Water Bar and Grill\, 7516 Main St E\, Danbury\, WI
ATTACH;FMTTYPE=image/jpeg:https://burnettcountyfun.com/wp-content/uploads/2026/03/Screenshot_1-3-2026_163231_wildwater403.com_.jpeg
END:VEVENT
BEGIN:VEVENT
DTSTART;TZID=America/Chicago:20260314T130000
DTEND;TZID=America/Chicago:20260314T130000
DTSTAMP:20260423T160959
CREATED:20260301T223439Z
LAST-MODIFIED:20260301T223439Z
UID:10014922-1773493200-1773493200@burnettcountyfun.com
SUMMARY:Meat Raffle | Wild Water Bar & Grill
DESCRIPTION:Wild Water Bar & Grill in Danbury turns Saturday afternoons into a community‑powered tradition with their weekly 1 PM meat raffle. It has that lively\, come‑as‑you‑are weekend energy\, the kind where the bar fills early\, the chatter gets loud\, and everyone is hoping their ticket gets called. The prizes are solid\, the crowd is fun\, and every round supports American Legion Post 403\, keeping the focus on both good times and a good cause. It is one of those dependable Northwoods Saturdays that feels as local as it gets!
URL:https://burnettcountyfun.com/event/meat-raffle-wild-water-bar-grill/2026-03-14/
LOCATION:Wild Water Bar and Grill\, 7516 Main St E\, Danbury\, WI
ATTACH;FMTTYPE=image/jpeg:https://burnettcountyfun.com/wp-content/uploads/2026/03/Screenshot_1-3-2026_163231_wildwater403.com_.jpeg
END:VEVENT
BEGIN:VEVENT
DTSTART;TZID=America/Chicago:20260307T130000
DTEND;TZID=America/Chicago:20260307T130000
DTSTAMP:20260423T161000
CREATED:20260301T223439Z
LAST-MODIFIED:20260301T223439Z
UID:10014921-1772888400-1772888400@burnettcountyfun.com
SUMMARY:Meat Raffle | Wild Water Bar & Grill
DESCRIPTION:Wild Water Bar & Grill in Danbury turns Saturday afternoons into a community‑powered tradition with their weekly 1 PM meat raffle. It has that lively\, come‑as‑you‑are weekend energy\, the kind where the bar fills early\, the chatter gets loud\, and everyone is hoping their ticket gets called. The prizes are solid\, the crowd is fun\, and every round supports American Legion Post 403\, keeping the focus on both good times and a good cause. It is one of those dependable Northwoods Saturdays that feels as local as it gets!
URL:https://burnettcountyfun.com/event/meat-raffle-wild-water-bar-grill/2026-03-07/
LOCATION:Wild Water Bar and Grill\, 7516 Main St E\, Danbury\, WI
ATTACH;FMTTYPE=image/jpeg:https://burnettcountyfun.com/wp-content/uploads/2026/03/Screenshot_1-3-2026_163231_wildwater403.com_.jpeg
END:VEVENT
BEGIN:VEVENT
DTSTART;TZID=America/Chicago:20260101T120000
DTEND;TZID=America/Chicago:20260101T170000
DTSTAMP:20260423T161000
CREATED:20251228T011944Z
LAST-MODIFIED:20251228T011944Z
UID:10011521-1767268800-1767286800@burnettcountyfun.com
SUMMARY:6th Annual Veteran’s Super Raffle in Danbury
DESCRIPTION:At the Wild Water Bar & Grill – American Legion Post 403
URL:https://burnettcountyfun.com/event/6th-annual-veterans-super-raffle-in-danbury/
LOCATION:Wild Water Bar and Grill\, 7516 Main St E\, Danbury\, WI
ATTACH;FMTTYPE=image/png:https://burnettcountyfun.com/wp-content/uploads/2025/12/My-project-1.png
ORGANIZER;CN="American Legion Post 403":MAILTO:Jon@wildwater403.com
END:VEVENT
BEGIN:VEVENT
DTSTART;VALUE=DATE:20251108
DTEND;VALUE=DATE:20251109
DTSTAMP:20260423T161000
CREATED:20250127T213126Z
LAST-MODIFIED:20250127T213126Z
UID:10009751-1762560000-1762646399@burnettcountyfun.com
SUMMARY:Veteran’s Day Honor Meal & Soft Drink
DESCRIPTION:
URL:https://burnettcountyfun.com/event/veterans-day-honor-meal-soft-drink/
LOCATION:Wild Water Bar and Grill\, 7516 Main St E\, Danbury\, WI
END:VEVENT
BEGIN:VEVENT
DTSTART;VALUE=DATE:20250823
DTEND;VALUE=DATE:20250824
DTSTAMP:20260423T161000
CREATED:20250114T214304Z
LAST-MODIFIED:20250114T214304Z
UID:10009401-1755907200-1755993599@burnettcountyfun.com
SUMMARY:Summer Thank You Meal & Soft Drink
DESCRIPTION:
URL:https://burnettcountyfun.com/event/summer-thank-you-meal-soft-drink/
LOCATION:Wild Water Bar and Grill\, 7516 Main St E\, Danbury\, WI
END:VEVENT
BEGIN:VEVENT
DTSTART;TZID=UTC:20250524T110000
DTEND;TZID=UTC:20250525T160000
DTSTAMP:20260423T161000
CREATED:20250113T213026Z
LAST-MODIFIED:20250523T182212Z
UID:10009272-1748084400-1748188800@burnettcountyfun.com
SUMMARY:Memorial Day Honor Meal & Soft Drink
DESCRIPTION:
URL:https://burnettcountyfun.com/event/memorial-day-honor-meal-soft-drink/
LOCATION:Wild Water Bar and Grill\, 7516 Main St E\, Danbury\, WI
ATTACH;FMTTYPE=image/jpeg:https://burnettcountyfun.com/wp-content/uploads/2025/01/IMG_0220.jpeg
END:VEVENT
BEGIN:VEVENT
DTSTART;TZID=UTC:20240214T173000
DTEND;TZID=UTC:20240214T193000
DTSTAMP:20260423T161000
CREATED:20240125T084440Z
LAST-MODIFIED:20240125T084440Z
UID:10005179-1707931800-1707939000@burnettcountyfun.com
SUMMARY:Valentines Day Date Night | Danbury WI
DESCRIPTION:Register for a Valentine’s Day Date Night at Wild Water Bar & Grill on Wed. Feb. 14 at 5:30pm!! This Paint\, Sip & Eat is in Danbury\, WI!! We are painting Iridescent Northern Lights on a 12″ Wood Wisconsin or Minnesota for $30 per person. When you register let me know what each of you want to paint on\, then you will choose what colors the day of the class! This is a fun\, easy paint! No experience necessary!! Register by calling: 715-349-5169\, email: jellybeanascp@gmail.com\, Facebook Messenger or pay ahead at jellybeanascraftpaint.com. (If you pay ahead and cannot make the class\, your payment will be put towards your next class or on a Jellybeana’s Gift Card) *Food & Drinks will be paid to Wild Water. The cost of the class covers the paint portion only.*
URL:https://burnettcountyfun.com/event/valentines-day-date-night-danbury-wi/
LOCATION:Wild Water Bar and Grill\, 7516 Main St E\, Danbury\, WI
ATTACH;FMTTYPE=image/jpeg:https://burnettcountyfun.com/wp-content/uploads/2024/01/418767721_770311998450737_1680085379090521087_n.jpg
END:VEVENT
END:VCALENDAR