BEGIN:VCALENDAR
VERSION:2.0
PRODID:-//Burnett County, Wisconsin - ECPv6.15.20//NONSGML v1.0//EN
CALSCALE:GREGORIAN
METHOD:PUBLISH
X-WR-CALNAME:Burnett County, Wisconsin
X-ORIGINAL-URL:https://burnettcountyfun.com
X-WR-CALDESC:Events for Burnett County, Wisconsin
REFRESH-INTERVAL;VALUE=DURATION:PT1H
X-Robots-Tag:noindex
X-PUBLISHED-TTL:PT1H
BEGIN:VTIMEZONE
TZID:UTC
BEGIN:STANDARD
TZOFFSETFROM:+0000
TZOFFSETTO:+0000
TZNAME:UTC
DTSTART:20240101T000000
END:STANDARD
END:VTIMEZONE
BEGIN:VEVENT
DTSTART;VALUE=DATE:20251018
DTEND;VALUE=DATE:20251019
DTSTAMP:20260422T204246
CREATED:20250125T030941Z
LAST-MODIFIED:20250125T030941Z
UID:10009747-1760745600-1760831999@burnettcountyfun.com
SUMMARY:Fall Walleye Tournament
DESCRIPTION:
URL:https://burnettcountyfun.com/event/fall-walleye-tournament/
LOCATION:Yellow Lake\, Webster\, WI
END:VEVENT
BEGIN:VEVENT
DTSTART;VALUE=DATE:20250517
DTEND;VALUE=DATE:20250518
DTSTAMP:20260422T204246
CREATED:20250113T212022Z
LAST-MODIFIED:20250113T212022Z
UID:10009269-1747440000-1747526399@burnettcountyfun.com
SUMMARY:Spring Walleye Tournament
DESCRIPTION:
URL:https://burnettcountyfun.com/event/spring-walleye-tournament/
LOCATION:Yellow Lake\, Webster\, WI
END:VEVENT
END:VCALENDAR